PDS_VERSION_ID = PDS3
/* FILE DATA ELEMENTS */
RECORD_TYPE = STREAM
/* POINTERS TO DATA OBJECTS */
^COMPRESSED_FILE = "H6396_0000_RE3.JP2"
/* IDENTIFICATION DATA ELEMENTS */
DATA_SET_ID = "MEX-M-HRSC-5-REFDR-MAPPROJECTED-V3.0"
DATA_SET_NAME = "MARS EXPRESS HRSC MAP PROJECTED REFDR V3.0"
DETECTOR_ID = MEX_HRSC_RED
EVENT_TYPE = "MARS-REGIONAL-MAPPING-Vo"
INSTRUMENT_HOST_ID = MEX
INSTRUMENT_HOST_NAME = "MARS EXPRESS"
INSTRUMENT_ID = HRSC
INSTRUMENT_NAME = "HIGH RESOLUTION STEREO CAMERA"
MISSION_NAME = "MARS EXPRESS"
MISSION_PHASE_NAME = ME_Phase_15
PROCESSING_LEVEL_ID = 3
PRODUCT_CREATION_TIME = 2016-06-28T13:49:36.000Z
PRODUCT_ID = "H6396_0000_RE3.JP2"
RELEASE_ID = 0071
REVISION_ID = 0000
/* QUALITY DATA ELEMENTS */
DATA_QUALITY_ID = 1
DATA_QUALITY_DESC = "Data calculated based on original SPICE kernels"
/* TIME DATA ELEMENTS */
SPACECRAFT_CLOCK_START_COUNT = "1/0178295705.07276"
SPACECRAFT_CLOCK_STOP_COUNT = "1/0178295987.20629"
START_TIME = 2008-12-25T14:35:14.682Z
STOP_TIME = 2008-12-25T14:38:04.988Z
/* ORBITAL DATA ELEMENTS */
ASCENDING_NODE_LONGITUDE = 95.93
MAXIMUM_RESOLUTION = 129.4
FOOTPRINT_POINT_LATITUDE = (-23.1498,-23.1476,-23.1429,-23.1395, -23.1356,-23.1311,-22.9419,-22.6445, -22.4461,-22.2478,-22.0495,-21.6538, -21.4523,-21.2492,-20.945,-20.7421, -20.5397,-20.3322,-20.1248,-19.9173, -19.7103,-19.503,-19.2912,-19.0789, -18.761,-18.549,-18.2242,-18.0075, -17.6827,-17.4634,-17.242,-17.0208, -16.689,-16.4626,-16.237,-16.0112, -15.7848,-15.5542,-15.324,-14.9793, -14.7445,-14.3925,-14.0378,-13.7986, -13.5594,-13.3186,-13.0746,-12.8311, -12.5868,-12.2146,-12.1796,-12.1797, -12.1787,-12.1778,-12.1759,-12.3018, -12.5507,-12.7965,-13.0407,-13.4071, -13.6468,-13.8866,-14.2457,-14.4809, -14.7161,-15.0677,-15.2984,-15.5294, -15.7606,-15.988,-16.3276,-16.5541, -16.779,-17.0007,-17.3335,-17.5555, -17.7732,-18.0988,-18.316,-18.5335, -18.7456,-18.9582,-19.1705,-19.3834, -19.5938,-19.8016,-20.0093,-20.2174, -20.4255,-20.6315,-20.8342,-21.139, -21.3423,-21.5459,-21.944,-22.2416, -22.5395,-22.7383,-22.9367,-23.1498)
FOOTPRINT_POINT_LONGITUDE = (243.566,243.305,242.905,242.684, 242.463,242.24,242.169,242.167,242.165, 242.164,242.162,242.159,242.157,242.155 ,242.151,242.149,242.147,242.144, 242.142,242.139,242.137,242.134,242.131 ,242.128,242.123,242.12,242.115,242.111 ,242.105,242.101,242.097,242.093, 242.087,242.082,242.078,242.073,242.068 ,242.063,242.058,242.051,242.045, 242.037,242.028,242.022,242.016,242.01, 242.003,241.997,241.99,241.979,242.444, 242.761,243.061,243.294,243.594,243.753 ,243.751,243.748,243.746,243.742,243.74 ,243.738,243.734,243.732,243.729, 243.726,243.723,243.721,243.719,243.716 ,243.713,243.71,243.708,243.705,243.702 ,243.699,243.697,243.693,243.691, 243.689,243.686,243.684,243.681,243.679 ,243.676,243.674,243.672,243.669, 243.666,243.664,243.661,243.658,243.655 ,243.652,243.647,243.643,243.64,243.637 ,243.634,243.566)
ORBIT_NUMBER = 6396
ORBITAL_ECCENTRICITY = 0.575
ORBITAL_INCLINATION = 86.76
ORBITAL_SEMIMAJOR_AXIS = 8684.99
PERIAPSIS_ALTITUDE = 305.77
PERIAPSIS_ARGUMENT_ANGLE = 313.72
PERIAPSIS_TIME = 2008-12-25T14:29:50.000Z
SPACECRAFT_ORIENTATION = (0.0,1.0,0.0)
^MEX_ORIENTATION_DESC = "MEX_ORIENTATION_DESC.TXT"
SPACECRAFT_POINTING_MODE = ACROSSTRACK
^MEX_POINTING_DESC = "MEX_POINTING_DESC.TXT"
RIGHT_ASCENSION = -1e+32
DECLINATION = -1e+32
OFFSET_ANGLE = 0.2
SPACECRAFT_SOLAR_DISTANCE = 2.19324e+08
TARGET_NAME = MARS
/* CAMERA DATA ELEMENTS */
DETECTOR_TEMPERATURE = 18.5744
FOCAL_PLANE_TEMPERATURE = 8.5833
INST_CMPRS_NAME = "DISCRETE COSINE TRANSFORMATION (DCT)"
INST_CMPRS_RATIO = 11.3941
INST_CMPRS_QUALITY = 0
INST_CMPRS_QUANTZ_TBL_ID = 0
INSTRUMENT_TEMPERATURE = 11.4379
LENS_TEMPERATURE = 8.9911
MACROPIXEL_SIZE = 8
MISSING_FRAMES = 0
PIXEL_SUBSAMPLING_FLAG = N
SIGNAL_CHAIN_ID = 2
/* RADIOMETRIC DATA ELEMENTS */
BANDWIDTH = 48.0
CENTER_FILTER_WAVELENGTH = 748.0
RADIANCE_OFFSET = 1.02722
RADIANCE_SCALING_FACTOR = 0.00800288
REFLECTANCE_SCALING_FACTOR = 0.000878504
MEX:REFLECTANCE_OFFSET = 0.112761
/* IMAGE OBJECT DEFINITIONS */
OBJECT = IMAGE
  INTERCHANGE_FORMAT = BINARY
  LINES = 6525
  LINE_SAMPLES = 1164
  SAMPLE_TYPE = UNSIGNED_INTEGER
  SAMPLE_BITS = 8
  BANDS = 1
  BAND_STORAGE_TYPE = BAND_SEQUENTIAL
  MAXIMUM = 255
  MEAN = 145.571
  MINIMUM = 1
  STANDARD_DEVIATION = 24.7554
END_OBJECT = IMAGE
/* MAP OBJECT DEFINITIONS */
OBJECT = IMAGE_MAP_PROJECTION
  ^DATA_SET_MAP_PROJECTION_CATALOG= "DSMAP.CAT"
  A_AXIS_RADIUS = 3396.0
  B_AXIS_RADIUS = 3396.0
  C_AXIS_RADIUS = 3396.0
  CENTER_LATITUDE = 0.0
  CENTER_LONGITUDE = 243.0
  COORDINATE_SYSTEM_NAME = PLANETOGRAPHIC
  COORDINATE_SYSTEM_TYPE = "BODY-FIXED ROTATING"
  EASTERNMOST_LONGITUDE = 243.753
  FIRST_STANDARD_PARALLEL = "N/A"
  LINE_FIRST_PIXEL = 1
  LINE_LAST_PIXEL = 6525
  LINE_PROJECTION_OFFSET = -7173.8125
  MAP_PROJECTION_ROTATION = 0.0
  MAP_PROJECTION_TYPE = SINUSOIDAL
  MAP_RESOLUTION = 592.713803866667
  MAP_SCALE = 0.1
  MAXIMUM_LATITUDE = -12.1759
  MINIMUM_LATITUDE = -23.1498
  POSITIVE_LONGITUDE_DIRECTION = EAST
  REFERENCE_LATITUDE = "N/A"
  REFERENCE_LONGITUDE = "N/A"
  SAMPLE_FIRST_PIXEL = 1
  SAMPLE_LAST_PIXEL = 1164
  SAMPLE_PROJECTION_OFFSET = 669.1875
  SECOND_STANDARD_PARALLEL = "N/A"
  WESTERNMOST_LONGITUDE = 241.979
END_OBJECT = IMAGE_MAP_PROJECTION
/* The JPEG2000 image data file associated with this label. */
OBJECT = COMPRESSED_FILE
  FILE_NAME = "H6396_0000_RE3.JP2"
  RECORD_TYPE = UNDEFINED
  FILE_RECORDS = UNK
  ENCODING_TYPE = "JP2"
  INTERCHANGE_FORMAT = BINARY
  UNCOMPRESSED_FILE_NAME = "H6396_0000_RE3.IMG"
  REQUIRED_STORAGE_BYTES = "7614888"
  ^DESCRIPTION = "JP2INFO.TXT"
END_OBJECT = COMPRESSED_FILE
END
