PDS_VERSION_ID = PDS3
/* FILE DATA ELEMENTS */
RECORD_TYPE = STREAM
/* POINTERS TO DATA OBJECTS */
^COMPRESSED_FILE = "H6408_0000_IR3.JP2"
/* IDENTIFICATION DATA ELEMENTS */
DATA_SET_ID = "MEX-M-HRSC-5-REFDR-MAPPROJECTED-V3.0"
DATA_SET_NAME = "MARS EXPRESS HRSC MAP PROJECTED REFDR V3.0"
DETECTOR_ID = MEX_HRSC_IR
EVENT_TYPE = "MARS-REGIONAL-MAPPING-Vo-Im"
INSTRUMENT_HOST_ID = MEX
INSTRUMENT_HOST_NAME = "MARS EXPRESS"
INSTRUMENT_ID = HRSC
INSTRUMENT_NAME = "HIGH RESOLUTION STEREO CAMERA"
MISSION_NAME = "MARS EXPRESS"
MISSION_PHASE_NAME = ME_Phase_15
PROCESSING_LEVEL_ID = 3
PRODUCT_CREATION_TIME = 2016-06-28T15:33:21.000Z
PRODUCT_ID = "H6408_0000_IR3.JP2"
RELEASE_ID = 0072
REVISION_ID = 0000
/* QUALITY DATA ELEMENTS */
DATA_QUALITY_ID = 2
DATA_QUALITY_DESC = "Data calculated based on photogrammetrically improved orbit and attitude data"
/* TIME DATA ELEMENTS */
SPACECRAFT_CLOCK_START_COUNT = "1/0178591190.09039"
SPACECRAFT_CLOCK_STOP_COUNT = "1/0178591585.07250"
START_TIME = 2008-12-29T00:40:43.452Z
STOP_TIME = 2008-12-29T00:46:19.361Z
/* ORBITAL DATA ELEMENTS */
ASCENDING_NODE_LONGITUDE = 95.69
MAXIMUM_RESOLUTION = 101.9
FOOTPRINT_POINT_LATITUDE = (-47.8939,-47.9091,-47.5159,-47.1223, -46.73,-46.1399,-45.5529,-45.1626, -44.7708,-44.3848,-43.99,-43.6035, -43.2149,-42.8264,-42.4382,-42.0375, -41.4351,-40.8384,-40.4393,-40.0414, -39.6447,-39.2381,-38.8291,-38.2164, -37.809,-37.4023,-36.9839,-36.5631, -35.9398,-35.5237,-35.1081,-34.6937, -34.2799,-33.8676,-33.4561,-33.0453, -32.6356,-32.1717,-31.6859,-31.2015, -30.719,-30.2376,-29.7579,-29.2804, -28.8039,-28.3294,-27.6136,-27.1302, -26.7108,-26.7143,-26.7189,-26.7226, -26.9722,-27.4563,-27.9397,-28.4145, -28.8908,-29.3683,-29.8472,-30.5684, -31.0508,-31.5347,-31.7787,-32.2657, -32.7187,-33.1277,-33.5388,-33.9497, -34.3664,-34.7811,-35.1964,-35.8212, -36.2387,-36.6572,-37.0768,-37.4932, -37.9006,-38.3071,-38.7174,-39.1259, -39.7421,-40.1382,-40.7328,-41.1387, -41.7339,-42.1359,-42.5358,-42.9244, -43.3134,-43.7026,-44.2852,-44.8693, -45.2637,-45.6556,-46.0493,-46.4429, -47.0284,-47.4174,-47.8178,-47.8939)
FOOTPRINT_POINT_LONGITUDE = (121.001,120.188,120.216,120.243, 120.269,120.306,120.341,120.363,120.385 ,120.405,120.426,120.444,120.463,120.48 ,120.497,120.514,120.538,120.56,120.574 ,120.587,120.599,120.612,120.623, 120.639,120.649,120.659,120.668,120.677 ,120.688,120.695,120.701,120.707, 120.713,120.717,120.722,120.725,120.729 ,120.732,120.734,120.736,120.737, 120.738,120.738,120.737,120.736,120.734 ,120.73,120.727,120.724,121.053,121.492 ,122.099,122.333,122.325,122.317, 122.309,122.301,122.292,122.283,122.27, 122.26,122.25,122.246,122.237,122.227, 122.218,122.21,122.2,122.193,122.184, 122.175,122.161,122.151,122.141,122.131 ,122.121,122.111,122.099,122.089, 122.077,122.064,122.052,122.032,122.024 ,122.002,121.99,121.978,121.965,121.952 ,121.938,121.916,121.893,121.881, 121.866,121.851,121.836,121.809,121.789 ,121.776,121.001)
ORBIT_NUMBER = 6408
ORBITAL_ECCENTRICITY = 0.575
ORBITAL_INCLINATION = 86.75
ORBITAL_SEMIMAJOR_AXIS = 8683.04
PERIAPSIS_ALTITUDE = 306.1
PERIAPSIS_ARGUMENT_ANGLE = 311.66
PERIAPSIS_TIME = 2008-12-29T00:40:16.000Z
SPACECRAFT_ORIENTATION = (0.0,1.0,0.0)
^MEX_ORIENTATION_DESC = "MEX_ORIENTATION_DESC.TXT"
SPACECRAFT_POINTING_MODE = ACROSSTRACK
^MEX_POINTING_DESC = "MEX_POINTING_DESC.TXT"
RIGHT_ASCENSION = -1e+32
DECLINATION = -1e+32
OFFSET_ANGLE = -0.2
SPACECRAFT_SOLAR_DISTANCE = 2.18694e+08
TARGET_NAME = MARS
/* CAMERA DATA ELEMENTS */
DETECTOR_TEMPERATURE = 17.5549
FOCAL_PLANE_TEMPERATURE = 8.5833
INST_CMPRS_NAME = "DISCRETE COSINE TRANSFORMATION (DCT)"
INST_CMPRS_RATIO = 10.9772
INST_CMPRS_QUALITY = 0
INST_CMPRS_QUANTZ_TBL_ID = 0
INSTRUMENT_TEMPERATURE = 11.234
LENS_TEMPERATURE = 8.9911
MACROPIXEL_SIZE = 8
MISSING_FRAMES = 0
PIXEL_SUBSAMPLING_FLAG = N
SIGNAL_CHAIN_ID = 2
/* RADIOMETRIC DATA ELEMENTS */
BANDWIDTH = 81.0
CENTER_FILTER_WAVELENGTH = 955.5
RADIANCE_OFFSET = 0.530267
RADIANCE_SCALING_FACTOR = 0.00584234
REFLECTANCE_SCALING_FACTOR = 0.000602823
MEX:REFLECTANCE_OFFSET = 0.0547138
/* IMAGE OBJECT DEFINITIONS */
OBJECT = IMAGE
  INTERCHANGE_FORMAT = BINARY
  LINES = 12585
  LINE_SAMPLES = 1034
  SAMPLE_TYPE = UNSIGNED_INTEGER
  SAMPLE_BITS = 8
  BANDS = 1
  BAND_STORAGE_TYPE = BAND_SEQUENTIAL
  MAXIMUM = 255
  MEAN = 124.722
  MINIMUM = 1
  STANDARD_DEVIATION = 38.4898
END_OBJECT = IMAGE
/* MAP OBJECT DEFINITIONS */
OBJECT = IMAGE_MAP_PROJECTION
  ^DATA_SET_MAP_PROJECTION_CATALOG= "DSMAP.CAT"
  A_AXIS_RADIUS = 3396.0
  B_AXIS_RADIUS = 3396.0
  C_AXIS_RADIUS = 3396.0
  CENTER_LATITUDE = 0.0
  CENTER_LONGITUDE = 121.0
  COORDINATE_SYSTEM_NAME = PLANETOGRAPHIC
  COORDINATE_SYSTEM_TYPE = "BODY-FIXED ROTATING"
  EASTERNMOST_LONGITUDE = 122.333
  FIRST_STANDARD_PARALLEL = "N/A"
  LINE_FIRST_PIXEL = 1
  LINE_LAST_PIXEL = 12585
  LINE_PROJECTION_OFFSET = -15857.4375
  MAP_PROJECTION_ROTATION = 0.0
  MAP_PROJECTION_TYPE = SINUSOIDAL
  MAP_RESOLUTION = 592.713803866667
  MAP_SCALE = 0.1
  MAXIMUM_LATITUDE = -26.7108
  MINIMUM_LATITUDE = -47.9091
  POSITIVE_LONGITUDE_DIRECTION = EAST
  REFERENCE_LATITUDE = "N/A"
  REFERENCE_LONGITUDE = "N/A"
  SAMPLE_FIRST_PIXEL = 1
  SAMPLE_LAST_PIXEL = 1034
  SAMPLE_PROJECTION_OFFSET = 326.1875
  SECOND_STANDARD_PARALLEL = "N/A"
  WESTERNMOST_LONGITUDE = 120.188
END_OBJECT = IMAGE_MAP_PROJECTION
/* The JPEG2000 image data file associated with this label. */
OBJECT = COMPRESSED_FILE
  FILE_NAME = "H6408_0000_IR3.JP2"
  RECORD_TYPE = UNDEFINED
  FILE_RECORDS = UNK
  ENCODING_TYPE = "JP2"
  INTERCHANGE_FORMAT = BINARY
  UNCOMPRESSED_FILE_NAME = "H6408_0000_IR3.IMG"
  REQUIRED_STORAGE_BYTES = "13031502"
  ^DESCRIPTION = "JP2INFO.TXT"
END_OBJECT = COMPRESSED_FILE
END
