PDS_VERSION_ID = PDS3
/* FILE DATA ELEMENTS */
RECORD_TYPE = STREAM
/* POINTERS TO DATA OBJECTS */
^COMPRESSED_FILE = "H6408_0000_P13.JP2"
/* IDENTIFICATION DATA ELEMENTS */
DATA_SET_ID = "MEX-M-HRSC-5-REFDR-MAPPROJECTED-V3.0"
DATA_SET_NAME = "MARS EXPRESS HRSC MAP PROJECTED REFDR V3.0"
DETECTOR_ID = MEX_HRSC_P1
EVENT_TYPE = "MARS-REGIONAL-MAPPING-Vo-Im"
INSTRUMENT_HOST_ID = MEX
INSTRUMENT_HOST_NAME = "MARS EXPRESS"
INSTRUMENT_ID = HRSC
INSTRUMENT_NAME = "HIGH RESOLUTION STEREO CAMERA"
MISSION_NAME = "MARS EXPRESS"
MISSION_PHASE_NAME = ME_Phase_15
PROCESSING_LEVEL_ID = 3
PRODUCT_CREATION_TIME = 2016-06-28T15:33:21.000Z
PRODUCT_ID = "H6408_0000_P13.JP2"
RELEASE_ID = 0072
REVISION_ID = 0000
/* QUALITY DATA ELEMENTS */
DATA_QUALITY_ID = 2
DATA_QUALITY_DESC = "Data calculated based on photogrammetrically improved orbit and attitude data"
/* TIME DATA ELEMENTS */
SPACECRAFT_CLOCK_START_COUNT = "1/0178591190.09039"
SPACECRAFT_CLOCK_STOP_COUNT = "1/0178591585.07250"
START_TIME = 2008-12-29T00:40:38.775Z
STOP_TIME = 2008-12-29T00:46:12.177Z
/* ORBITAL DATA ELEMENTS */
ASCENDING_NODE_LONGITUDE = 95.69
MAXIMUM_RESOLUTION = 50.1
FOOTPRINT_POINT_LATITUDE = (-47.9114,-47.8916,-47.7149,-47.1218, -46.5298,-46.135,-45.7411,-45.1505, -44.756,-44.3669,-43.9704,-43.3848, -42.9934,-42.6022,-42.2117,-41.8113, -41.406,-40.8038,-40.4013,-39.9999, -39.5993,-39.1987,-38.7858,-38.3732, -37.9611,-37.55,-37.1394,-36.7187, -36.0864,-35.6652,-35.2445,-34.8248, -34.4059,-33.9877,-33.5709,-33.1547, -32.7392,-32.3248,-31.8663,-31.3744, -30.884,-30.3952,-29.908,-29.4221, -28.9379,-28.4551,-27.9743,-27.4942, -27.0039,-26.7288,-26.7329,-26.7353, -26.9837,-27.4757,-27.9558,-28.4383, -28.9223,-29.4075,-29.8939,-30.6264, -31.1158,-31.3615,-31.6076,-31.8549, -32.3192,-32.7337,-33.1482,-33.5651, -34.1928,-34.6127,-35.2432,-35.8751, -36.2976,-36.721,-37.1421,-37.553, -37.9649,-38.5828,-38.9963,-39.4086, -39.8105,-40.2107,-40.8113,-41.2199, -41.8217,-42.2246,-42.6157,-43.0074, -43.3994,-43.7917,-44.3791,-44.968, -45.3643,-45.7587,-46.155,-46.5505, -46.9429,-47.3353,-47.7335,-47.9114)
FOOTPRINT_POINT_LONGITUDE = (121.202,120.585,120.193,120.234, 120.273,120.298,120.322,120.356,120.379 ,120.398,120.42,120.448,120.466,120.484 ,120.5,120.517,120.533,120.555,120.569, 120.583,120.595,120.607,120.619,120.63, 120.641,120.651,120.66,120.669,120.681, 120.688,120.695,120.701,120.707,120.712 ,120.717,120.721,120.725,120.728, 120.731,120.733,120.735,120.735,120.736 ,120.735,120.734,120.733,120.731, 120.728,120.725,121.094,121.571,122.08, 122.322,122.315,122.306,122.298,122.29, 122.282,122.273,122.26,122.25,122.245, 122.241,122.237,122.228,122.219,122.21, 122.202,122.189,122.181,122.167,122.153 ,122.143,122.134,122.124,122.113, 122.103,122.086,122.075,122.067,122.057 ,122.044,122.025,122.017,121.995, 121.983,121.971,121.958,121.945,121.931 ,121.909,121.886,121.874,121.858, 121.844,121.829,121.81,121.79,121.775, 121.202)
ORBIT_NUMBER = 6408
ORBITAL_ECCENTRICITY = 0.575
ORBITAL_INCLINATION = 86.75
ORBITAL_SEMIMAJOR_AXIS = 8683.04
PERIAPSIS_ALTITUDE = 306.1
PERIAPSIS_ARGUMENT_ANGLE = 311.66
PERIAPSIS_TIME = 2008-12-29T00:40:16.000Z
SPACECRAFT_ORIENTATION = (0.0,1.0,0.0)
^MEX_ORIENTATION_DESC = "MEX_ORIENTATION_DESC.TXT"
SPACECRAFT_POINTING_MODE = ACROSSTRACK
^MEX_POINTING_DESC = "MEX_POINTING_DESC.TXT"
RIGHT_ASCENSION = -1e+32
DECLINATION = -1e+32
OFFSET_ANGLE = -0.2
SPACECRAFT_SOLAR_DISTANCE = 2.18694e+08
TARGET_NAME = MARS
/* CAMERA DATA ELEMENTS */
DETECTOR_TEMPERATURE = 17.5549
FOCAL_PLANE_TEMPERATURE = 8.5833
INST_CMPRS_NAME = "DISCRETE COSINE TRANSFORMATION (DCT)"
INST_CMPRS_RATIO = 9.623
INST_CMPRS_QUALITY = 0
INST_CMPRS_QUANTZ_TBL_ID = 0
INSTRUMENT_TEMPERATURE = 11.234
LENS_TEMPERATURE = 8.9911
MACROPIXEL_SIZE = 4
MISSING_FRAMES = 0
PIXEL_SUBSAMPLING_FLAG = N
SIGNAL_CHAIN_ID = 3
/* RADIOMETRIC DATA ELEMENTS */
BANDWIDTH = 174.0
CENTER_FILTER_WAVELENGTH = 675.0
RADIANCE_OFFSET = 2.4294
RADIANCE_SCALING_FACTOR = 0.0201844
REFLECTANCE_SCALING_FACTOR = 0.000519245
MEX:REFLECTANCE_OFFSET = 0.0624963
/* IMAGE OBJECT DEFINITIONS */
OBJECT = IMAGE
  INTERCHANGE_FORMAT = BINARY
  LINES = 25169
  LINE_SAMPLES = 2067
  SAMPLE_TYPE = UNSIGNED_INTEGER
  SAMPLE_BITS = 8
  BANDS = 1
  BAND_STORAGE_TYPE = BAND_SEQUENTIAL
  MAXIMUM = 255
  MEAN = 137.612
  MINIMUM = 1
  STANDARD_DEVIATION = 31.3634
END_OBJECT = IMAGE
/* MAP OBJECT DEFINITIONS */
OBJECT = IMAGE_MAP_PROJECTION
  ^DATA_SET_MAP_PROJECTION_CATALOG= "DSMAP.CAT"
  A_AXIS_RADIUS = 3396.0
  B_AXIS_RADIUS = 3396.0
  C_AXIS_RADIUS = 3396.0
  CENTER_LATITUDE = 0.0
  CENTER_LONGITUDE = 121.0
  COORDINATE_SYSTEM_NAME = PLANETOGRAPHIC
  COORDINATE_SYSTEM_TYPE = "BODY-FIXED ROTATING"
  EASTERNMOST_LONGITUDE = 122.322
  FIRST_STANDARD_PARALLEL = "N/A"
  LINE_FIRST_PIXEL = 1
  LINE_LAST_PIXEL = 25169
  LINE_PROJECTION_OFFSET = -31714.375
  MAP_PROJECTION_ROTATION = 0.0
  MAP_PROJECTION_TYPE = SINUSOIDAL
  MAP_RESOLUTION = 1185.42760773333
  MAP_SCALE = 0.05
  MAXIMUM_LATITUDE = -26.7288
  MINIMUM_LATITUDE = -47.9114
  POSITIVE_LONGITUDE_DIRECTION = EAST
  REFERENCE_LATITUDE = "N/A"
  REFERENCE_LONGITUDE = "N/A"
  SAMPLE_FIRST_PIXEL = 1
  SAMPLE_LAST_PIXEL = 2067
  SAMPLE_PROJECTION_OFFSET = 652.875
  SECOND_STANDARD_PARALLEL = "N/A"
  WESTERNMOST_LONGITUDE = 120.193
END_OBJECT = IMAGE_MAP_PROJECTION
/* The JPEG2000 image data file associated with this label. */
OBJECT = COMPRESSED_FILE
  FILE_NAME = "H6408_0000_P13.JP2"
  RECORD_TYPE = UNDEFINED
  FILE_RECORDS = UNK
  ENCODING_TYPE = "JP2"
  INTERCHANGE_FORMAT = BINARY
  UNCOMPRESSED_FILE_NAME = "H6408_0000_P13.IMG"
  REQUIRED_STORAGE_BYTES = "52044993"
  ^DESCRIPTION = "JP2INFO.TXT"
END_OBJECT = COMPRESSED_FILE
END
