PDS_VERSION_ID = PDS3
/* FILE DATA ELEMENTS */
RECORD_TYPE = STREAM
/* POINTERS TO DATA OBJECTS */
^COMPRESSED_FILE = "H6415_0000_IR3.JP2"
/* IDENTIFICATION DATA ELEMENTS */
DATA_SET_ID = "MEX-M-HRSC-5-REFDR-MAPPROJECTED-V3.0"
DATA_SET_NAME = "MARS EXPRESS HRSC MAP PROJECTED REFDR V3.0"
DETECTOR_ID = MEX_HRSC_IR
EVENT_TYPE = "MARS-REGIONAL-MAPPING-Im-Fl"
INSTRUMENT_HOST_ID = MEX
INSTRUMENT_HOST_NAME = "MARS EXPRESS"
INSTRUMENT_ID = HRSC
INSTRUMENT_NAME = "HIGH RESOLUTION STEREO CAMERA"
MISSION_NAME = "MARS EXPRESS"
MISSION_PHASE_NAME = ME_Phase_15
PROCESSING_LEVEL_ID = 3
PRODUCT_CREATION_TIME = 2016-06-28T15:33:21.000Z
PRODUCT_ID = "H6415_0000_IR3.JP2"
RELEASE_ID = 0072
REVISION_ID = 0000
/* QUALITY DATA ELEMENTS */
DATA_QUALITY_ID = 2
DATA_QUALITY_DESC = "Data calculated based on photogrammetrically improved orbit and attitude data"
/* TIME DATA ELEMENTS */
SPACECRAFT_CLOCK_START_COUNT = "1/0178763954.09034"
SPACECRAFT_CLOCK_STOP_COUNT = "1/0178764299.08397"
START_TIME = 2008-12-31T00:40:14.578Z
STOP_TIME = 2008-12-31T00:44:50.790Z
/* ORBITAL DATA ELEMENTS */
ASCENDING_NODE_LONGITUDE = 95.55
MAXIMUM_RESOLUTION = 58.5
FOOTPRINT_POINT_LATITUDE = (-35.7916,-35.7812,-35.7599,-35.7382, -35.4841,-35.2147,-34.9451,-34.6763, -34.2724,-34.0049,-33.5269,-33.209, -32.7344,-32.2701,-31.9546,-31.6305, -31.159,-30.8428,-30.5311,-30.0649, -29.7545,-29.4451,-29.1345,-28.8176, -28.5014,-28.1861,-27.7058,-27.384, -26.8953,-26.5672,-26.0737,-25.7406, -25.4096,-25.071,-24.5635,-24.215, -23.8795,-23.528,-23.1754,-22.8307, -22.4698,-22.1136,-21.7559,-21.3928, -21.0278,-20.6596,-20.2885,-19.9137, -19.5393,-19.4518,-19.4596,-19.4669, -19.4736,-19.479,-19.485,-19.4909, -19.8693,-20.2462,-20.6171,-20.9856, -21.5355,-22.0748,-22.4336,-22.789, -23.1438,-23.494,-24.0146,-24.5392, -24.881,-25.2202,-25.7162,-26.0491, -26.5451,-26.873,-27.3654,-27.8501, -28.1739,-28.4906,-28.807,-29.2803, -29.5903,-29.9006,-30.2129,-30.525, -30.8366,-31.1498,-31.621,-31.936, -32.2515,-32.7254,-33.0424,-33.3638, -33.6789,-34.1442,-34.4126,-34.8151, -35.2195,-35.4889,-35.7591,-35.7916)
FOOTPRINT_POINT_LONGITUDE = (141.93,141.695,141.235,140.787,140.626 ,140.626,140.626,140.626,140.625, 140.625,140.623,140.622,140.621,140.62, 140.618,140.614,140.61,140.606,140.603, 140.599,140.595,140.591,140.587,140.583 ,140.578,140.574,140.566,140.561, 140.552,140.546,140.537,140.53,140.524, 140.516,140.505,140.497,140.49,140.481, 140.472,140.464,140.454,140.444,140.434 ,140.424,140.413,140.402,140.391, 140.379,140.367,140.756,141.028,141.247 ,141.541,141.763,142.098,142.33,142.326 ,142.322,142.318,142.312,142.307, 142.299,142.296,142.292,142.29,142.286, 142.28,142.282,142.281,142.278,142.266, 142.263,142.258,142.256,142.255,142.252 ,142.25,142.249,142.246,142.243,142.24, 142.237,142.236,142.233,142.23,142.227, 142.223,142.22,142.217,142.212,142.209, 142.21,142.203,142.2,142.198,142.193, 142.19,142.187,142.184,141.93)
ORBIT_NUMBER = 6415
ORBITAL_ECCENTRICITY = 0.575
ORBITAL_INCLINATION = 86.75
ORBITAL_SEMIMAJOR_AXIS = 8679.94
PERIAPSIS_ALTITUDE = 306.57
PERIAPSIS_ARGUMENT_ANGLE = 310.47
PERIAPSIS_TIME = 2008-12-31T00:36:21.000Z
SPACECRAFT_ORIENTATION = (0.0,1.0,0.0)
^MEX_ORIENTATION_DESC = "MEX_ORIENTATION_DESC.TXT"
SPACECRAFT_POINTING_MODE = ACROSSTRACK
^MEX_POINTING_DESC = "MEX_POINTING_DESC.TXT"
RIGHT_ASCENSION = -1e+32
DECLINATION = -1e+32
OFFSET_ANGLE = -1.0
SPACECRAFT_SOLAR_DISTANCE = 2.1833e+08
TARGET_NAME = MARS
/* CAMERA DATA ELEMENTS */
DETECTOR_TEMPERATURE = 17.1471
FOCAL_PLANE_TEMPERATURE = 7.5638
INST_CMPRS_NAME = "DISCRETE COSINE TRANSFORMATION (DCT)"
INST_CMPRS_RATIO = 9.57333
INST_CMPRS_QUALITY = 0
INST_CMPRS_QUANTZ_TBL_ID = 0
INSTRUMENT_TEMPERATURE = 11.0301
LENS_TEMPERATURE = 7.9716
MACROPIXEL_SIZE = 4
MISSING_FRAMES = 0
PIXEL_SUBSAMPLING_FLAG = N
SIGNAL_CHAIN_ID = 2
/* RADIOMETRIC DATA ELEMENTS */
BANDWIDTH = 81.0
CENTER_FILTER_WAVELENGTH = 955.5
RADIANCE_OFFSET = 0.527846
RADIANCE_SCALING_FACTOR = 0.00487309
REFLECTANCE_SCALING_FACTOR = 0.000501135
MEX:REFLECTANCE_OFFSET = 0.0542822
/* IMAGE OBJECT DEFINITIONS */
OBJECT = IMAGE
  INTERCHANGE_FORMAT = BINARY
  LINES = 19366
  LINE_SAMPLES = 2150
  SAMPLE_TYPE = UNSIGNED_INTEGER
  SAMPLE_BITS = 8
  BANDS = 1
  BAND_STORAGE_TYPE = BAND_SEQUENTIAL
  MAXIMUM = 255
  MEAN = 103.417
  MINIMUM = 1
  STANDARD_DEVIATION = 25.7437
END_OBJECT = IMAGE
/* MAP OBJECT DEFINITIONS */
OBJECT = IMAGE_MAP_PROJECTION
  ^DATA_SET_MAP_PROJECTION_CATALOG= "DSMAP.CAT"
  A_AXIS_RADIUS = 3396.0
  B_AXIS_RADIUS = 3396.0
  C_AXIS_RADIUS = 3396.0
  CENTER_LATITUDE = 0.0
  CENTER_LONGITUDE = 141.0
  COORDINATE_SYSTEM_NAME = PLANETOGRAPHIC
  COORDINATE_SYSTEM_TYPE = "BODY-FIXED ROTATING"
  EASTERNMOST_LONGITUDE = 142.33
  FIRST_STANDARD_PARALLEL = "N/A"
  LINE_FIRST_PIXEL = 1
  LINE_LAST_PIXEL = 19366
  LINE_PROJECTION_OFFSET = -23087.375
  MAP_PROJECTION_ROTATION = 0.0
  MAP_PROJECTION_TYPE = SINUSOIDAL
  MAP_RESOLUTION = 1185.42760773333
  MAP_SCALE = 0.05
  MAXIMUM_LATITUDE = -19.4518
  MINIMUM_LATITUDE = -35.7916
  POSITIVE_LONGITUDE_DIRECTION = EAST
  REFERENCE_LATITUDE = "N/A"
  REFERENCE_LONGITUDE = "N/A"
  SAMPLE_FIRST_PIXEL = 1
  SAMPLE_LAST_PIXEL = 2150
  SAMPLE_PROJECTION_OFFSET = 649.875
  SECOND_STANDARD_PARALLEL = "N/A"
  WESTERNMOST_LONGITUDE = 140.367
END_OBJECT = IMAGE_MAP_PROJECTION
/* The JPEG2000 image data file associated with this label. */
OBJECT = COMPRESSED_FILE
  FILE_NAME = "H6415_0000_IR3.JP2"
  RECORD_TYPE = UNDEFINED
  FILE_RECORDS = UNK
  ENCODING_TYPE = "JP2"
  INTERCHANGE_FORMAT = BINARY
  UNCOMPRESSED_FILE_NAME = "H6415_0000_IR3.IMG"
  REQUIRED_STORAGE_BYTES = "41658400"
  ^DESCRIPTION = "JP2INFO.TXT"
END_OBJECT = COMPRESSED_FILE
END
