PDS_VERSION_ID = PDS3
/* FILE DATA ELEMENTS */
RECORD_TYPE = STREAM
/* POINTERS TO DATA OBJECTS */
^COMPRESSED_FILE = "H6415_0000_P13.JP2"
/* IDENTIFICATION DATA ELEMENTS */
DATA_SET_ID = "MEX-M-HRSC-5-REFDR-MAPPROJECTED-V3.0"
DATA_SET_NAME = "MARS EXPRESS HRSC MAP PROJECTED REFDR V3.0"
DETECTOR_ID = MEX_HRSC_P1
EVENT_TYPE = "MARS-REGIONAL-MAPPING-Im-Fl"
INSTRUMENT_HOST_ID = MEX
INSTRUMENT_HOST_NAME = "MARS EXPRESS"
INSTRUMENT_ID = HRSC
INSTRUMENT_NAME = "HIGH RESOLUTION STEREO CAMERA"
MISSION_NAME = "MARS EXPRESS"
MISSION_PHASE_NAME = ME_Phase_15
PROCESSING_LEVEL_ID = 3
PRODUCT_CREATION_TIME = 2016-06-28T15:33:21.000Z
PRODUCT_ID = "H6415_0000_P13.JP2"
RELEASE_ID = 0072
REVISION_ID = 0000
/* QUALITY DATA ELEMENTS */
DATA_QUALITY_ID = 2
DATA_QUALITY_DESC = "Data calculated based on photogrammetrically improved orbit and attitude data"
/* TIME DATA ELEMENTS */
SPACECRAFT_CLOCK_START_COUNT = "1/0178763954.09034"
SPACECRAFT_CLOCK_STOP_COUNT = "1/0178764299.08397"
START_TIME = 2008-12-31T00:40:08.969Z
STOP_TIME = 2008-12-31T00:44:41.390Z
/* ORBITAL DATA ELEMENTS */
ASCENDING_NODE_LONGITUDE = 95.55
MAXIMUM_RESOLUTION = 57.2
FOOTPRINT_POINT_LATITUDE = (-35.7829,-35.7659,-35.6231,-35.2151, -34.9433,-34.6722,-34.265,-33.995, -33.7262,-33.2597,-32.9393,-32.6207, -32.309,-31.8294,-31.5044,-31.1882, -30.8688,-30.5533,-30.0816,-29.767, -29.4538,-29.14,-28.8268,-28.35, -28.0315,-27.7137,-27.3881,-27.0616, -26.7368,-26.4055,-26.0742,-25.7432, -25.2385,-24.902,-24.5585,-24.0464, -23.5213,-23.1693,-22.8201,-22.4628, -22.1015,-21.7446,-21.3778,-20.8275, -20.4567,-20.0815,-19.7055,-19.4527, -19.4562,-19.4645,-19.4678,-19.4735, -19.4789,-19.6734,-20.0508,-20.4274, -20.7976,-21.1675,-21.532,-21.8955, -22.2557,-22.615,-22.9699,-23.4996, -23.8476,-24.1994,-24.5438,-25.0596, -25.3964,-25.7305,-26.0605,-26.3922, -26.7246,-27.0505,-27.378,-27.8656, -28.1854,-28.5061,-28.8249,-29.1377, -29.4511,-29.7651,-30.0801,-30.396, -30.7114,-31.0276,-31.3443,-31.6626, -31.9812,-32.3001,-32.7794,-33.2607, -33.5828,-33.8702,-34.1403,-34.4111, -34.8173,-35.361,-35.633,-35.7829)
FOOTPRINT_POINT_LONGITUDE = (141.719,141.262,140.63,140.63,140.631, 140.631,140.63,140.63,140.63,140.628, 140.627,140.626,140.626,140.623,140.618 ,140.616,140.613,140.61,140.605,140.602 ,140.598,140.594,140.59,140.584,140.579 ,140.574,140.569,140.563,140.558, 140.552,140.546,140.539,140.529,140.522 ,140.515,140.504,140.491,140.482, 140.474,140.465,140.455,140.446,140.435 ,140.42,140.409,140.398,140.386,140.657 ,140.87,141.191,141.407,141.734,142.173 ,142.307,142.304,142.3,142.296,142.292, 142.287,142.283,142.279,142.276,142.274 ,142.27,142.265,142.267,142.266,142.264 ,142.261,142.254,142.248,142.245, 142.243,142.241,142.241,142.239,142.237 ,142.236,142.234,142.231,142.229, 142.227,142.225,142.223,142.22,142.217, 142.213,142.211,142.209,142.206,142.202 ,142.198,142.196,142.193,142.19,142.188 ,142.184,142.179,142.176,141.719)
ORBIT_NUMBER = 6415
ORBITAL_ECCENTRICITY = 0.575
ORBITAL_INCLINATION = 86.75
ORBITAL_SEMIMAJOR_AXIS = 8679.94
PERIAPSIS_ALTITUDE = 306.57
PERIAPSIS_ARGUMENT_ANGLE = 310.47
PERIAPSIS_TIME = 2008-12-31T00:36:21.000Z
SPACECRAFT_ORIENTATION = (0.0,1.0,0.0)
^MEX_ORIENTATION_DESC = "MEX_ORIENTATION_DESC.TXT"
SPACECRAFT_POINTING_MODE = ACROSSTRACK
^MEX_POINTING_DESC = "MEX_POINTING_DESC.TXT"
RIGHT_ASCENSION = -1e+32
DECLINATION = -1e+32
OFFSET_ANGLE = -1.0
SPACECRAFT_SOLAR_DISTANCE = 2.1833e+08
TARGET_NAME = MARS
/* CAMERA DATA ELEMENTS */
DETECTOR_TEMPERATURE = 17.1471
FOCAL_PLANE_TEMPERATURE = 7.5638
INST_CMPRS_NAME = "DISCRETE COSINE TRANSFORMATION (DCT)"
INST_CMPRS_RATIO = 8.92235
INST_CMPRS_QUALITY = 0
INST_CMPRS_QUANTZ_TBL_ID = 0
INSTRUMENT_TEMPERATURE = 11.0301
LENS_TEMPERATURE = 7.9716
MACROPIXEL_SIZE = 4
MISSING_FRAMES = 0
PIXEL_SUBSAMPLING_FLAG = N
SIGNAL_CHAIN_ID = 3
/* RADIOMETRIC DATA ELEMENTS */
BANDWIDTH = 174.0
CENTER_FILTER_WAVELENGTH = 675.0
RADIANCE_OFFSET = 2.51053
RADIANCE_SCALING_FACTOR = 0.0183874
REFLECTANCE_SCALING_FACTOR = 0.000471442
MEX:REFLECTANCE_OFFSET = 0.0643685
/* IMAGE OBJECT DEFINITIONS */
OBJECT = IMAGE
  INTERCHANGE_FORMAT = BINARY
  LINES = 19366
  LINE_SAMPLES = 2150
  SAMPLE_TYPE = UNSIGNED_INTEGER
  SAMPLE_BITS = 8
  BANDS = 1
  BAND_STORAGE_TYPE = BAND_SEQUENTIAL
  MAXIMUM = 255
  MEAN = 120.56
  MINIMUM = 1
  STANDARD_DEVIATION = 24.551
END_OBJECT = IMAGE
/* MAP OBJECT DEFINITIONS */
OBJECT = IMAGE_MAP_PROJECTION
  ^DATA_SET_MAP_PROJECTION_CATALOG= "DSMAP.CAT"
  A_AXIS_RADIUS = 3396.0
  B_AXIS_RADIUS = 3396.0
  C_AXIS_RADIUS = 3396.0
  CENTER_LATITUDE = 0.0
  CENTER_LONGITUDE = 141.0
  COORDINATE_SYSTEM_NAME = PLANETOGRAPHIC
  COORDINATE_SYSTEM_TYPE = "BODY-FIXED ROTATING"
  EASTERNMOST_LONGITUDE = 142.307
  FIRST_STANDARD_PARALLEL = "N/A"
  LINE_FIRST_PIXEL = 1
  LINE_LAST_PIXEL = 19366
  LINE_PROJECTION_OFFSET = -23087.375
  MAP_PROJECTION_ROTATION = 0.0
  MAP_PROJECTION_TYPE = SINUSOIDAL
  MAP_RESOLUTION = 1185.42760773333
  MAP_SCALE = 0.05
  MAXIMUM_LATITUDE = -19.4527
  MINIMUM_LATITUDE = -35.7829
  POSITIVE_LONGITUDE_DIRECTION = EAST
  REFERENCE_LATITUDE = "N/A"
  REFERENCE_LONGITUDE = "N/A"
  SAMPLE_FIRST_PIXEL = 1
  SAMPLE_LAST_PIXEL = 2150
  SAMPLE_PROJECTION_OFFSET = 649.875
  SECOND_STANDARD_PARALLEL = "N/A"
  WESTERNMOST_LONGITUDE = 140.386
END_OBJECT = IMAGE_MAP_PROJECTION
/* The JPEG2000 image data file associated with this label. */
OBJECT = COMPRESSED_FILE
  FILE_NAME = "H6415_0000_P13.JP2"
  RECORD_TYPE = UNDEFINED
  FILE_RECORDS = UNK
  ENCODING_TYPE = "JP2"
  INTERCHANGE_FORMAT = BINARY
  UNCOMPRESSED_FILE_NAME = "H6415_0000_P13.IMG"
  REQUIRED_STORAGE_BYTES = "41658400"
  ^DESCRIPTION = "JP2INFO.TXT"
END_OBJECT = COMPRESSED_FILE
END
