PDS_VERSION_ID = PDS3
/* FILE DATA ELEMENTS */
RECORD_TYPE = STREAM
/* POINTERS TO DATA OBJECTS */
^COMPRESSED_FILE = "H6418_0000_P13.JP2"
/* IDENTIFICATION DATA ELEMENTS */
DATA_SET_ID = "MEX-M-HRSC-5-REFDR-MAPPROJECTED-V3.0"
DATA_SET_NAME = "MARS EXPRESS HRSC MAP PROJECTED REFDR V3.0"
DETECTOR_ID = MEX_HRSC_P1
EVENT_TYPE = "MARS-REGIONAL-MAPPING-Te-Im"
INSTRUMENT_HOST_ID = MEX
INSTRUMENT_HOST_NAME = "MARS EXPRESS"
INSTRUMENT_ID = HRSC
INSTRUMENT_NAME = "HIGH RESOLUTION STEREO CAMERA"
MISSION_NAME = "MARS EXPRESS"
MISSION_PHASE_NAME = ME_Phase_15
PROCESSING_LEVEL_ID = 3
PRODUCT_CREATION_TIME = 2016-06-28T15:33:21.000Z
PRODUCT_ID = "H6418_0000_P13.JP2"
RELEASE_ID = 0072
REVISION_ID = 0000
/* QUALITY DATA ELEMENTS */
DATA_QUALITY_ID = 2
DATA_QUALITY_DESC = "Data calculated based on photogrammetrically improved orbit and attitude data"
/* TIME DATA ELEMENTS */
SPACECRAFT_CLOCK_START_COUNT = "1/0178838126.09053"
SPACECRAFT_CLOCK_STOP_COUNT = "1/0178838547.33923"
START_TIME = 2008-12-31T21:16:42.209Z
STOP_TIME = 2008-12-31T21:21:53.049Z
/* ORBITAL DATA ELEMENTS */
ASCENDING_NODE_LONGITUDE = 95.49
MAXIMUM_RESOLUTION = 40
FOOTPRINT_POINT_LATITUDE = (-21.8971,-21.899,-21.9002,-21.7733, -21.0881,-20.3935,-19.831,-19.5451, -19.2594,-18.9699,-18.6802,-18.3881, -18.095,-17.7982,-17.501,-17.1987, -16.898,-16.594,-16.1344,-15.6687, -15.3557,-15.0402,-14.5646,-14.0836, -13.7611,-13.4357,-13.1076,-12.7767, -12.442,-12.1042,-11.767,-11.4266, -11.0837,-10.7361,-10.3883,-10.036, -9.68194,-9.32392,-8.96171,-8.59784, -8.2315,-7.86282,-7.4896,-7.11477, -6.73609,-6.35327,-5.77427,-5.70562, -5.69251,-5.68554,-5.67718,-5.67212, -5.66179,-5.65589,-5.84701,-6.23498, -6.6189,-7.00066,-7.56881,-7.94218, -8.31335,-8.6741,-9.0378,-9.39925, -9.75785,-10.1138,-10.4667,-10.8158, -11.1625,-11.5063,-11.8487,-12.1885, -12.525,-12.8584,-13.1897,-13.5179, -13.845,-14.1688,-14.4892,-14.8094, -15.1266,-15.6007,-16.0642,-16.3727, -16.6793,-16.9845,-17.2858,-17.7347, -18.0331,-18.3261,-18.6209,-18.9089, -19.2017,-19.4894,-19.7756,-20.2048, -20.6189,-21.177,-21.5907,-21.8971)
FOOTPRINT_POINT_LONGITUDE = (200.352,199.857,199.451,198.906, 198.892,198.875,198.86,198.853,198.846, 198.838,198.83,198.821,198.812,198.803, 198.794,198.785,198.776,198.765,198.749 ,198.734,198.723,198.711,198.693, 198.674,198.661,198.647,198.633,198.619 ,198.605,198.591,198.576,198.56,198.543 ,198.527,198.51,198.493,198.475,198.457 ,198.439,198.42,198.401,198.38,198.36, 198.338,198.317,198.295,198.26,198.662, 199.122,199.445,199.796,200.148,200.498 ,200.795,201.044,201.036,201.027,201.02 ,201.009,201.002,200.995,200.985, 200.977,200.97,200.964,200.957,200.95, 200.944,200.937,200.93,200.924,200.918, 200.913,200.906,200.9,200.894,200.888, 200.882,200.876,200.87,200.865,200.858, 200.848,200.842,200.838,200.833,200.827 ,200.819,200.814,200.808,200.803, 200.797,200.793,200.789,200.784,200.779 ,200.768,200.759,200.753,200.352)
ORBIT_NUMBER = 6418
ORBITAL_ECCENTRICITY = 0.575
ORBITAL_INCLINATION = 86.77
ORBITAL_SEMIMAJOR_AXIS = 8675.12
PERIAPSIS_ALTITUDE = 305.97
PERIAPSIS_ARGUMENT_ANGLE = 309.94
PERIAPSIS_TIME = 2008-12-31T21:08:56.000Z
SPACECRAFT_ORIENTATION = (0.0,1.0,0.0)
^MEX_ORIENTATION_DESC = "MEX_ORIENTATION_DESC.TXT"
SPACECRAFT_POINTING_MODE = NADIR
^MEX_POINTING_DESC = "MEX_POINTING_DESC.TXT"
RIGHT_ASCENSION = -1e+32
DECLINATION = -1e+32
OFFSET_ANGLE = -1e+32
SPACECRAFT_SOLAR_DISTANCE = 2.18174e+08
TARGET_NAME = MARS
/* CAMERA DATA ELEMENTS */
DETECTOR_TEMPERATURE = 17.351
FOCAL_PLANE_TEMPERATURE = 8.1755
INST_CMPRS_NAME = "DISCRETE COSINE TRANSFORMATION (DCT)"
INST_CMPRS_RATIO = 8.19092
INST_CMPRS_QUALITY = 0
INST_CMPRS_QUANTZ_TBL_ID = 0
INSTRUMENT_TEMPERATURE = 9.3989
LENS_TEMPERATURE = 8.3794
MACROPIXEL_SIZE = 2
MISSING_FRAMES = 0
PIXEL_SUBSAMPLING_FLAG = N
SIGNAL_CHAIN_ID = 3
/* RADIOMETRIC DATA ELEMENTS */
BANDWIDTH = 174.0
CENTER_FILTER_WAVELENGTH = 675.0
RADIANCE_OFFSET = 4.44909
RADIANCE_SCALING_FACTOR = 0.026391
REFLECTANCE_SCALING_FACTOR = 0.000675688
MEX:REFLECTANCE_OFFSET = 0.11391
/* IMAGE OBJECT DEFINITIONS */
OBJECT = IMAGE
  INTERCHANGE_FORMAT = BINARY
  LINES = 38557
  LINE_SAMPLES = 6147
  SAMPLE_TYPE = UNSIGNED_INTEGER
  SAMPLE_BITS = 8
  BANDS = 1
  BAND_STORAGE_TYPE = BAND_SEQUENTIAL
  MAXIMUM = 255
  MEAN = 159.378
  MINIMUM = 1
  STANDARD_DEVIATION = 21.5201
END_OBJECT = IMAGE
/* MAP OBJECT DEFINITIONS */
OBJECT = IMAGE_MAP_PROJECTION
  ^DATA_SET_MAP_PROJECTION_CATALOG= "DSMAP.CAT"
  A_AXIS_RADIUS = 3396.0
  B_AXIS_RADIUS = 3396.0
  C_AXIS_RADIUS = 3396.0
  CENTER_LATITUDE = 0.0
  CENTER_LONGITUDE = 200.0
  COORDINATE_SYSTEM_NAME = PLANETOGRAPHIC
  COORDINATE_SYSTEM_TYPE = "BODY-FIXED ROTATING"
  EASTERNMOST_LONGITUDE = 201.044
  FIRST_STANDARD_PARALLEL = "N/A"
  LINE_FIRST_PIXEL = 1
  LINE_LAST_PIXEL = 38557
  LINE_PROJECTION_OFFSET = -13409.25
  MAP_PROJECTION_ROTATION = 0.0
  MAP_PROJECTION_TYPE = SINUSOIDAL
  MAP_RESOLUTION = 2370.85521546667
  MAP_SCALE = 0.025
  MAXIMUM_LATITUDE = -5.65589
  MINIMUM_LATITUDE = -21.9002
  POSITIVE_LONGITUDE_DIRECTION = EAST
  REFERENCE_LATITUDE = "N/A"
  REFERENCE_LONGITUDE = "N/A"
  SAMPLE_FIRST_PIXEL = 1
  SAMPLE_LAST_PIXEL = 6147
  SAMPLE_PROJECTION_OFFSET = 3896.75
  SECOND_STANDARD_PARALLEL = "N/A"
  WESTERNMOST_LONGITUDE = 198.26
END_OBJECT = IMAGE_MAP_PROJECTION
/* The JPEG2000 image data file associated with this label. */
OBJECT = COMPRESSED_FILE
  FILE_NAME = "H6418_0000_P13.JP2"
  RECORD_TYPE = UNDEFINED
  FILE_RECORDS = UNK
  ENCODING_TYPE = "JP2"
  INTERCHANGE_FORMAT = BINARY
  UNCOMPRESSED_FILE_NAME = "H6418_0000_P13.IMG"
  REQUIRED_STORAGE_BYTES = "237040614"
  ^DESCRIPTION = "JP2INFO.TXT"
END_OBJECT = COMPRESSED_FILE
END
