PDS_VERSION_ID = PDS3
/* FILE DATA ELEMENTS */
RECORD_TYPE = STREAM
/* POINTERS TO DATA OBJECTS */
^COMPRESSED_FILE = "H6418_0000_S13.JP2"
/* IDENTIFICATION DATA ELEMENTS */
DATA_SET_ID = "MEX-M-HRSC-5-REFDR-MAPPROJECTED-V3.0"
DATA_SET_NAME = "MARS EXPRESS HRSC MAP PROJECTED REFDR V3.0"
DETECTOR_ID = MEX_HRSC_S1
EVENT_TYPE = "MARS-REGIONAL-MAPPING-Te-Im"
INSTRUMENT_HOST_ID = MEX
INSTRUMENT_HOST_NAME = "MARS EXPRESS"
INSTRUMENT_ID = HRSC
INSTRUMENT_NAME = "HIGH RESOLUTION STEREO CAMERA"
MISSION_NAME = "MARS EXPRESS"
MISSION_PHASE_NAME = ME_Phase_15
PROCESSING_LEVEL_ID = 3
PRODUCT_CREATION_TIME = 2016-06-28T15:33:21.000Z
PRODUCT_ID = "H6418_0000_S13.JP2"
RELEASE_ID = 0072
REVISION_ID = 0000
/* QUALITY DATA ELEMENTS */
DATA_QUALITY_ID = 2
DATA_QUALITY_DESC = "Data calculated based on photogrammetrically improved orbit and attitude data"
/* TIME DATA ELEMENTS */
SPACECRAFT_CLOCK_START_COUNT = "1/0178838126.09053"
SPACECRAFT_CLOCK_STOP_COUNT = "1/0178838547.33923"
START_TIME = 2008-12-31T21:16:59.997Z
STOP_TIME = 2008-12-31T21:22:29.056Z
/* ORBITAL DATA ELEMENTS */
ASCENDING_NODE_LONGITUDE = 95.49
MAXIMUM_RESOLUTION = 42.7
FOOTPRINT_POINT_LATITUDE = (-21.8864,-21.8885,-21.8899,-21.905, -21.357,-20.806,-20.2466,-19.6778, -19.388,-19.1018,-18.8096,-18.3719, -18.0773,-17.7798,-17.4819,-17.177, -16.7243,-16.4206,-16.1063,-15.7952, -15.3252,-15.0097,-14.6926,-14.3727, -13.8908,-13.5687,-13.241,-12.9105, -12.5778,-12.2412,-11.9047,-11.5662, -11.2259,-10.8799,-10.5338,-10.183, -9.83192,-9.4767,-9.11745,-8.75505, -8.39118,-8.02495,-7.65573,-7.28419, -6.90903,-6.53046,-6.14794,-5.76558, -5.72024,-5.70704,-5.69911,-5.68823, -5.68449,-5.67311,-5.66613,-5.65996, -6.04713,-6.4317,-6.81185,-7.19406, -7.56844,-7.93838,-8.30715,-8.66685, -9.02931,-9.57013,-9.92667,-10.2809, -10.6324,-10.9778,-11.3215,-11.665, -12.1761,-12.6799,-13.0114,-13.3405, -13.6689,-13.9954,-14.3166,-14.7976, -15.1147,-15.5913,-15.9033,-16.3686, -16.6755,-16.9825,-17.2838,-17.7339, -18.0323,-18.3268,-18.6222,-18.911, -19.2035,-19.4956,-19.7835,-20.3513, -20.7674,-21.3287,-21.8801,-21.8864)
FOOTPRINT_POINT_LONGITUDE = (200.044,199.551,199.222,198.882, 198.869,198.855,198.839,198.824,198.817 ,198.808,198.799,198.786,198.776, 198.767,198.757,198.747,198.731,198.719 ,198.708,198.697,198.679,198.667, 198.654,198.641,198.62,198.605,198.59, 198.575,198.56,198.545,198.529,198.512, 198.494,198.477,198.459,198.441,198.421 ,198.402,198.383,198.363,198.342,198.32 ,198.298,198.276,198.252,198.229, 198.205,198.179,198.665,199.01,199.353, 199.783,200.156,200.499,200.786,201.14, 201.129,201.119,201.109,201.101,201.091 ,201.081,201.072,201.061,201.052, 201.039,201.031,201.023,201.015,201.006 ,200.998,200.991,200.98,200.968,200.961 ,200.954,200.947,200.94,200.932,200.922 ,200.916,200.907,200.901,200.89,200.884 ,200.878,200.871,200.862,200.856,200.85 ,200.844,200.837,200.832,200.828, 200.822,200.811,200.801,200.792,200.781 ,200.044)
ORBIT_NUMBER = 6418
ORBITAL_ECCENTRICITY = 0.575
ORBITAL_INCLINATION = 86.77
ORBITAL_SEMIMAJOR_AXIS = 8675.12
PERIAPSIS_ALTITUDE = 305.97
PERIAPSIS_ARGUMENT_ANGLE = 309.94
PERIAPSIS_TIME = 2008-12-31T21:08:56.000Z
SPACECRAFT_ORIENTATION = (0.0,1.0,0.0)
^MEX_ORIENTATION_DESC = "MEX_ORIENTATION_DESC.TXT"
SPACECRAFT_POINTING_MODE = NADIR
^MEX_POINTING_DESC = "MEX_POINTING_DESC.TXT"
RIGHT_ASCENSION = -1e+32
DECLINATION = -1e+32
OFFSET_ANGLE = -1e+32
SPACECRAFT_SOLAR_DISTANCE = 2.18174e+08
TARGET_NAME = MARS
/* CAMERA DATA ELEMENTS */
DETECTOR_TEMPERATURE = 17.351
FOCAL_PLANE_TEMPERATURE = 8.1755
INST_CMPRS_NAME = "DISCRETE COSINE TRANSFORMATION (DCT)"
INST_CMPRS_RATIO = 8.72521
INST_CMPRS_QUALITY = 0
INST_CMPRS_QUANTZ_TBL_ID = 0
INSTRUMENT_TEMPERATURE = 9.3989
LENS_TEMPERATURE = 8.3794
MACROPIXEL_SIZE = 2
MISSING_FRAMES = 1
PIXEL_SUBSAMPLING_FLAG = N
SIGNAL_CHAIN_ID = 1
/* RADIOMETRIC DATA ELEMENTS */
BANDWIDTH = 180.0
CENTER_FILTER_WAVELENGTH = 677.0
RADIANCE_OFFSET = 5.04114
RADIANCE_SCALING_FACTOR = 0.0277107
REFLECTANCE_SCALING_FACTOR = 0.00068817
MEX:REFLECTANCE_OFFSET = 0.125192
/* IMAGE OBJECT DEFINITIONS */
OBJECT = IMAGE
  INTERCHANGE_FORMAT = BINARY
  LINES = 38557
  LINE_SAMPLES = 6147
  SAMPLE_TYPE = UNSIGNED_INTEGER
  SAMPLE_BITS = 8
  BANDS = 1
  BAND_STORAGE_TYPE = BAND_SEQUENTIAL
  MAXIMUM = 255
  MEAN = 152.723
  MINIMUM = 1
  STANDARD_DEVIATION = 20.3385
END_OBJECT = IMAGE
/* MAP OBJECT DEFINITIONS */
OBJECT = IMAGE_MAP_PROJECTION
  ^DATA_SET_MAP_PROJECTION_CATALOG= "DSMAP.CAT"
  A_AXIS_RADIUS = 3396.0
  B_AXIS_RADIUS = 3396.0
  C_AXIS_RADIUS = 3396.0
  CENTER_LATITUDE = 0.0
  CENTER_LONGITUDE = 200.0
  COORDINATE_SYSTEM_NAME = PLANETOGRAPHIC
  COORDINATE_SYSTEM_TYPE = "BODY-FIXED ROTATING"
  EASTERNMOST_LONGITUDE = 201.14
  FIRST_STANDARD_PARALLEL = "N/A"
  LINE_FIRST_PIXEL = 1
  LINE_LAST_PIXEL = 38557
  LINE_PROJECTION_OFFSET = -13409.25
  MAP_PROJECTION_ROTATION = 0.0
  MAP_PROJECTION_TYPE = SINUSOIDAL
  MAP_RESOLUTION = 2370.85521546667
  MAP_SCALE = 0.025
  MAXIMUM_LATITUDE = -5.65996
  MINIMUM_LATITUDE = -21.905
  POSITIVE_LONGITUDE_DIRECTION = EAST
  REFERENCE_LATITUDE = "N/A"
  REFERENCE_LONGITUDE = "N/A"
  SAMPLE_FIRST_PIXEL = 1
  SAMPLE_LAST_PIXEL = 6147
  SAMPLE_PROJECTION_OFFSET = 3896.75
  SECOND_STANDARD_PARALLEL = "N/A"
  WESTERNMOST_LONGITUDE = 198.179
END_OBJECT = IMAGE_MAP_PROJECTION
/* The JPEG2000 image data file associated with this label. */
OBJECT = COMPRESSED_FILE
  FILE_NAME = "H6418_0000_S13.JP2"
  RECORD_TYPE = UNDEFINED
  FILE_RECORDS = UNK
  ENCODING_TYPE = "JP2"
  INTERCHANGE_FORMAT = BINARY
  UNCOMPRESSED_FILE_NAME = "H6418_0000_S13.IMG"
  REQUIRED_STORAGE_BYTES = "237040614"
  ^DESCRIPTION = "JP2INFO.TXT"
END_OBJECT = COMPRESSED_FILE
END
