PDS_VERSION_ID = PDS3
/* FILE DATA ELEMENTS */
RECORD_TYPE = STREAM
/* POINTERS TO DATA OBJECTS */
^COMPRESSED_FILE = "H6418_0000_S23.JP2"
/* IDENTIFICATION DATA ELEMENTS */
DATA_SET_ID = "MEX-M-HRSC-5-REFDR-MAPPROJECTED-V3.0"
DATA_SET_NAME = "MARS EXPRESS HRSC MAP PROJECTED REFDR V3.0"
DETECTOR_ID = MEX_HRSC_S2
EVENT_TYPE = "MARS-REGIONAL-MAPPING-Te-Im"
INSTRUMENT_HOST_ID = MEX
INSTRUMENT_HOST_NAME = "MARS EXPRESS"
INSTRUMENT_ID = HRSC
INSTRUMENT_NAME = "HIGH RESOLUTION STEREO CAMERA"
MISSION_NAME = "MARS EXPRESS"
MISSION_PHASE_NAME = ME_Phase_15
PROCESSING_LEVEL_ID = 3
PRODUCT_CREATION_TIME = 2016-06-28T15:33:21.000Z
PRODUCT_ID = "H6418_0000_S23.JP2"
RELEASE_ID = 0072
REVISION_ID = 0000
/* QUALITY DATA ELEMENTS */
DATA_QUALITY_ID = 2
DATA_QUALITY_DESC = "Data calculated based on photogrammetrically improved orbit and attitude data"
/* TIME DATA ELEMENTS */
SPACECRAFT_CLOCK_START_COUNT = "1/0178838126.09053"
SPACECRAFT_CLOCK_STOP_COUNT = "1/0178838547.33923"
START_TIME = 2008-12-31T21:15:29.610Z
STOP_TIME = 2008-12-31T21:19:45.013Z
/* ORBITAL DATA ELEMENTS */
ASCENDING_NODE_LONGITUDE = 95.49
MAXIMUM_RESOLUTION = 37
FOOTPRINT_POINT_LATITUDE = (-21.9464,-21.9469,-21.9459,-21.9261, -21.5196,-21.2466,-20.9683,-20.5544, -20.134,-19.8524,-19.568,-19.1391, -18.7057,-18.4141,-18.1214,-17.8247, -17.5259,-17.228,-16.7727,-16.4687, -16.16,-15.6971,-15.3841,-15.0689, -14.5909,-14.2713,-13.7786,-13.4533, -13.1213,-12.7895,-12.4541,-11.9447, -11.6037,-11.2586,-10.907,-10.5585, -10.2044,-9.84409,-9.3028,-8.75681, -8.3877,-8.00804,-7.63742,-7.25603, -6.87221,-6.48646,-6.09674,-5.70135, -5.67693,-5.67321,-5.66982,-5.6625, -5.65595,-5.65138,-5.84617,-6.23957, -6.63145,-7.01638,-7.39708,-7.77712, -8.14531,-8.51768,-8.89776,-9.26466, -9.62541,-9.986,-10.3422,-10.6969, -11.0489,-11.3959,-11.7372,-12.081, -12.4188,-12.9238,-13.2573,-13.7512, -14.0788,-14.4015,-14.7222,-15.0413, -15.5134,-15.9811,-16.4465,-16.9029, -17.2077,-17.5057,-17.8046,-18.2501, -18.6888,-18.9826,-19.2709,-19.5546, -19.8408,-20.2529,-20.5444,-20.8225, -21.0979,-21.5034,-21.7749,-21.9464)
FOOTPRINT_POINT_LONGITUDE = (200.281,200.028,199.584,199.004, 198.997,198.993,198.988,198.98,198.973, 198.967,198.962,198.953,198.944,198.938 ,198.931,198.924,198.917,198.909, 198.898,198.89,198.882,198.869,198.861, 198.852,198.838,198.828,198.811,198.801 ,198.79,198.779,198.768,198.75,198.739, 198.726,198.713,198.7,198.687,198.672, 198.65,198.629,198.614,198.596,198.581, 198.564,198.547,198.53,198.512,198.493, 198.784,199.256,199.569,199.951,200.265 ,200.645,200.809,200.805,200.801, 200.798,200.796,200.792,200.791,200.788 ,200.782,200.778,200.775,200.772, 200.769,200.766,200.762,200.759,200.757 ,200.754,200.751,200.746,200.742, 200.738,200.734,200.731,200.728,200.725 ,200.721,200.716,200.711,200.707, 200.703,200.7,200.697,200.692,200.687, 200.683,200.68,200.677,200.674,200.672, 200.666,200.662,200.659,200.656,200.653 ,200.281)
ORBIT_NUMBER = 6418
ORBITAL_ECCENTRICITY = 0.575
ORBITAL_INCLINATION = 86.77
ORBITAL_SEMIMAJOR_AXIS = 8675.12
PERIAPSIS_ALTITUDE = 305.97
PERIAPSIS_ARGUMENT_ANGLE = 309.94
PERIAPSIS_TIME = 2008-12-31T21:08:56.000Z
SPACECRAFT_ORIENTATION = (0.0,1.0,0.0)
^MEX_ORIENTATION_DESC = "MEX_ORIENTATION_DESC.TXT"
SPACECRAFT_POINTING_MODE = NADIR
^MEX_POINTING_DESC = "MEX_POINTING_DESC.TXT"
RIGHT_ASCENSION = -1e+32
DECLINATION = -1e+32
OFFSET_ANGLE = -1e+32
SPACECRAFT_SOLAR_DISTANCE = 2.18174e+08
TARGET_NAME = MARS
/* CAMERA DATA ELEMENTS */
DETECTOR_TEMPERATURE = 18.3705
FOCAL_PLANE_TEMPERATURE = 8.1755
INST_CMPRS_NAME = "DISCRETE COSINE TRANSFORMATION (DCT)"
INST_CMPRS_RATIO = 8.62311
INST_CMPRS_QUALITY = 0
INST_CMPRS_QUANTZ_TBL_ID = 0
INSTRUMENT_TEMPERATURE = 9.3989
LENS_TEMPERATURE = 8.3794
MACROPIXEL_SIZE = 2
MISSING_FRAMES = 0
PIXEL_SUBSAMPLING_FLAG = N
SIGNAL_CHAIN_ID = 1
/* RADIOMETRIC DATA ELEMENTS */
BANDWIDTH = 178.0
CENTER_FILTER_WAVELENGTH = 679.0
RADIANCE_OFFSET = 4.48387
RADIANCE_SCALING_FACTOR = 0.0301188
REFLECTANCE_SCALING_FACTOR = 0.000759226
MEX:REFLECTANCE_OFFSET = 0.113028
/* IMAGE OBJECT DEFINITIONS */
OBJECT = IMAGE
  INTERCHANGE_FORMAT = BINARY
  LINES = 38557
  LINE_SAMPLES = 6147
  SAMPLE_TYPE = UNSIGNED_INTEGER
  SAMPLE_BITS = 8
  BANDS = 1
  BAND_STORAGE_TYPE = BAND_SEQUENTIAL
  MAXIMUM = 255
  MEAN = 154.778
  MINIMUM = 1
  STANDARD_DEVIATION = 20.3821
END_OBJECT = IMAGE
/* MAP OBJECT DEFINITIONS */
OBJECT = IMAGE_MAP_PROJECTION
  ^DATA_SET_MAP_PROJECTION_CATALOG= "DSMAP.CAT"
  A_AXIS_RADIUS = 3396.0
  B_AXIS_RADIUS = 3396.0
  C_AXIS_RADIUS = 3396.0
  CENTER_LATITUDE = 0.0
  CENTER_LONGITUDE = 200.0
  COORDINATE_SYSTEM_NAME = PLANETOGRAPHIC
  COORDINATE_SYSTEM_TYPE = "BODY-FIXED ROTATING"
  EASTERNMOST_LONGITUDE = 200.809
  FIRST_STANDARD_PARALLEL = "N/A"
  LINE_FIRST_PIXEL = 1
  LINE_LAST_PIXEL = 38557
  LINE_PROJECTION_OFFSET = -13409.25
  MAP_PROJECTION_ROTATION = 0.0
  MAP_PROJECTION_TYPE = SINUSOIDAL
  MAP_RESOLUTION = 2370.85521546667
  MAP_SCALE = 0.025
  MAXIMUM_LATITUDE = -5.65138
  MINIMUM_LATITUDE = -21.9469
  POSITIVE_LONGITUDE_DIRECTION = EAST
  REFERENCE_LATITUDE = "N/A"
  REFERENCE_LONGITUDE = "N/A"
  SAMPLE_FIRST_PIXEL = 1
  SAMPLE_LAST_PIXEL = 6147
  SAMPLE_PROJECTION_OFFSET = 3896.75
  SECOND_STANDARD_PARALLEL = "N/A"
  WESTERNMOST_LONGITUDE = 198.493
END_OBJECT = IMAGE_MAP_PROJECTION
/* The JPEG2000 image data file associated with this label. */
OBJECT = COMPRESSED_FILE
  FILE_NAME = "H6418_0000_S23.JP2"
  RECORD_TYPE = UNDEFINED
  FILE_RECORDS = UNK
  ENCODING_TYPE = "JP2"
  INTERCHANGE_FORMAT = BINARY
  UNCOMPRESSED_FILE_NAME = "H6418_0000_S23.IMG"
  REQUIRED_STORAGE_BYTES = "237040614"
  ^DESCRIPTION = "JP2INFO.TXT"
END_OBJECT = COMPRESSED_FILE
END
