PDS_VERSION_ID = PDS3
/* FILE DATA ELEMENTS */
RECORD_TYPE = STREAM
/* POINTERS TO DATA OBJECTS */
^COMPRESSED_FILE = "H6419_0000_P23.JP2"
/* IDENTIFICATION DATA ELEMENTS */
DATA_SET_ID = "MEX-M-HRSC-5-REFDR-MAPPROJECTED-V3.0"
DATA_SET_NAME = "MARS EXPRESS HRSC MAP PROJECTED REFDR V3.0"
DETECTOR_ID = MEX_HRSC_P2
EVENT_TYPE = "MARS-REGIONAL-MAPPING-Vo-Fl-Pf"
INSTRUMENT_HOST_ID = MEX
INSTRUMENT_HOST_NAME = "MARS EXPRESS"
INSTRUMENT_ID = HRSC
INSTRUMENT_NAME = "HIGH RESOLUTION STEREO CAMERA"
MISSION_NAME = "MARS EXPRESS"
MISSION_PHASE_NAME = ME_Phase_15
PROCESSING_LEVEL_ID = 3
PRODUCT_CREATION_TIME = 2016-06-28T15:33:21.000Z
PRODUCT_ID = "H6419_0000_P23.JP2"
RELEASE_ID = 0072
REVISION_ID = 0000
/* QUALITY DATA ELEMENTS */
DATA_QUALITY_ID = 2
DATA_QUALITY_DESC = "Data calculated based on photogrammetrically improved orbit and attitude data"
/* TIME DATA ELEMENTS */
SPACECRAFT_CLOCK_START_COUNT = "1/0178862438.09056"
SPACECRAFT_CLOCK_STOP_COUNT = "1/0178862757.23295"
START_TIME = 2009-01-01T04:00:49.744Z
STOP_TIME = 2009-01-01T04:04:55.390Z
/* ORBITAL DATA ELEMENTS */
ASCENDING_NODE_LONGITUDE = 95.47
MAXIMUM_RESOLUTION = 50.5
FOOTPRINT_POINT_LATITUDE = (-44.9222,-44.9118,-44.8986,-44.548, -44.0948,-43.7938,-43.4918,-43.0394, -42.5869,-42.1344,-41.682,-41.3804, -41.0778,-40.7753,-40.4622,-40.1461, -39.8391,-39.5286,-39.2153,-38.7488, -38.2788,-37.9676,-37.6475,-37.3248, -37.006,-36.6782,-36.351,-36.0285, -35.7067,-35.3752,-34.8762,-34.5434, -34.2116,-33.8799,-33.3826,-32.8854, -32.5545,-32.2235,-31.8926,-31.5621, -31.0671,-30.738,-30.3667,-29.974, -29.3858,-28.9933,-28.6084,-28.6085, -28.6121,-28.6144,-28.6159,-28.6163, -28.8134,-29.2062,-29.7954,-30.188, -30.3858,-30.5828,-30.9219,-31.2519, -31.5825,-31.9135,-32.2451,-32.5761, -32.9085,-33.4055,-33.7378,-34.0727, -34.5711,-35.078,-35.4146,-35.7462, -36.0645,-36.5414,-36.8665,-37.1947, -37.5156,-37.8385,-38.1547,-38.4661, -38.781,-39.2527,-39.5673,-39.8858, -40.1879,-40.4968,-40.8088,-41.2648, -41.569,-41.8714,-42.1736,-42.6265, -42.9283,-43.2304,-43.5331,-43.836, -44.1379,-44.4403,-44.7422,-44.9222)
FOOTPRINT_POINT_LONGITUDE = (99.5147,99.1053,98.6689,98.4692, 98.4947,98.5118,98.5278,98.5515,98.5741 ,98.5958,98.6167,98.63,98.6424,98.6546, 98.6668,98.677,98.6915,98.7039,98.7142, 98.7309,98.7447,98.7545,98.7638,98.7727 ,98.7832,98.7887,98.794,98.8013,98.8086 ,98.8154,98.8251,98.8309,98.8368, 98.8423,98.8499,98.8565,98.8607,98.8643 ,98.8676,98.8707,98.8749,98.8776, 98.8801,98.8822,98.8847,98.8854,98.8883 ,99.1968,99.494,99.7488,100.004,100.259 ,100.402,100.395,100.385,100.378, 100.374,100.371,100.365,100.359,100.353 ,100.346,100.34,100.333,100.326,100.316 ,100.308,100.3,100.289,100.273,100.263, 100.255,100.25,100.241,100.232,100.22, 100.213,100.204,100.195,100.187,100.177 ,100.161,100.151,100.138,100.135, 100.127,100.118,100.102,100.09,100.08, 100.069,100.053,100.042,100.031,100.02, 100.007,99.9956,99.9833,99.9711, 99.5147)
ORBIT_NUMBER = 6419
ORBITAL_ECCENTRICITY = 0.575
ORBITAL_INCLINATION = 86.76
ORBITAL_SEMIMAJOR_AXIS = 8679.6
PERIAPSIS_ALTITUDE = 305.3
PERIAPSIS_ARGUMENT_ANGLE = 309.75
PERIAPSIS_TIME = 2009-01-01T03:59:48.000Z
SPACECRAFT_ORIENTATION = (0.0,1.0,0.0)
^MEX_ORIENTATION_DESC = "MEX_ORIENTATION_DESC.TXT"
SPACECRAFT_POINTING_MODE = NADIR
^MEX_POINTING_DESC = "MEX_POINTING_DESC.TXT"
RIGHT_ASCENSION = -1e+32
DECLINATION = -1e+32
OFFSET_ANGLE = -1e+32
SPACECRAFT_SOLAR_DISTANCE = 2.18123e+08
TARGET_NAME = MARS
/* CAMERA DATA ELEMENTS */
DETECTOR_TEMPERATURE = 18.9822
FOCAL_PLANE_TEMPERATURE = 7.9716
INST_CMPRS_NAME = "DISCRETE COSINE TRANSFORMATION (DCT)"
INST_CMPRS_RATIO = 8.74943
INST_CMPRS_QUALITY = 0
INST_CMPRS_QUANTZ_TBL_ID = 0
INSTRUMENT_TEMPERATURE = 11.0301
LENS_TEMPERATURE = 8.3794
MACROPIXEL_SIZE = 4
MISSING_FRAMES = 0
PIXEL_SUBSAMPLING_FLAG = N
SIGNAL_CHAIN_ID = 3
/* RADIOMETRIC DATA ELEMENTS */
BANDWIDTH = 177.0
CENTER_FILTER_WAVELENGTH = 676.5
RADIANCE_OFFSET = 3.87803
RADIANCE_SCALING_FACTOR = 0.0158416
REFLECTANCE_SCALING_FACTOR = 0.000399631
MEX:REFLECTANCE_OFFSET = 0.0978298
/* IMAGE OBJECT DEFINITIONS */
OBJECT = IMAGE
  INTERCHANGE_FORMAT = BINARY
  LINES = 19306
  LINE_SAMPLES = 1986
  SAMPLE_TYPE = UNSIGNED_INTEGER
  SAMPLE_BITS = 8
  BANDS = 1
  BAND_STORAGE_TYPE = BAND_SEQUENTIAL
  MAXIMUM = 255
  MEAN = 96.3262
  MINIMUM = 1
  STANDARD_DEVIATION = 26.1025
END_OBJECT = IMAGE
/* MAP OBJECT DEFINITIONS */
OBJECT = IMAGE_MAP_PROJECTION
  ^DATA_SET_MAP_PROJECTION_CATALOG= "DSMAP.CAT"
  A_AXIS_RADIUS = 3396.0
  B_AXIS_RADIUS = 3396.0
  C_AXIS_RADIUS = 3396.0
  CENTER_LATITUDE = 0.0
  CENTER_LONGITUDE = 99.0
  COORDINATE_SYSTEM_NAME = PLANETOGRAPHIC
  COORDINATE_SYSTEM_TYPE = "BODY-FIXED ROTATING"
  EASTERNMOST_LONGITUDE = 100.402
  FIRST_STANDARD_PARALLEL = "N/A"
  LINE_FIRST_PIXEL = 1
  LINE_LAST_PIXEL = 19306
  LINE_PROJECTION_OFFSET = -33906.625
  MAP_PROJECTION_ROTATION = 0.0
  MAP_PROJECTION_TYPE = SINUSOIDAL
  MAP_RESOLUTION = 1185.42760773333
  MAP_SCALE = 0.05
  MAXIMUM_LATITUDE = -28.6084
  MINIMUM_LATITUDE = -44.9222
  POSITIVE_LONGITUDE_DIRECTION = EAST
  REFERENCE_LATITUDE = "N/A"
  REFERENCE_LONGITUDE = "N/A"
  SAMPLE_FIRST_PIXEL = 1
  SAMPLE_LAST_PIXEL = 1986
  SAMPLE_PROJECTION_OFFSET = 475.875
  SECOND_STANDARD_PARALLEL = "N/A"
  WESTERNMOST_LONGITUDE = 98.4692
END_OBJECT = IMAGE_MAP_PROJECTION
/* The JPEG2000 image data file associated with this label. */
OBJECT = COMPRESSED_FILE
  FILE_NAME = "H6419_0000_P23.JP2"
  RECORD_TYPE = UNDEFINED
  FILE_RECORDS = UNK
  ENCODING_TYPE = "JP2"
  INTERCHANGE_FORMAT = BINARY
  UNCOMPRESSED_FILE_NAME = "H6419_0000_P23.IMG"
  REQUIRED_STORAGE_BYTES = "38361576"
  ^DESCRIPTION = "JP2INFO.TXT"
END_OBJECT = COMPRESSED_FILE
END
