PDS_VERSION_ID = PDS3
/* FILE DATA ELEMENTS */
RECORD_TYPE = STREAM
/* POINTERS TO DATA OBJECTS */
^COMPRESSED_FILE = "H6425_0000_GR3.JP2"
/* IDENTIFICATION DATA ELEMENTS */
DATA_SET_ID = "MEX-M-HRSC-5-REFDR-MAPPROJECTED-V3.0"
DATA_SET_NAME = "MARS EXPRESS HRSC MAP PROJECTED REFDR V3.0"
DETECTOR_ID = MEX_HRSC_GREEN
EVENT_TYPE = "MARS-REGIONAL-MAPPING-Vo-Te-Im"
INSTRUMENT_HOST_ID = MEX
INSTRUMENT_HOST_NAME = "MARS EXPRESS"
INSTRUMENT_ID = HRSC
INSTRUMENT_NAME = "HIGH RESOLUTION STEREO CAMERA"
MISSION_NAME = "MARS EXPRESS"
MISSION_PHASE_NAME = ME_Phase_15
PROCESSING_LEVEL_ID = 3
PRODUCT_CREATION_TIME = 2016-06-28T15:33:21.000Z
PRODUCT_ID = "H6425_0000_GR3.JP2"
RELEASE_ID = 0072
REVISION_ID = 0000
/* QUALITY DATA ELEMENTS */
DATA_QUALITY_ID = 2
DATA_QUALITY_DESC = "Data calculated based on photogrammetrically improved orbit and attitude data"
/* TIME DATA ELEMENTS */
SPACECRAFT_CLOCK_START_COUNT = "1/0179010469.07302"
SPACECRAFT_CLOCK_STOP_COUNT = "1/0179010816.11712"
START_TIME = 2009-01-02T21:08:26.553Z
STOP_TIME = 2009-01-02T21:12:52.540Z
/* ORBITAL DATA ELEMENTS */
ASCENDING_NODE_LONGITUDE = 95.35
MAXIMUM_RESOLUTION = 108.6
FOOTPRINT_POINT_LATITUDE = (-37.5882,-37.5815,-37.5735,-37.2883, -37.0055,-36.723,-36.4407,-36.1588, -35.8772,-35.5959,-35.3149,-35.0342, -34.7538,-34.194,-33.6354,-33.151, -32.8191,-32.4877,-32.1568,-31.8265, -31.4967,-31.1674,-30.8386,-30.5104, -30.1828,-29.8557,-29.5292,-29.2032, -28.8778,-28.5478,-28.2149,-27.8826, -27.5455,-27.2055,-26.8664,-26.3491, -26.004,-25.6536,-25.3006,-24.9483, -24.5881,-24.2288,-23.8647,-23.4981, -22.9421,-22.5712,-22.1935,-21.815, -21.4301,-21.0849,-21.0849,-21.0834, -21.0826,-21.4682,-21.8531,-22.2325, -22.6103,-22.9833,-23.356,-23.7223, -24.2698,-24.63,-24.9892,-25.3423, -25.6969,-26.219,-26.566,-26.9102, -27.2499,-27.5903,-28.0938,-28.4271, -28.7608,-29.0865,-29.4127,-29.7394, -30.0666,-30.3942,-30.7226,-31.0522, -31.3822,-31.7118,-32.0427,-32.3739, -32.7056,-33.0374,-33.3703,-33.6839, -34.2434,-34.5236,-34.9444,-35.2249, -35.5063,-35.9282,-36.2108,-36.4939, -36.7766,-37.0596,-37.3428,-37.5882)
FOOTPRINT_POINT_LONGITUDE = (219.521,219.066,218.63,218.352,218.357 ,218.362,218.366,218.37,218.374,218.377 ,218.38,218.383,218.386,218.391,218.395 ,218.397,218.399,218.4,218.401,218.401, 218.402,218.401,218.401,218.401,218.4, 218.398,218.397,218.395,218.393,218.391 ,218.389,218.386,218.383,218.38,218.376 ,218.37,218.365,218.36,218.355,218.35, 218.344,218.338,218.332,218.326,218.316 ,218.307,218.299,218.29,218.281,218.424 ,218.969,219.553,220.1,220.095,220.09, 220.085,220.08,220.075,220.071,220.066, 220.058,220.054,220.047,220.043,220.04, 220.03,220.025,220.02,220.015,220.01, 220.005,220.0,219.995,219.99,219.985, 219.979,219.973,219.967,219.961,219.957 ,219.953,219.946,219.941,219.935, 219.929,219.922,219.916,219.912,219.902 ,219.897,219.888,219.881,219.875, 219.864,219.86,219.857,219.851,219.845, 219.839,219.521)
ORBIT_NUMBER = 6425
ORBITAL_ECCENTRICITY = 0.575
ORBITAL_INCLINATION = 86.77
ORBITAL_SEMIMAJOR_AXIS = 8673.67
PERIAPSIS_ALTITUDE = 305.44
PERIAPSIS_ARGUMENT_ANGLE = 308.72
PERIAPSIS_TIME = 2009-01-02T21:04:55.000Z
SPACECRAFT_ORIENTATION = (0.0,1.0,0.0)
^MEX_ORIENTATION_DESC = "MEX_ORIENTATION_DESC.TXT"
SPACECRAFT_POINTING_MODE = ACROSSTRACK
^MEX_POINTING_DESC = "MEX_POINTING_DESC.TXT"
RIGHT_ASCENSION = -1e+32
DECLINATION = -1e+32
OFFSET_ANGLE = -0.35
SPACECRAFT_SOLAR_DISTANCE = 2.17815e+08
TARGET_NAME = MARS
/* CAMERA DATA ELEMENTS */
DETECTOR_TEMPERATURE = 17.9627
FOCAL_PLANE_TEMPERATURE = 7.7677
INST_CMPRS_NAME = "DISCRETE COSINE TRANSFORMATION (DCT)"
INST_CMPRS_RATIO = 14.0161
INST_CMPRS_QUALITY = 0
INST_CMPRS_QUANTZ_TBL_ID = 0
INSTRUMENT_TEMPERATURE = 10.8262
LENS_TEMPERATURE = 8.1755
MACROPIXEL_SIZE = 8
MISSING_FRAMES = 0
PIXEL_SUBSAMPLING_FLAG = N
SIGNAL_CHAIN_ID = 2
/* RADIOMETRIC DATA ELEMENTS */
BANDWIDTH = 88.0
CENTER_FILTER_WAVELENGTH = 538.0
RADIANCE_OFFSET = 1.01722
RADIANCE_SCALING_FACTOR = 0.00782173
REFLECTANCE_SCALING_FACTOR = 0.000319496
MEX:REFLECTANCE_OFFSET = 0.0415504
/* IMAGE OBJECT DEFINITIONS */
OBJECT = IMAGE
  INTERCHANGE_FORMAT = BINARY
  LINES = 9789
  LINE_SAMPLES = 1046
  SAMPLE_TYPE = UNSIGNED_INTEGER
  SAMPLE_BITS = 8
  BANDS = 1
  BAND_STORAGE_TYPE = BAND_SEQUENTIAL
  MAXIMUM = 255
  MEAN = 129.691
  MINIMUM = 1
  STANDARD_DEVIATION = 43.0197
END_OBJECT = IMAGE
/* MAP OBJECT DEFINITIONS */
OBJECT = IMAGE_MAP_PROJECTION
  ^DATA_SET_MAP_PROJECTION_CATALOG= "DSMAP.CAT"
  A_AXIS_RADIUS = 3396.0
  B_AXIS_RADIUS = 3396.0
  C_AXIS_RADIUS = 3396.0
  CENTER_LATITUDE = 0.0
  CENTER_LONGITUDE = 219.0
  COORDINATE_SYSTEM_NAME = PLANETOGRAPHIC
  COORDINATE_SYSTEM_TYPE = "BODY-FIXED ROTATING"
  EASTERNMOST_LONGITUDE = 220.1
  FIRST_STANDARD_PARALLEL = "N/A"
  LINE_FIRST_PIXEL = 1
  LINE_LAST_PIXEL = 9789
  LINE_PROJECTION_OFFSET = -12506.9375
  MAP_PROJECTION_ROTATION = 0.0
  MAP_PROJECTION_TYPE = SINUSOIDAL
  MAP_RESOLUTION = 592.713803866667
  MAP_SCALE = 0.1
  MAXIMUM_LATITUDE = -21.0826
  MINIMUM_LATITUDE = -37.5882
  POSITIVE_LONGITUDE_DIRECTION = EAST
  REFERENCE_LATITUDE = "N/A"
  REFERENCE_LONGITUDE = "N/A"
  SAMPLE_FIRST_PIXEL = 1
  SAMPLE_LAST_PIXEL = 1046
  SAMPLE_PROJECTION_OFFSET = 415.1875
  SECOND_STANDARD_PARALLEL = "N/A"
  WESTERNMOST_LONGITUDE = 218.281
END_OBJECT = IMAGE_MAP_PROJECTION
/* The JPEG2000 image data file associated with this label. */
OBJECT = COMPRESSED_FILE
  FILE_NAME = "H6425_0000_GR3.JP2"
  RECORD_TYPE = UNDEFINED
  FILE_RECORDS = UNK
  ENCODING_TYPE = "JP2"
  INTERCHANGE_FORMAT = BINARY
  UNCOMPRESSED_FILE_NAME = "H6425_0000_GR3.IMG"
  REQUIRED_STORAGE_BYTES = "10258122"
  ^DESCRIPTION = "JP2INFO.TXT"
END_OBJECT = COMPRESSED_FILE
END
