PDS_VERSION_ID = PDS3
/* FILE DATA ELEMENTS */
RECORD_TYPE = STREAM
/* POINTERS TO DATA OBJECTS */
^COMPRESSED_FILE = "H6429_0000_BL3.JP2"
/* IDENTIFICATION DATA ELEMENTS */
DATA_SET_ID = "MEX-M-HRSC-5-REFDR-MAPPROJECTED-V3.0"
DATA_SET_NAME = "MARS EXPRESS HRSC MAP PROJECTED REFDR V3.0"
DETECTOR_ID = MEX_HRSC_BLUE
EVENT_TYPE = "MARS-REGIONAL-MAPPING-Im-Fl-Mw"
INSTRUMENT_HOST_ID = MEX
INSTRUMENT_HOST_NAME = "MARS EXPRESS"
INSTRUMENT_ID = HRSC
INSTRUMENT_NAME = "HIGH RESOLUTION STEREO CAMERA"
MISSION_NAME = "MARS EXPRESS"
MISSION_PHASE_NAME = ME_Phase_15
PROCESSING_LEVEL_ID = 3
PRODUCT_CREATION_TIME = 2016-06-28T15:33:21.000Z
PRODUCT_ID = "H6429_0000_BL3.JP2"
RELEASE_ID = 0072
REVISION_ID = 0000
/* QUALITY DATA ELEMENTS */
DATA_QUALITY_ID = 2
DATA_QUALITY_DESC = "Data calculated based on photogrammetrically improved orbit and attitude data"
/* TIME DATA ELEMENTS */
SPACECRAFT_CLOCK_START_COUNT = "1/0179109008.08238"
SPACECRAFT_CLOCK_STOP_COUNT = "1/0179109424.08687"
START_TIME = 2009-01-04T00:30:33.780Z
STOP_TIME = 2009-01-04T00:36:04.660Z
/* ORBITAL DATA ELEMENTS */
ASCENDING_NODE_LONGITUDE = 95.27
MAXIMUM_RESOLUTION = 101.1
FOOTPRINT_POINT_LATITUDE = (-43.2368,-43.0274,-42.6624,-42.2978, -41.9334,-41.5688,-41.2048,-40.841, -40.4648,-40.089,-39.7135,-39.3382, -38.9634,-38.5891,-38.2023,-37.8157, -37.4292,-37.0434,-36.6582,-36.2732, -35.8891,-35.5056,-35.1223,-34.7394, -34.3571,-33.975,-33.5933,-33.1402, -32.6871,-32.2333,-31.7807,-31.329, -30.878,-30.4278,-29.9789,-29.3063, -28.8591,-28.4051,-27.9484,-27.4865, -27.0189,-26.5482,-26.0722,-25.5922, -25.1058,-24.6149,-24.1193,-23.6162, -22.8523,-22.3384,-22.0814,-22.0836, -22.0827,-22.3451,-22.8603,-23.6249, -24.377,-24.8736,-25.3602,-25.846, -26.3233,-26.7994,-27.2668,-27.9637, -28.4208,-28.876,-29.3242,-29.773, -30.2226,-30.6731,-31.1246,-31.8025, -32.2557,-32.71,-33.1658,-33.6183, -34.1919,-34.5747,-34.9581,-35.342, -35.9175,-36.4943,-37.0733,-37.4596, -37.8464,-38.2337,-38.6211,-38.9965, -39.3721,-39.748,-40.1243,-40.5009, -40.8775,-41.242,-41.6071,-41.9708, -42.3358,-42.7013,-43.0677,-43.2368)
FOOTPRINT_POINT_LONGITUDE = (177.675,177.07,177.087,177.104,177.12, 177.134,177.149,177.163,177.177,177.191 ,177.203,177.216,177.227,177.239,177.25 ,177.26,177.269,177.278,177.286,177.294 ,177.303,177.311,177.318,177.324,177.33 ,177.335,177.34,177.344,177.35,177.353, 177.356,177.358,177.36,177.361,177.363, 177.363,177.362,177.361,177.361,177.357 ,177.354,177.349,177.346,177.341, 177.336,177.329,177.323,177.316,177.303 ,177.294,177.538,178.158,178.525, 179.067,179.059,179.048,179.036,179.028 ,179.02,179.012,179.004,178.995,178.987 ,178.973,178.966,178.958,178.948, 178.939,178.931,178.921,178.911,178.898 ,178.888,178.878,178.865,178.854,178.84 ,178.831,178.821,178.811,178.799, 178.785,178.768,178.757,178.745,178.733 ,178.721,178.709,178.697,178.685, 178.672,178.659,178.646,178.633,178.619 ,178.608,178.595,178.58,178.564, 177.675)
ORBIT_NUMBER = 6429
ORBITAL_ECCENTRICITY = 0.575
ORBITAL_INCLINATION = 86.76
ORBITAL_SEMIMAJOR_AXIS = 8672.68
PERIAPSIS_ALTITUDE = 306.25
PERIAPSIS_ARGUMENT_ANGLE = 308.05
PERIAPSIS_TIME = 2009-01-04T00:28:28.000Z
SPACECRAFT_ORIENTATION = (0.0,1.0,0.0)
^MEX_ORIENTATION_DESC = "MEX_ORIENTATION_DESC.TXT"
SPACECRAFT_POINTING_MODE = NADIR
^MEX_POINTING_DESC = "MEX_POINTING_DESC.TXT"
RIGHT_ASCENSION = -1e+32
DECLINATION = -1e+32
OFFSET_ANGLE = -1e+32
SPACECRAFT_SOLAR_DISTANCE = 2.1761e+08
TARGET_NAME = MARS
/* CAMERA DATA ELEMENTS */
DETECTOR_TEMPERATURE = 18.3705
FOCAL_PLANE_TEMPERATURE = 8.5833
INST_CMPRS_NAME = "DISCRETE COSINE TRANSFORMATION (DCT)"
INST_CMPRS_RATIO = 21.989
INST_CMPRS_QUALITY = 0
INST_CMPRS_QUANTZ_TBL_ID = 0
INSTRUMENT_TEMPERATURE = 11.234
LENS_TEMPERATURE = 8.7872
MACROPIXEL_SIZE = 8
MISSING_FRAMES = 0
PIXEL_SUBSAMPLING_FLAG = N
SIGNAL_CHAIN_ID = 2
/* RADIOMETRIC DATA ELEMENTS */
BANDWIDTH = 76.0
CENTER_FILTER_WAVELENGTH = 444.0
RADIANCE_OFFSET = 0.453325
RADIANCE_SCALING_FACTOR = 0.00250976
REFLECTANCE_SCALING_FACTOR = 0.000122109
MEX:REFLECTANCE_OFFSET = 0.022056
/* IMAGE OBJECT DEFINITIONS */
OBJECT = IMAGE
  INTERCHANGE_FORMAT = BINARY
  LINES = 12546
  LINE_SAMPLES = 1039
  SAMPLE_TYPE = UNSIGNED_INTEGER
  SAMPLE_BITS = 8
  BANDS = 1
  BAND_STORAGE_TYPE = BAND_SEQUENTIAL
  MAXIMUM = 255
  MEAN = 139.385
  MINIMUM = 1
  STANDARD_DEVIATION = 26.1148
END_OBJECT = IMAGE
/* MAP OBJECT DEFINITIONS */
OBJECT = IMAGE_MAP_PROJECTION
  ^DATA_SET_MAP_PROJECTION_CATALOG= "DSMAP.CAT"
  A_AXIS_RADIUS = 3396.0
  B_AXIS_RADIUS = 3396.0
  C_AXIS_RADIUS = 3396.0
  CENTER_LATITUDE = 0.0
  CENTER_LONGITUDE = 178.0
  COORDINATE_SYSTEM_NAME = PLANETOGRAPHIC
  COORDINATE_SYSTEM_TYPE = "BODY-FIXED ROTATING"
  EASTERNMOST_LONGITUDE = 179.067
  FIRST_STANDARD_PARALLEL = "N/A"
  LINE_FIRST_PIXEL = 1
  LINE_LAST_PIXEL = 12546
  LINE_PROJECTION_OFFSET = -13094.1875
  MAP_PROJECTION_ROTATION = 0.0
  MAP_PROJECTION_TYPE = SINUSOIDAL
  MAP_RESOLUTION = 592.713803866667
  MAP_SCALE = 0.1
  MAXIMUM_LATITUDE = -22.0814
  MINIMUM_LATITUDE = -43.2368
  POSITIVE_LONGITUDE_DIRECTION = EAST
  REFERENCE_LATITUDE = "N/A"
  REFERENCE_LONGITUDE = "N/A"
  SAMPLE_FIRST_PIXEL = 1
  SAMPLE_LAST_PIXEL = 1039
  SAMPLE_PROJECTION_OFFSET = 425.8125
  SECOND_STANDARD_PARALLEL = "N/A"
  WESTERNMOST_LONGITUDE = 177.07
END_OBJECT = IMAGE_MAP_PROJECTION
/* The JPEG2000 image data file associated with this label. */
OBJECT = COMPRESSED_FILE
  FILE_NAME = "H6429_0000_BL3.JP2"
  RECORD_TYPE = UNDEFINED
  FILE_RECORDS = UNK
  ENCODING_TYPE = "JP2"
  INTERCHANGE_FORMAT = BINARY
  UNCOMPRESSED_FILE_NAME = "H6429_0000_BL3.IMG"
  REQUIRED_STORAGE_BYTES = "13053996"
  ^DESCRIPTION = "JP2INFO.TXT"
END_OBJECT = COMPRESSED_FILE
END
