PDS_VERSION_ID = PDS3
/* FILE DATA ELEMENTS */
RECORD_TYPE = STREAM
/* POINTERS TO DATA OBJECTS */
^COMPRESSED_FILE = "H6429_0000_IR3.JP2"
/* IDENTIFICATION DATA ELEMENTS */
DATA_SET_ID = "MEX-M-HRSC-5-REFDR-MAPPROJECTED-V3.0"
DATA_SET_NAME = "MARS EXPRESS HRSC MAP PROJECTED REFDR V3.0"
DETECTOR_ID = MEX_HRSC_IR
EVENT_TYPE = "MARS-REGIONAL-MAPPING-Im-Fl-Mw"
INSTRUMENT_HOST_ID = MEX
INSTRUMENT_HOST_NAME = "MARS EXPRESS"
INSTRUMENT_ID = HRSC
INSTRUMENT_NAME = "HIGH RESOLUTION STEREO CAMERA"
MISSION_NAME = "MARS EXPRESS"
MISSION_PHASE_NAME = ME_Phase_15
PROCESSING_LEVEL_ID = 3
PRODUCT_CREATION_TIME = 2016-06-28T15:33:21.000Z
PRODUCT_ID = "H6429_0000_IR3.JP2"
RELEASE_ID = 0072
REVISION_ID = 0000
/* QUALITY DATA ELEMENTS */
DATA_QUALITY_ID = 2
DATA_QUALITY_DESC = "Data calculated based on photogrammetrically improved orbit and attitude data"
/* TIME DATA ELEMENTS */
SPACECRAFT_CLOCK_START_COUNT = "1/0179109008.08238"
SPACECRAFT_CLOCK_STOP_COUNT = "1/0179109424.08687"
START_TIME = 2009-01-04T00:31:02.488Z
STOP_TIME = 2009-01-04T00:36:55.026Z
/* ORBITAL DATA ELEMENTS */
ASCENDING_NODE_LONGITUDE = 95.27
MAXIMUM_RESOLUTION = 108
FOOTPRINT_POINT_LATITUDE = (-43.1866,-43.172,-42.8425,-42.4765, -42.1068,-41.7398,-41.3716,-41.0042, -40.6373,-40.262,-39.8842,-39.5075, -39.131,-38.7551,-38.3752,-38.0059, -37.4488,-37.0776,-36.7061,-36.1508, -35.7804,-35.3524,-34.9126,-34.4745, -34.0388,-33.6047,-32.9547,-32.5238, -32.096,-31.6676,-31.2406,-30.5898, -30.1549,-29.4922,-29.0445,-28.5919, -28.1335,-27.6772,-27.2146,-26.7504, -26.2762,-25.5583,-25.0767,-24.5866, -24.0927,-23.5939,-23.0867,-22.5923, -22.0679,-22.0639,-22.0592,-22.058, -22.0565,-22.3048,-22.8076,-23.3128, -23.8176,-24.3163,-24.8087,-25.2973, -25.7813,-26.2588,-26.733,-27.2019, -27.8922,-28.3573,-28.8092,-29.2602, -29.703,-30.1479,-30.584,-31.0208, -31.6661,-32.0956,-32.5264,-33.169, -33.8185,-34.2536,-34.6919,-35.1307, -35.5709,-35.9718,-36.3434,-36.9009, -37.4602,-37.8329,-38.2061,-38.5802, -38.9554,-39.3316,-39.7087,-40.0862, -40.651,-41.0183,-41.3864,-41.9442, -42.3144,-42.6841,-43.0407,-43.1866)
FOOTPRINT_POINT_LONGITUDE = (177.97,177.336,177.057,177.073,177.089 ,177.104,177.118,177.132,177.145, 177.158,177.171,177.182,177.194,177.205 ,177.217,177.224,177.236,177.244, 177.252,177.262,177.269,177.277,177.284 ,177.29,177.295,177.299,177.305,177.307 ,177.309,177.31,177.311,177.312,177.312 ,177.309,177.308,177.306,177.305,177.3, 177.296,177.29,177.285,177.276,177.268, 177.26,177.251,177.242,177.233,177.219, 177.352,177.646,178.012,178.304,178.651 ,179.152,179.142,179.132,179.122, 179.112,179.102,179.092,179.082,179.072 ,179.062,179.052,179.035,179.027, 179.017,179.007,178.996,178.986,178.976 ,178.965,178.95,178.94,178.929,178.91, 178.892,178.88,178.868,178.856,178.844, 178.835,178.825,178.808,178.791,178.779 ,178.767,178.754,178.741,178.729, 178.715,178.702,178.681,178.668,178.654 ,178.634,178.62,178.605,178.588,177.97)
ORBIT_NUMBER = 6429
ORBITAL_ECCENTRICITY = 0.575
ORBITAL_INCLINATION = 86.76
ORBITAL_SEMIMAJOR_AXIS = 8672.68
PERIAPSIS_ALTITUDE = 306.25
PERIAPSIS_ARGUMENT_ANGLE = 308.05
PERIAPSIS_TIME = 2009-01-04T00:28:28.000Z
SPACECRAFT_ORIENTATION = (0.0,1.0,0.0)
^MEX_ORIENTATION_DESC = "MEX_ORIENTATION_DESC.TXT"
SPACECRAFT_POINTING_MODE = NADIR
^MEX_POINTING_DESC = "MEX_POINTING_DESC.TXT"
RIGHT_ASCENSION = -1e+32
DECLINATION = -1e+32
OFFSET_ANGLE = -1e+32
SPACECRAFT_SOLAR_DISTANCE = 2.1761e+08
TARGET_NAME = MARS
/* CAMERA DATA ELEMENTS */
DETECTOR_TEMPERATURE = 17.5549
FOCAL_PLANE_TEMPERATURE = 8.5833
INST_CMPRS_NAME = "DISCRETE COSINE TRANSFORMATION (DCT)"
INST_CMPRS_RATIO = 20.4297
INST_CMPRS_QUALITY = 0
INST_CMPRS_QUANTZ_TBL_ID = 0
INSTRUMENT_TEMPERATURE = 11.234
LENS_TEMPERATURE = 8.7872
MACROPIXEL_SIZE = 8
MISSING_FRAMES = 0
PIXEL_SUBSAMPLING_FLAG = N
SIGNAL_CHAIN_ID = 2
/* RADIOMETRIC DATA ELEMENTS */
BANDWIDTH = 81.0
CENTER_FILTER_WAVELENGTH = 955.5
RADIANCE_OFFSET = 0.577006
RADIANCE_SCALING_FACTOR = 0.00763684
REFLECTANCE_SCALING_FACTOR = 0.000780189
MEX:REFLECTANCE_OFFSET = 0.0589476
/* IMAGE OBJECT DEFINITIONS */
OBJECT = IMAGE
  INTERCHANGE_FORMAT = BINARY
  LINES = 12546
  LINE_SAMPLES = 1039
  SAMPLE_TYPE = UNSIGNED_INTEGER
  SAMPLE_BITS = 8
  BANDS = 1
  BAND_STORAGE_TYPE = BAND_SEQUENTIAL
  MAXIMUM = 255
  MEAN = 82.477
  MINIMUM = 1
  STANDARD_DEVIATION = 36.982
END_OBJECT = IMAGE
/* MAP OBJECT DEFINITIONS */
OBJECT = IMAGE_MAP_PROJECTION
  ^DATA_SET_MAP_PROJECTION_CATALOG= "DSMAP.CAT"
  A_AXIS_RADIUS = 3396.0
  B_AXIS_RADIUS = 3396.0
  C_AXIS_RADIUS = 3396.0
  CENTER_LATITUDE = 0.0
  CENTER_LONGITUDE = 178.0
  COORDINATE_SYSTEM_NAME = PLANETOGRAPHIC
  COORDINATE_SYSTEM_TYPE = "BODY-FIXED ROTATING"
  EASTERNMOST_LONGITUDE = 179.152
  FIRST_STANDARD_PARALLEL = "N/A"
  LINE_FIRST_PIXEL = 1
  LINE_LAST_PIXEL = 12546
  LINE_PROJECTION_OFFSET = -13094.1875
  MAP_PROJECTION_ROTATION = 0.0
  MAP_PROJECTION_TYPE = SINUSOIDAL
  MAP_RESOLUTION = 592.713803866667
  MAP_SCALE = 0.1
  MAXIMUM_LATITUDE = -22.0565
  MINIMUM_LATITUDE = -43.1866
  POSITIVE_LONGITUDE_DIRECTION = EAST
  REFERENCE_LATITUDE = "N/A"
  REFERENCE_LONGITUDE = "N/A"
  SAMPLE_FIRST_PIXEL = 1
  SAMPLE_LAST_PIXEL = 1039
  SAMPLE_PROJECTION_OFFSET = 425.8125
  SECOND_STANDARD_PARALLEL = "N/A"
  WESTERNMOST_LONGITUDE = 177.057
END_OBJECT = IMAGE_MAP_PROJECTION
/* The JPEG2000 image data file associated with this label. */
OBJECT = COMPRESSED_FILE
  FILE_NAME = "H6429_0000_IR3.JP2"
  RECORD_TYPE = UNDEFINED
  FILE_RECORDS = UNK
  ENCODING_TYPE = "JP2"
  INTERCHANGE_FORMAT = BINARY
  UNCOMPRESSED_FILE_NAME = "H6429_0000_IR3.IMG"
  REQUIRED_STORAGE_BYTES = "13053996"
  ^DESCRIPTION = "JP2INFO.TXT"
END_OBJECT = COMPRESSED_FILE
END
