PDS_VERSION_ID = PDS3
/* FILE DATA ELEMENTS */
RECORD_TYPE = STREAM
/* POINTERS TO DATA OBJECTS */
^COMPRESSED_FILE = "H6430_0000_P13.JP2"
/* IDENTIFICATION DATA ELEMENTS */
DATA_SET_ID = "MEX-M-HRSC-5-REFDR-MAPPROJECTED-V3.0"
DATA_SET_NAME = "MARS EXPRESS HRSC MAP PROJECTED REFDR V3.0"
DETECTOR_ID = MEX_HRSC_P1
EVENT_TYPE = "MARS-REGIONAL-MAPPING-Im-Fl-La"
INSTRUMENT_HOST_ID = MEX
INSTRUMENT_HOST_NAME = "MARS EXPRESS"
INSTRUMENT_ID = HRSC
INSTRUMENT_NAME = "HIGH RESOLUTION STEREO CAMERA"
MISSION_NAME = "MARS EXPRESS"
MISSION_PHASE_NAME = ME_Phase_15
PROCESSING_LEVEL_ID = 3
PRODUCT_CREATION_TIME = 2016-06-28T15:33:21.000Z
PRODUCT_ID = "H6430_0000_P13.JP2"
RELEASE_ID = 0072
REVISION_ID = 0000
/* QUALITY DATA ELEMENTS */
DATA_QUALITY_ID = 1
DATA_QUALITY_DESC = "Data calculated based on original SPICE kernels"
/* TIME DATA ELEMENTS */
SPACECRAFT_CLOCK_START_COUNT = "1/0179133788.08243"
SPACECRAFT_CLOCK_STOP_COUNT = "1/0179134085.57863"
START_TIME = 2009-01-04T07:24:04.950Z
STOP_TIME = 2009-01-04T07:27:47.078Z
/* ORBITAL DATA ELEMENTS */
ASCENDING_NODE_LONGITUDE = 95.25
MAXIMUM_RESOLUTION = 31.1
FOOTPRINT_POINT_LATITUDE = (-34.7379,-34.7262,-34.7134,-34.5116, -34.1407,-33.8933,-33.6451,-33.3957, -33.1492,-32.9029,-32.6527,-32.4088, -32.044,-31.7992,-31.4298,-31.1869, -30.9452,-30.5752,-30.3258,-30.08, -29.8319,-29.5787,-29.3245,-29.072, -28.8131,-28.4267,-28.1732,-27.7842, -27.3928,-27.1322,-26.8656,-26.5978, -26.3275,-26.0564,-25.7861,-25.5151, -25.2388,-24.9635,-24.6885,-24.4081, -24.1281,-23.7032,-23.4204,-22.9897, -22.7022,-22.4113,-21.9761,-21.6803, -21.6249,-21.6247,-21.6279,-21.629, -21.6282,-21.6337,-21.6337,-21.932, -22.2247,-22.6665,-23.0978,-23.3858, -23.6719,-23.957,-24.238,-24.5177, -24.7948,-25.0709,-25.3473,-25.7569, -26.0283,-26.3012,-26.5692,-26.8358, -27.1037,-27.3659,-27.6279,-28.0205, -28.2774,-28.6612,-29.0463,-29.3051, -29.6851,-29.9405,-30.184,-30.5578, -30.8073,-31.051,-31.2931,-31.5376, -31.9074,-32.1541,-32.3996,-32.6478, -33.0162,-33.263,-33.5098,-33.7577, -34.1306,-34.3791,-34.6277,-34.7379)
FOOTPRINT_POINT_LONGITUDE = (78.9083,78.4205,77.9392,77.8106, 77.8116,77.812,77.8124,77.8129,77.8129, 77.8127,77.8129,77.8122,77.8109,77.8101 ,77.8089,77.8076,77.806,77.8037,77.802, 77.7997,77.7977,77.7954,77.7931,77.7905 ,77.7879,77.7832,77.7794,77.7742, 77.7683,77.7642,77.76,77.7558,77.752, 77.7474,77.7423,77.7373,77.7321,77.7266 ,77.7208,77.7148,77.7087,77.6992, 77.6922,77.6817,77.6743,77.6668,77.6544 ,77.646,77.8696,78.1334,78.4735,78.7202 ,79.0052,79.3715,79.6088,79.6051, 79.6008,79.597,79.5897,79.5859,79.5837, 79.58,79.5763,79.5721,79.5661,79.563, 79.5597,79.5543,79.5506,79.548,79.5459, 79.5421,79.5389,79.5355,79.5318,79.5259 ,79.5221,79.5142,79.5064,79.5086, 79.5033,79.5039,79.4963,79.4921,79.489, 79.4858,79.4812,79.4784,79.4765,79.4748 ,79.4716,79.4707,79.4645,79.4611, 79.4573,79.4541,79.4496,79.446,79.4421, 78.9083)
ORBIT_NUMBER = 6430
ORBITAL_ECCENTRICITY = 0.575
ORBITAL_INCLINATION = 86.77
ORBITAL_SEMIMAJOR_AXIS = 8675.42
PERIAPSIS_ALTITUDE = 305.08
PERIAPSIS_ARGUMENT_ANGLE = 307.86
PERIAPSIS_TIME = 2009-01-04T07:19:19.000Z
SPACECRAFT_ORIENTATION = (0.0,1.0,0.0)
^MEX_ORIENTATION_DESC = "MEX_ORIENTATION_DESC.TXT"
SPACECRAFT_POINTING_MODE = ACROSSTRACK
^MEX_POINTING_DESC = "MEX_POINTING_DESC.TXT"
RIGHT_ASCENSION = -1e+32
DECLINATION = -1e+32
OFFSET_ANGLE = -0.54
SPACECRAFT_SOLAR_DISTANCE = 2.17559e+08
TARGET_NAME = MARS
/* CAMERA DATA ELEMENTS */
DETECTOR_TEMPERATURE = 18.1666
FOCAL_PLANE_TEMPERATURE = 8.3794
INST_CMPRS_NAME = "DISCRETE COSINE TRANSFORMATION (DCT)"
INST_CMPRS_RATIO = 10.5536
INST_CMPRS_QUALITY = 0
INST_CMPRS_QUANTZ_TBL_ID = 0
INSTRUMENT_TEMPERATURE = 11.234
LENS_TEMPERATURE = 8.9911
MACROPIXEL_SIZE = 2
MISSING_FRAMES = 1
PIXEL_SUBSAMPLING_FLAG = N
SIGNAL_CHAIN_ID = 3
/* RADIOMETRIC DATA ELEMENTS */
BANDWIDTH = 174.0
CENTER_FILTER_WAVELENGTH = 675.0
RADIANCE_OFFSET = 5.43653
RADIANCE_SCALING_FACTOR = 0.00884969
REFLECTANCE_SCALING_FACTOR = 0.000225304
MEX:REFLECTANCE_OFFSET = 0.138408
/* IMAGE OBJECT DEFINITIONS */
OBJECT = IMAGE
  INTERCHANGE_FORMAT = BINARY
  LINES = 31149
  LINE_SAMPLES = 4223
  SAMPLE_TYPE = UNSIGNED_INTEGER
  SAMPLE_BITS = 8
  BANDS = 1
  BAND_STORAGE_TYPE = BAND_SEQUENTIAL
  MAXIMUM = 255
  MEAN = 137.663
  MINIMUM = 1
  STANDARD_DEVIATION = 28.9755
END_OBJECT = IMAGE
/* MAP OBJECT DEFINITIONS */
OBJECT = IMAGE_MAP_PROJECTION
  ^DATA_SET_MAP_PROJECTION_CATALOG= "DSMAP.CAT"
  A_AXIS_RADIUS = 3396.0
  B_AXIS_RADIUS = 3396.0
  C_AXIS_RADIUS = 3396.0
  CENTER_LATITUDE = 0.0
  CENTER_LONGITUDE = 79.0
  COORDINATE_SYSTEM_NAME = PLANETOGRAPHIC
  COORDINATE_SYSTEM_TYPE = "BODY-FIXED ROTATING"
  EASTERNMOST_LONGITUDE = 79.6088
  FIRST_STANDARD_PARALLEL = "N/A"
  LINE_FIRST_PIXEL = 1
  LINE_LAST_PIXEL = 31149
  LINE_PROJECTION_OFFSET = -51284.25
  MAP_PROJECTION_ROTATION = 0.0
  MAP_PROJECTION_TYPE = SINUSOIDAL
  MAP_RESOLUTION = 2370.85521546667
  MAP_SCALE = 0.025
  MAXIMUM_LATITUDE = -21.6247
  MINIMUM_LATITUDE = -34.7379
  POSITIVE_LONGITUDE_DIRECTION = EAST
  REFERENCE_LATITUDE = "N/A"
  REFERENCE_LONGITUDE = "N/A"
  SAMPLE_FIRST_PIXEL = 1
  SAMPLE_LAST_PIXEL = 4223
  SAMPLE_PROJECTION_OFFSET = 2887.25
  SECOND_STANDARD_PARALLEL = "N/A"
  WESTERNMOST_LONGITUDE = 77.646
END_OBJECT = IMAGE_MAP_PROJECTION
/* The JPEG2000 image data file associated with this label. */
OBJECT = COMPRESSED_FILE
  FILE_NAME = "H6430_0000_P13.JP2"
  RECORD_TYPE = UNDEFINED
  FILE_RECORDS = UNK
  ENCODING_TYPE = "JP2"
  INTERCHANGE_FORMAT = BINARY
  UNCOMPRESSED_FILE_NAME = "H6430_0000_P13.IMG"
  REQUIRED_STORAGE_BYTES = "131567565"
  ^DESCRIPTION = "JP2INFO.TXT"
END_OBJECT = COMPRESSED_FILE
END
