PDS_VERSION_ID = PDS3
/* FILE DATA ELEMENTS */
RECORD_TYPE = STREAM
/* POINTERS TO DATA OBJECTS */
^COMPRESSED_FILE = "H6430_0000_P23.JP2"
/* IDENTIFICATION DATA ELEMENTS */
DATA_SET_ID = "MEX-M-HRSC-5-REFDR-MAPPROJECTED-V3.0"
DATA_SET_NAME = "MARS EXPRESS HRSC MAP PROJECTED REFDR V3.0"
DETECTOR_ID = MEX_HRSC_P2
EVENT_TYPE = "MARS-REGIONAL-MAPPING-Im-Fl-La"
INSTRUMENT_HOST_ID = MEX
INSTRUMENT_HOST_NAME = "MARS EXPRESS"
INSTRUMENT_ID = HRSC
INSTRUMENT_NAME = "HIGH RESOLUTION STEREO CAMERA"
MISSION_NAME = "MARS EXPRESS"
MISSION_PHASE_NAME = ME_Phase_15
PROCESSING_LEVEL_ID = 3
PRODUCT_CREATION_TIME = 2016-06-28T15:33:21.000Z
PRODUCT_ID = "H6430_0000_P23.JP2"
RELEASE_ID = 0072
REVISION_ID = 0000
/* QUALITY DATA ELEMENTS */
DATA_QUALITY_ID = 1
DATA_QUALITY_DESC = "Data calculated based on original SPICE kernels"
/* TIME DATA ELEMENTS */
SPACECRAFT_CLOCK_START_COUNT = "1/0179133788.08243"
SPACECRAFT_CLOCK_STOP_COUNT = "1/0179134085.57863"
START_TIME = 2009-01-04T07:23:21.059Z
STOP_TIME = 2009-01-04T07:26:43.321Z
/* ORBITAL DATA ELEMENTS */
ASCENDING_NODE_LONGITUDE = 95.25
MAXIMUM_RESOLUTION = 29.5
FOOTPRINT_POINT_LATITUDE = (-34.8016,-34.8089,-34.8118,-34.8155, -34.7644,-34.4331,-34.2118,-33.9915, -33.6622,-33.4448,-33.2244,-33.005, -32.678,-32.2827,-31.8887,-31.6299, -31.3694,-31.1073,-30.8455,-30.5854, -30.3257,-30.0632,-29.8037,-29.4151, -29.1553,-28.7675,-28.376,-28.1151, -27.8566,-27.5948,-27.3284,-26.9295, -26.533,-26.1299,-25.8579,-25.5871, -25.3098,-24.8945,-24.476,-24.1936, -23.9111,-23.6259,-23.3363,-23.0475, -22.6088,-22.3149,-22.0169,-21.7163, -21.6675,-21.6632,-21.6591,-21.6528, -21.6459,-21.6389,-21.7866,-22.0842, -22.3796,-22.671,-22.9664,-23.2556, -23.6874,-23.9708,-24.2543,-24.539, -24.8198,-25.097,-25.3746,-25.651, -25.9229,-26.1937,-26.5992,-26.8647, -27.1295,-27.396,-27.6618,-27.9211, -28.3122,-28.572,-28.833,-29.2217, -29.4819,-29.869,-30.1341,-30.3958, -30.6559,-30.9168,-31.3101,-31.5718, -31.8325,-32.0906,-32.3526,-32.6128, -32.8425,-33.1721,-33.3924,-33.7226, -33.9432,-34.2729,-34.4933,-34.8016)
FOOTPRINT_POINT_LONGITUDE = (79.3414,78.8875,78.6556,78.1969, 77.8501,77.8522,77.8534,77.8545,77.856, 77.8569,77.8576,77.8581,77.859,77.8592, 77.859,77.859,77.8586,77.858,77.8572, 77.8563,77.8553,77.854,77.8526,77.8504, 77.8487,77.8459,77.8424,77.8398,77.8373 ,77.8346,77.8316,77.8268,77.8222, 77.8172,77.8133,77.8094,77.8053,77.7988 ,77.7918,77.787,77.782,77.7765,77.771, 77.7653,77.7561,77.75,77.7431,77.7361, 78.0745,78.296,78.5524,78.8959,79.1043, 79.3307,79.5095,79.507,79.5047,79.5057, 79.4999,79.4977,79.496,79.4937,79.4914, 79.4885,79.4842,79.4822,79.4801,79.4775 ,79.4748,79.4731,79.4714,79.4689, 79.4672,79.4642,79.4619,79.4595,79.4542 ,79.4516,79.4482,79.446,79.4436,79.4434 ,79.4368,79.4336,79.4319,79.4297, 79.4249,79.4222,79.4206,79.4217,79.4192 ,79.4186,79.4152,79.412,79.4096,79.4061 ,79.4034,79.4008,79.3985,79.3414)
ORBIT_NUMBER = 6430
ORBITAL_ECCENTRICITY = 0.575
ORBITAL_INCLINATION = 86.77
ORBITAL_SEMIMAJOR_AXIS = 8675.42
PERIAPSIS_ALTITUDE = 305.08
PERIAPSIS_ARGUMENT_ANGLE = 307.86
PERIAPSIS_TIME = 2009-01-04T07:19:19.000Z
SPACECRAFT_ORIENTATION = (0.0,1.0,0.0)
^MEX_ORIENTATION_DESC = "MEX_ORIENTATION_DESC.TXT"
SPACECRAFT_POINTING_MODE = ACROSSTRACK
^MEX_POINTING_DESC = "MEX_POINTING_DESC.TXT"
RIGHT_ASCENSION = -1e+32
DECLINATION = -1e+32
OFFSET_ANGLE = -0.54
SPACECRAFT_SOLAR_DISTANCE = 2.17559e+08
TARGET_NAME = MARS
/* CAMERA DATA ELEMENTS */
DETECTOR_TEMPERATURE = 18.7783
FOCAL_PLANE_TEMPERATURE = 8.3794
INST_CMPRS_NAME = "DISCRETE COSINE TRANSFORMATION (DCT)"
INST_CMPRS_RATIO = 7.39681
INST_CMPRS_QUALITY = 0
INST_CMPRS_QUANTZ_TBL_ID = 0
INSTRUMENT_TEMPERATURE = 11.234
LENS_TEMPERATURE = 8.9911
MACROPIXEL_SIZE = 2
MISSING_FRAMES = 0
PIXEL_SUBSAMPLING_FLAG = N
SIGNAL_CHAIN_ID = 3
/* RADIOMETRIC DATA ELEMENTS */
BANDWIDTH = 177.0
CENTER_FILTER_WAVELENGTH = 676.5
RADIANCE_OFFSET = 5.3
RADIANCE_SCALING_FACTOR = 0.00907669
REFLECTANCE_SCALING_FACTOR = 0.000227792
MEX:REFLECTANCE_OFFSET = 0.133011
/* IMAGE OBJECT DEFINITIONS */
OBJECT = IMAGE
  INTERCHANGE_FORMAT = BINARY
  LINES = 31149
  LINE_SAMPLES = 4223
  SAMPLE_TYPE = UNSIGNED_INTEGER
  SAMPLE_BITS = 8
  BANDS = 1
  BAND_STORAGE_TYPE = BAND_SEQUENTIAL
  MAXIMUM = 255
  MEAN = 138.639
  MINIMUM = 1
  STANDARD_DEVIATION = 31.7576
END_OBJECT = IMAGE
/* MAP OBJECT DEFINITIONS */
OBJECT = IMAGE_MAP_PROJECTION
  ^DATA_SET_MAP_PROJECTION_CATALOG= "DSMAP.CAT"
  A_AXIS_RADIUS = 3396.0
  B_AXIS_RADIUS = 3396.0
  C_AXIS_RADIUS = 3396.0
  CENTER_LATITUDE = 0.0
  CENTER_LONGITUDE = 79.0
  COORDINATE_SYSTEM_NAME = PLANETOGRAPHIC
  COORDINATE_SYSTEM_TYPE = "BODY-FIXED ROTATING"
  EASTERNMOST_LONGITUDE = 79.5095
  FIRST_STANDARD_PARALLEL = "N/A"
  LINE_FIRST_PIXEL = 1
  LINE_LAST_PIXEL = 31149
  LINE_PROJECTION_OFFSET = -51284.25
  MAP_PROJECTION_ROTATION = 0.0
  MAP_PROJECTION_TYPE = SINUSOIDAL
  MAP_RESOLUTION = 2370.85521546667
  MAP_SCALE = 0.025
  MAXIMUM_LATITUDE = -21.6389
  MINIMUM_LATITUDE = -34.8155
  POSITIVE_LONGITUDE_DIRECTION = EAST
  REFERENCE_LATITUDE = "N/A"
  REFERENCE_LONGITUDE = "N/A"
  SAMPLE_FIRST_PIXEL = 1
  SAMPLE_LAST_PIXEL = 4223
  SAMPLE_PROJECTION_OFFSET = 2887.25
  SECOND_STANDARD_PARALLEL = "N/A"
  WESTERNMOST_LONGITUDE = 77.73609999999999
END_OBJECT = IMAGE_MAP_PROJECTION
/* The JPEG2000 image data file associated with this label. */
OBJECT = COMPRESSED_FILE
  FILE_NAME = "H6430_0000_P23.JP2"
  RECORD_TYPE = UNDEFINED
  FILE_RECORDS = UNK
  ENCODING_TYPE = "JP2"
  INTERCHANGE_FORMAT = BINARY
  UNCOMPRESSED_FILE_NAME = "H6430_0000_P23.IMG"
  REQUIRED_STORAGE_BYTES = "131567565"
  ^DESCRIPTION = "JP2INFO.TXT"
END_OBJECT = COMPRESSED_FILE
END
