PDS_VERSION_ID = PDS3
/* FILE DATA ELEMENTS */
RECORD_TYPE = STREAM
/* POINTERS TO DATA OBJECTS */
^COMPRESSED_FILE = "H6431_0000_S13.JP2"
/* IDENTIFICATION DATA ELEMENTS */
DATA_SET_ID = "MEX-M-HRSC-5-REFDR-MAPPROJECTED-V3.0"
DATA_SET_NAME = "MARS EXPRESS HRSC MAP PROJECTED REFDR V3.0"
DETECTOR_ID = MEX_HRSC_S1
EVENT_TYPE = "MARS-REGIONAL-MAPPING-Te-Im-Fl"
INSTRUMENT_HOST_ID = MEX
INSTRUMENT_HOST_NAME = "MARS EXPRESS"
INSTRUMENT_ID = HRSC
INSTRUMENT_NAME = "HIGH RESOLUTION STEREO CAMERA"
MISSION_NAME = "MARS EXPRESS"
MISSION_PHASE_NAME = ME_Phase_15
PROCESSING_LEVEL_ID = 3
PRODUCT_CREATION_TIME = 2016-06-28T15:33:21.000Z
PRODUCT_ID = "H6431_0000_S13.JP2"
RELEASE_ID = 0072
REVISION_ID = 0000
/* QUALITY DATA ELEMENTS */
DATA_QUALITY_ID = 2
DATA_QUALITY_DESC = "Data calculated based on photogrammetrically improved orbit and attitude data"
/* TIME DATA ELEMENTS */
SPACECRAFT_CLOCK_START_COUNT = "1/0179158395.08678"
SPACECRAFT_CLOCK_STOP_COUNT = "1/0179158695.16772"
START_TIME = 2009-01-04T14:14:21.181Z
STOP_TIME = 2009-01-04T14:18:15.741Z
/* ORBITAL DATA ELEMENTS */
ASCENDING_NODE_LONGITUDE = 95.24
MAXIMUM_RESOLUTION = 30.5
FOOTPRINT_POINT_LATITUDE = (-37.729,-37.701,-37.7162,-37.49, -37.1517,-36.8923,-36.6229,-36.3548, -36.0876,-35.687,-35.4208,-35.0225, -34.757,-34.492,-34.2282,-33.965, -33.702,-33.4395,-33.1769,-32.915, -32.6542,-32.2636,-31.9979,-31.6, -31.3344,-30.9297,-30.6587,-30.3889, -30.1145,-29.7018,-29.4191,-29.1437, -28.8616,-28.5814,-28.2989,-28.0133, -27.5854,-27.2967,-27.0077,-26.5699, -26.2771,-25.9802,-25.6834,-25.384, -25.0818,-24.7807,-24.4734,-24.1668, -24.0095,-24.0267,-24.0443,-24.0561, -24.0644,-24.3719,-24.6778,-24.9814, -25.2844,-25.5845,-25.8825,-26.3314, -26.7691,-27.0615,-27.3498,-27.6388, -28.0684,-28.3536,-28.7785,-29.0582, -29.3388,-29.6168,-29.8997,-30.1748, -30.5839,-30.8556,-31.1241,-31.3948, -31.6606,-31.9268,-32.1932,-32.4572, -32.7173,-33.1098,-33.3717,-33.6344, -33.8976,-34.2936,-34.5583,-34.8222, -35.0882,-35.3539,-35.7538,-36.0211, -36.2889,-36.5562,-36.8248,-37.0937, -37.3357,-37.563,-37.7898,-37.729)
FOOTPRINT_POINT_LONGITUDE = (339.191,338.695,338.277,338.277, 338.278,338.279,338.279,338.279,338.279 ,338.278,338.277,338.276,338.275, 338.273,338.272,338.27,338.269,338.267, 338.264,338.262,338.259,338.255,338.253 ,338.248,338.245,338.239,338.235, 338.231,338.227,338.22,338.215,338.211, 338.206,338.2,338.195,338.189,338.18, 338.174,338.167,338.157,338.15,338.143, 338.136,338.128,338.12,338.112,338.103, 338.095,338.52,338.956,339.477,339.829, 340.073,340.069,340.065,340.061,340.058 ,340.053,340.05,340.047,340.041,340.037 ,340.034,340.031,340.026,340.024, 340.019,340.016,340.014,340.011,340.008 ,340.005,340.0,339.998,339.993,339.991, 339.988,339.986,339.983,339.98,339.977, 339.974,339.971,339.968,339.965,339.962 ,339.959,339.955,339.953,339.95,339.945 ,339.942,339.94,339.936,339.932,339.929 ,339.927,339.925,339.923,339.191)
ORBIT_NUMBER = 6431
ORBITAL_ECCENTRICITY = 0.575
ORBITAL_INCLINATION = 86.77
ORBITAL_SEMIMAJOR_AXIS = 8671.35
PERIAPSIS_ALTITUDE = 305.89
PERIAPSIS_ARGUMENT_ANGLE = 307.69
PERIAPSIS_TIME = 2009-01-04T14:10:09.000Z
SPACECRAFT_ORIENTATION = (0.0,1.0,0.0)
^MEX_ORIENTATION_DESC = "MEX_ORIENTATION_DESC.TXT"
SPACECRAFT_POINTING_MODE = ACROSSTRACK
^MEX_POINTING_DESC = "MEX_POINTING_DESC.TXT"
RIGHT_ASCENSION = -1e+32
DECLINATION = -1e+32
OFFSET_ANGLE = -1.04
SPACECRAFT_SOLAR_DISTANCE = 2.17509e+08
TARGET_NAME = MARS
/* CAMERA DATA ELEMENTS */
DETECTOR_TEMPERATURE = 17.351
FOCAL_PLANE_TEMPERATURE = 7.9716
INST_CMPRS_NAME = "DISCRETE COSINE TRANSFORMATION (DCT)"
INST_CMPRS_RATIO = 8.89989
INST_CMPRS_QUALITY = 0
INST_CMPRS_QUANTZ_TBL_ID = 0
INSTRUMENT_TEMPERATURE = 11.0301
LENS_TEMPERATURE = 7.7677
MACROPIXEL_SIZE = 2
MISSING_FRAMES = 2
PIXEL_SUBSAMPLING_FLAG = N
SIGNAL_CHAIN_ID = 1
/* RADIOMETRIC DATA ELEMENTS */
BANDWIDTH = 180.0
CENTER_FILTER_WAVELENGTH = 677.0
RADIANCE_OFFSET = 3.90881
RADIANCE_SCALING_FACTOR = 0.0128513
REFLECTANCE_SCALING_FACTOR = 0.000317205
MEX:REFLECTANCE_OFFSET = 0.0964801
/* IMAGE OBJECT DEFINITIONS */
OBJECT = IMAGE
  INTERCHANGE_FORMAT = BINARY
  LINES = 32586
  LINE_SAMPLES = 4121
  SAMPLE_TYPE = UNSIGNED_INTEGER
  SAMPLE_BITS = 8
  BANDS = 1
  BAND_STORAGE_TYPE = BAND_SEQUENTIAL
  MAXIMUM = 255
  MEAN = 142.606
  MINIMUM = 1
  STANDARD_DEVIATION = 33.4394
END_OBJECT = IMAGE
/* MAP OBJECT DEFINITIONS */
OBJECT = IMAGE_MAP_PROJECTION
  ^DATA_SET_MAP_PROJECTION_CATALOG= "DSMAP.CAT"
  A_AXIS_RADIUS = 3396.0
  B_AXIS_RADIUS = 3396.0
  C_AXIS_RADIUS = 3396.0
  CENTER_LATITUDE = 0.0
  CENTER_LONGITUDE = 339.0
  COORDINATE_SYSTEM_NAME = PLANETOGRAPHIC
  COORDINATE_SYSTEM_TYPE = "BODY-FIXED ROTATING"
  EASTERNMOST_LONGITUDE = 340.073
  FIRST_STANDARD_PARALLEL = "N/A"
  LINE_FIRST_PIXEL = 1
  LINE_LAST_PIXEL = 32586
  LINE_PROJECTION_OFFSET = -56995.25
  MAP_PROJECTION_ROTATION = 0.0
  MAP_PROJECTION_TYPE = SINUSOIDAL
  MAP_RESOLUTION = 2370.85521546667
  MAP_SCALE = 0.025
  MAXIMUM_LATITUDE = -24.0095
  MINIMUM_LATITUDE = -37.7898
  POSITIVE_LONGITUDE_DIRECTION = EAST
  REFERENCE_LATITUDE = "N/A"
  REFERENCE_LONGITUDE = "N/A"
  SAMPLE_FIRST_PIXEL = 1
  SAMPLE_LAST_PIXEL = 4121
  SAMPLE_PROJECTION_OFFSET = 1846.75
  SECOND_STANDARD_PARALLEL = "N/A"
  WESTERNMOST_LONGITUDE = 338.095
END_OBJECT = IMAGE_MAP_PROJECTION
/* The JPEG2000 image data file associated with this label. */
OBJECT = COMPRESSED_FILE
  FILE_NAME = "H6431_0000_S13.JP2"
  RECORD_TYPE = UNDEFINED
  FILE_RECORDS = UNK
  ENCODING_TYPE = "JP2"
  INTERCHANGE_FORMAT = BINARY
  UNCOMPRESSED_FILE_NAME = "H6431_0000_S13.IMG"
  REQUIRED_STORAGE_BYTES = "134311632"
  ^DESCRIPTION = "JP2INFO.TXT"
END_OBJECT = COMPRESSED_FILE
END
