PDS_VERSION_ID = PDS3
/* FILE DATA ELEMENTS */
RECORD_TYPE = STREAM
/* POINTERS TO DATA OBJECTS */
^COMPRESSED_FILE = "H6434_0000_S23.JP2"
/* IDENTIFICATION DATA ELEMENTS */
DATA_SET_ID = "MEX-M-HRSC-5-REFDR-MAPPROJECTED-V3.0"
DATA_SET_NAME = "MARS EXPRESS HRSC MAP PROJECTED REFDR V3.0"
DETECTOR_ID = MEX_HRSC_S2
EVENT_TYPE = "MARS-REGIONAL-MAPPING-Te-Im-Fl"
INSTRUMENT_HOST_ID = MEX
INSTRUMENT_HOST_NAME = "MARS EXPRESS"
INSTRUMENT_ID = HRSC
INSTRUMENT_NAME = "HIGH RESOLUTION STEREO CAMERA"
MISSION_NAME = "MARS EXPRESS"
MISSION_PHASE_NAME = ME_Phase_15
PROCESSING_LEVEL_ID = 3
PRODUCT_CREATION_TIME = 2016-06-28T15:33:21.000Z
PRODUCT_ID = "H6434_0000_S23.JP2"
RELEASE_ID = 0072
REVISION_ID = 0000
/* QUALITY DATA ELEMENTS */
DATA_QUALITY_ID = 2
DATA_QUALITY_DESC = "Data calculated based on photogrammetrically improved orbit and attitude data"
/* TIME DATA ELEMENTS */
SPACECRAFT_CLOCK_START_COUNT = "1/0179232469.07288"
SPACECRAFT_CLOCK_STOP_COUNT = "1/0179232917.01240"
START_TIME = 2009-01-05T10:47:51.566Z
STOP_TIME = 2009-01-05T10:52:50.354Z
/* ORBITAL DATA ELEMENTS */
ASCENDING_NODE_LONGITUDE = 95.18
MAXIMUM_RESOLUTION = 32.3
FOOTPRINT_POINT_LATITUDE = (-30.5844,-30.5633,-30.5388,-30.3328, -30.0034,-29.6721,-29.0172,-28.6891, -28.3622,-27.7096,-27.3756,-27.0373, -26.7085,-26.37,-26.0282,-25.5143, -25.1626,-24.807,-24.4616,-24.1021, -23.5637,-23.0173,-22.6468,-22.2795, -21.9047,-21.5228,-21.1437,-20.7564, -20.3671,-19.9788,-19.5697,-19.1714, -18.5795,-18.1667,-17.7545,-17.3362, -16.7033,-16.2775,-15.8445,-15.409, -14.9692,-14.5237,-14.0746,-13.62, -13.1589,-12.6939,-12.2238,-11.7489, -11.2412,-11.2565,-11.2628,-11.2704, -11.2729,-11.5171,-11.9972,-12.4722, -12.9427,-13.4058,-13.8651,-14.3186, -14.7665,-15.2099,-15.6501,-16.0852, -16.5151,-16.9422,-17.3641,-17.7823, -18.1947,-18.6054,-19.0102,-19.4126, -19.8097,-20.2062,-20.5961,-20.9875, -21.371,-21.757,-22.1302,-22.505, -22.8731,-23.2377,-23.6057,-23.9665, -24.3297,-24.6812,-25.037,-25.3865, -25.9025,-26.2465,-26.7595,-27.0928, -27.4278,-27.9262,-28.2538,-28.7422, -29.2388,-29.5673,-30.0493,-30.5844)
FOOTPRINT_POINT_LONGITUDE = (37.2892,36.8131,36.3306,35.9037, 35.9067,35.9081,35.9143,35.9162,35.9185 ,35.9223,35.9228,35.9217,35.9257, 35.9259,35.9264,35.9256,35.9237,35.9196 ,35.9212,35.9187,35.9144,35.9111,35.905 ,35.9044,35.8995,35.8925,35.8886, 35.8812,35.8751,35.8697,35.8563,35.8485 ,35.844,35.8336,35.8241,35.8144,35.7991 ,35.7883,35.7769,35.765,35.7528,35.7401 ,35.7267,35.7124,35.6971,35.6814, 35.6649,35.6482,35.7359,36.3321,36.6694 ,37.1519,37.4856,37.8021,37.7967, 37.7913,37.7859,37.7804,37.7749,37.7695 ,37.7641,37.7585,37.7529,37.7471, 37.7414,37.7356,37.7296,37.7238,37.7178 ,37.7117,37.7056,37.6994,37.6932, 37.6868,37.6805,37.6738,37.6672,37.6604 ,37.6539,37.6472,37.6407,37.634,37.627, 37.62,37.6126,37.6059,37.5984,37.5913, 37.5805,37.573,37.5616,37.5541,37.5464, 37.5346,37.5267,37.5148,37.5022,37.4937 ,37.4812,37.2892)
ORBIT_NUMBER = 6434
ORBITAL_ECCENTRICITY = 0.575
ORBITAL_INCLINATION = 86.76
ORBITAL_SEMIMAJOR_AXIS = 8674.54
PERIAPSIS_ALTITUDE = 306.01
PERIAPSIS_ARGUMENT_ANGLE = 307.18
PERIAPSIS_TIME = 2009-01-05T10:42:46.000Z
SPACECRAFT_ORIENTATION = (0.0,1.0,0.0)
^MEX_ORIENTATION_DESC = "MEX_ORIENTATION_DESC.TXT"
SPACECRAFT_POINTING_MODE = ACROSSTRACK
^MEX_POINTING_DESC = "MEX_POINTING_DESC.TXT"
RIGHT_ASCENSION = -1e+32
DECLINATION = -1e+32
OFFSET_ANGLE = 0.6
SPACECRAFT_SOLAR_DISTANCE = 2.17357e+08
TARGET_NAME = MARS
/* CAMERA DATA ELEMENTS */
DETECTOR_TEMPERATURE = 18.5744
FOCAL_PLANE_TEMPERATURE = 7.9716
INST_CMPRS_NAME = "DISCRETE COSINE TRANSFORMATION (DCT)"
INST_CMPRS_RATIO = 11.2803
INST_CMPRS_QUALITY = 0
INST_CMPRS_QUANTZ_TBL_ID = 0
INSTRUMENT_TEMPERATURE = 11.0301
LENS_TEMPERATURE = 8.5833
MACROPIXEL_SIZE = 2
MISSING_FRAMES = 0
PIXEL_SUBSAMPLING_FLAG = N
SIGNAL_CHAIN_ID = 1
/* RADIOMETRIC DATA ELEMENTS */
BANDWIDTH = 178.0
CENTER_FILTER_WAVELENGTH = 679.0
RADIANCE_OFFSET = 4.11658
RADIANCE_SCALING_FACTOR = 0.0157636
REFLECTANCE_SCALING_FACTOR = 0.00039439
MEX:REFLECTANCE_OFFSET = 0.102993
/* IMAGE OBJECT DEFINITIONS */
OBJECT = IMAGE
  INTERCHANGE_FORMAT = BINARY
  LINES = 45758
  LINE_SAMPLES = 5713
  SAMPLE_TYPE = UNSIGNED_INTEGER
  SAMPLE_BITS = 8
  BANDS = 1
  BAND_STORAGE_TYPE = BAND_SEQUENTIAL
  MAXIMUM = 255
  MEAN = 121.333
  MINIMUM = 1
  STANDARD_DEVIATION = 25.7653
END_OBJECT = IMAGE
/* MAP OBJECT DEFINITIONS */
OBJECT = IMAGE_MAP_PROJECTION
  ^DATA_SET_MAP_PROJECTION_CATALOG= "DSMAP.CAT"
  A_AXIS_RADIUS = 3396.0
  B_AXIS_RADIUS = 3396.0
  C_AXIS_RADIUS = 3396.0
  CENTER_LATITUDE = 0.0
  CENTER_LONGITUDE = 37.0
  COORDINATE_SYSTEM_NAME = PLANETOGRAPHIC
  COORDINATE_SYSTEM_TYPE = "BODY-FIXED ROTATING"
  EASTERNMOST_LONGITUDE = 37.8021
  FIRST_STANDARD_PARALLEL = "N/A"
  LINE_FIRST_PIXEL = 1
  LINE_LAST_PIXEL = 45758
  LINE_PROJECTION_OFFSET = -26618.25
  MAP_PROJECTION_ROTATION = 0.0
  MAP_PROJECTION_TYPE = SINUSOIDAL
  MAP_RESOLUTION = 2370.85521546667
  MAP_SCALE = 0.025
  MAXIMUM_LATITUDE = -11.2412
  MINIMUM_LATITUDE = -30.5844
  POSITIVE_LONGITUDE_DIRECTION = EAST
  REFERENCE_LATITUDE = "N/A"
  REFERENCE_LONGITUDE = "N/A"
  SAMPLE_FIRST_PIXEL = 1
  SAMPLE_LAST_PIXEL = 5713
  SAMPLE_PROJECTION_OFFSET = 3554.25
  SECOND_STANDARD_PARALLEL = "N/A"
  WESTERNMOST_LONGITUDE = 35.6482
END_OBJECT = IMAGE_MAP_PROJECTION
/* The JPEG2000 image data file associated with this label. */
OBJECT = COMPRESSED_FILE
  FILE_NAME = "H6434_0000_S23.JP2"
  RECORD_TYPE = UNDEFINED
  FILE_RECORDS = UNK
  ENCODING_TYPE = "JP2"
  INTERCHANGE_FORMAT = BINARY
  UNCOMPRESSED_FILE_NAME = "H6434_0000_S23.IMG"
  REQUIRED_STORAGE_BYTES = "261444019"
  ^DESCRIPTION = "JP2INFO.TXT"
END_OBJECT = COMPRESSED_FILE
END
