PDS_VERSION_ID = PDS3
/* FILE DATA ELEMENTS */
RECORD_TYPE = STREAM
/* POINTERS TO DATA OBJECTS */
^COMPRESSED_FILE = "H6438_0000_P13.JP2"
/* IDENTIFICATION DATA ELEMENTS */
DATA_SET_ID = "MEX-M-HRSC-5-REFDR-MAPPROJECTED-V3.0"
DATA_SET_NAME = "MARS EXPRESS HRSC MAP PROJECTED REFDR V3.0"
DETECTOR_ID = MEX_HRSC_P1
EVENT_TYPE = "MARS-REGIONAL-MAPPING-Im-Fl"
INSTRUMENT_HOST_ID = MEX
INSTRUMENT_HOST_NAME = "MARS EXPRESS"
INSTRUMENT_ID = HRSC
INSTRUMENT_NAME = "HIGH RESOLUTION STEREO CAMERA"
MISSION_NAME = "MARS EXPRESS"
MISSION_PHASE_NAME = ME_Phase_15
PROCESSING_LEVEL_ID = 3
PRODUCT_CREATION_TIME = 2016-06-28T15:33:21.000Z
PRODUCT_ID = "H6438_0000_P13.JP2"
RELEASE_ID = 0072
REVISION_ID = 0000
/* QUALITY DATA ELEMENTS */
DATA_QUALITY_ID = 2
DATA_QUALITY_DESC = "Data calculated based on photogrammetrically improved orbit and attitude data"
/* TIME DATA ELEMENTS */
SPACECRAFT_CLOCK_START_COUNT = "1/0179331038.09125"
SPACECRAFT_CLOCK_STOP_COUNT = "1/0179331418.34380"
START_TIME = 2009-01-06T14:11:38.445Z
STOP_TIME = 2009-01-06T14:16:33.793Z
/* ORBITAL DATA ELEMENTS */
ASCENDING_NODE_LONGITUDE = 95.1
MAXIMUM_RESOLUTION = 64.3
FOOTPRINT_POINT_LATITUDE = (-33.8083,-33.8109,-33.8123,-33.3892, -33.0961,-32.6584,-32.3649,-32.0694, -31.7685,-31.4688,-31.1648,-30.8615, -30.5586,-30.2497,-29.9401,-29.4732, -29.1592,-28.845,-28.5263,-28.0471, -27.724,-27.3986,-27.0722,-26.7407, -26.4102,-26.0749,-25.7392,-25.3993, -25.0586,-24.7132,-24.1948,-23.6672, -23.3114,-22.9547,-22.593,-22.0467, -21.4937,-21.1218,-20.7517,-20.3834, -20.0161,-19.6503,-19.2856,-18.9218, -18.5596,-18.2053,-17.8462,-17.488, -17.078,-17.0668,-17.0577,-17.0474, -17.0385,-17.204,-17.7415,-18.1015, -18.4623,-18.8231,-19.1857,-19.5555, -19.9227,-20.291,-20.6582,-21.2154, -21.5888,-21.9576,-22.3256,-22.6885, -23.2266,-23.5834,-23.9369,-24.289, -24.6356,-24.9828,-25.3247,-25.833, -26.1713,-26.5044,-26.8346,-27.1672, -27.4928,-27.8187,-28.3071,-28.6284, -28.9379,-29.2549,-29.5707,-29.8808, -30.1914,-30.6544,-30.9583,-31.2638, -31.718,-32.1623,-32.4622,-32.7547, -33.1937,-33.4875,-33.7823,-33.8083)
FOOTPRINT_POINT_LONGITUDE = (356.276,355.788,355.291,355.07,355.076 ,355.082,355.086,355.087,355.094,355.1, 355.103,355.106,355.108,355.11,355.113, 355.116,355.116,355.117,355.117,355.117 ,355.116,355.115,355.114,355.113, 355.111,355.108,355.105,355.103,355.099 ,355.096,355.088,355.081,355.076,355.07 ,355.064,355.055,355.044,355.037, 355.029,355.02,355.011,355.002,354.993, 354.984,354.974,354.959,354.949,354.939 ,355.184,355.636,355.977,356.359, 356.697,357.203,357.191,357.182,357.174 ,357.165,357.156,357.148,357.14,357.131 ,357.121,357.108,357.098,357.089,357.08 ,357.071,357.057,357.047,357.038, 357.029,357.019,357.01,357.001,356.986, 356.977,356.967,356.958,356.948,356.939 ,356.929,356.915,356.905,356.895, 356.885,356.875,356.865,356.855,356.84, 356.829,356.819,356.804,356.788,356.777 ,356.767,356.751,356.74,356.729, 356.276)
ORBIT_NUMBER = 6438
ORBITAL_ECCENTRICITY = 0.575
ORBITAL_INCLINATION = 86.76
ORBITAL_SEMIMAJOR_AXIS = 8670.98
PERIAPSIS_ALTITUDE = 305.95
PERIAPSIS_ARGUMENT_ANGLE = 306.48
PERIAPSIS_TIME = 2009-01-06T14:06:15.000Z
SPACECRAFT_ORIENTATION = (0.0,1.0,0.0)
^MEX_ORIENTATION_DESC = "MEX_ORIENTATION_DESC.TXT"
SPACECRAFT_POINTING_MODE = ACROSSTRACK
^MEX_POINTING_DESC = "MEX_POINTING_DESC.TXT"
RIGHT_ASCENSION = -1e+32
DECLINATION = -1e+32
OFFSET_ANGLE = 0.7
SPACECRAFT_SOLAR_DISTANCE = 2.17155e+08
TARGET_NAME = MARS
/* CAMERA DATA ELEMENTS */
DETECTOR_TEMPERATURE = 17.351
FOCAL_PLANE_TEMPERATURE = 8.5833
INST_CMPRS_NAME = "DISCRETE COSINE TRANSFORMATION (DCT)"
INST_CMPRS_RATIO = 8.45983
INST_CMPRS_QUALITY = 0
INST_CMPRS_QUANTZ_TBL_ID = 0
INSTRUMENT_TEMPERATURE = 11.0301
LENS_TEMPERATURE = 8.7872
MACROPIXEL_SIZE = 4
MISSING_FRAMES = 0
PIXEL_SUBSAMPLING_FLAG = N
SIGNAL_CHAIN_ID = 3
/* RADIOMETRIC DATA ELEMENTS */
BANDWIDTH = 174.0
CENTER_FILTER_WAVELENGTH = 675.0
RADIANCE_OFFSET = 4.38146
RADIANCE_SCALING_FACTOR = 0.0169116
REFLECTANCE_SCALING_FACTOR = 0.00042895
MEX:REFLECTANCE_OFFSET = 0.111132
/* IMAGE OBJECT DEFINITIONS */
OBJECT = IMAGE
  INTERCHANGE_FORMAT = BINARY
  LINES = 19905
  LINE_SAMPLES = 2480
  SAMPLE_TYPE = UNSIGNED_INTEGER
  SAMPLE_BITS = 8
  BANDS = 1
  BAND_STORAGE_TYPE = BAND_SEQUENTIAL
  MAXIMUM = 255
  MEAN = 132.151
  MINIMUM = 1
  STANDARD_DEVIATION = 31.2506
END_OBJECT = IMAGE
/* MAP OBJECT DEFINITIONS */
OBJECT = IMAGE_MAP_PROJECTION
  ^DATA_SET_MAP_PROJECTION_CATALOG= "DSMAP.CAT"
  A_AXIS_RADIUS = 3396.0
  B_AXIS_RADIUS = 3396.0
  C_AXIS_RADIUS = 3396.0
  CENTER_LATITUDE = 0.0
  CENTER_LONGITUDE = 356.0
  COORDINATE_SYSTEM_NAME = PLANETOGRAPHIC
  COORDINATE_SYSTEM_TYPE = "BODY-FIXED ROTATING"
  EASTERNMOST_LONGITUDE = 357.203
  FIRST_STANDARD_PARALLEL = "N/A"
  LINE_FIRST_PIXEL = 1
  LINE_LAST_PIXEL = 19905
  LINE_PROJECTION_OFFSET = -20226.875
  MAP_PROJECTION_ROTATION = 0.0
  MAP_PROJECTION_TYPE = SINUSOIDAL
  MAP_RESOLUTION = 1185.42760773333
  MAP_SCALE = 0.05
  MAXIMUM_LATITUDE = -17.0385
  MINIMUM_LATITUDE = -33.8123
  POSITIVE_LONGITUDE_DIRECTION = EAST
  REFERENCE_LATITUDE = "N/A"
  REFERENCE_LONGITUDE = "N/A"
  SAMPLE_FIRST_PIXEL = 1
  SAMPLE_LAST_PIXEL = 2480
  SAMPLE_PROJECTION_OFFSET = 1197.125
  SECOND_STANDARD_PARALLEL = "N/A"
  WESTERNMOST_LONGITUDE = 354.939
END_OBJECT = IMAGE_MAP_PROJECTION
/* The JPEG2000 image data file associated with this label. */
OBJECT = COMPRESSED_FILE
  FILE_NAME = "H6438_0000_P13.JP2"
  RECORD_TYPE = UNDEFINED
  FILE_RECORDS = UNK
  ENCODING_TYPE = "JP2"
  INTERCHANGE_FORMAT = BINARY
  UNCOMPRESSED_FILE_NAME = "H6438_0000_P13.IMG"
  REQUIRED_STORAGE_BYTES = "49384240"
  ^DESCRIPTION = "JP2INFO.TXT"
END_OBJECT = COMPRESSED_FILE
END
