PDS_VERSION_ID = PDS3
/* FILE DATA ELEMENTS */
RECORD_TYPE = STREAM
/* POINTERS TO DATA OBJECTS */
^COMPRESSED_FILE = "H6442_0000_IR3.JP2"
/* IDENTIFICATION DATA ELEMENTS */
DATA_SET_ID = "MEX-M-HRSC-5-REFDR-MAPPROJECTED-V3.0"
DATA_SET_NAME = "MARS EXPRESS HRSC MAP PROJECTED REFDR V3.0"
DETECTOR_ID = MEX_HRSC_IR
EVENT_TYPE = "MARS-REGIONAL-MAPPING-Im-Fl-Pf"
INSTRUMENT_HOST_ID = MEX
INSTRUMENT_HOST_NAME = "MARS EXPRESS"
INSTRUMENT_ID = HRSC
INSTRUMENT_NAME = "HIGH RESOLUTION STEREO CAMERA"
MISSION_NAME = "MARS EXPRESS"
MISSION_PHASE_NAME = ME_Phase_15
PROCESSING_LEVEL_ID = 3
PRODUCT_CREATION_TIME = 2016-06-28T15:33:21.000Z
PRODUCT_ID = "H6442_0000_IR3.JP2"
RELEASE_ID = 0072
REVISION_ID = 0000
/* QUALITY DATA ELEMENTS */
DATA_QUALITY_ID = 1
DATA_QUALITY_DESC = "Data calculated based on original SPICE kernels"
/* TIME DATA ELEMENTS */
SPACECRAFT_CLOCK_START_COUNT = "1/0179429590.09042"
SPACECRAFT_CLOCK_STOP_COUNT = "1/0179429925.42781"
START_TIME = 2009-01-07T17:34:11.120Z
STOP_TIME = 2009-01-07T17:38:36.082Z
/* ORBITAL DATA ELEMENTS */
ASCENDING_NODE_LONGITUDE = 95.02
MAXIMUM_RESOLUTION = 121.9
FOOTPRINT_POINT_LATITUDE = (-38.4088,-38.4069,-38.4046,-38.4021, -38.3993,-38.3146,-38.0661,-37.7941, -37.5016,-37.2029,-36.9078,-36.6162, -36.3215,-36.0284,-35.7367,-35.2967, -35.0038,-34.715,-34.4259,-34.1379, -33.8505,-33.5638,-33.1308,-32.838, -32.5467,-32.2541,-31.9554,-31.6572, -31.3599,-31.0556,-30.7512,-30.4468, -30.1377,-29.6744,-29.2036,-28.8899, -28.572,-28.0949,-27.7711,-27.2855, -26.7947,-26.2912,-25.9564,-25.6166, -25.276,-24.9319,-24.416,-24.0635, -23.5342,-23.1812,-23.0055,-23.002, -22.9987,-22.9951,-22.993,-22.991, -23.3497,-23.704,-24.2311,-24.5813, -24.9263,-25.2706,-25.6106,-25.9504, -26.2861,-26.6215,-26.9521,-27.2832, -27.7703,-28.0949,-28.4147,-28.8939, -29.2084,-29.6799,-29.9886,-30.4536, -30.9094,-31.2135,-31.6644,-32.1126, -32.4094,-32.7017,-32.9946,-33.4315, -33.7183,-34.0057,-34.2939,-34.5822, -35.0192,-35.3113,-35.6025,-35.8921, -36.1873,-36.6217,-37.0595,-37.358, -37.6581,-38.0776,-38.332,-38.4088)
FOOTPRINT_POINT_LONGITUDE = (316.219,315.982,315.745,315.508, 315.269,314.982,314.989,314.999,315.005 ,315.015,315.022,315.027,315.034,315.04 ,315.045,315.055,315.061,315.065, 315.068,315.072,315.075,315.077,315.081 ,315.083,315.084,315.086,315.087, 315.088,315.089,315.09,315.091,315.091, 315.091,315.09,315.088,315.087,315.085, 315.081,315.078,315.073,315.066,315.063 ,315.058,315.054,315.05,315.045,315.034 ,315.03,315.019,315.01,315.195,315.579, 315.999,316.38,316.628,317.04,317.031, 317.023,317.011,317.002,316.994,316.986 ,316.978,316.97,316.962,316.954,316.946 ,316.938,316.926,316.918,316.91,316.897 ,316.889,316.876,316.868,316.855, 316.842,316.834,316.821,316.808,316.799 ,316.79,316.781,316.768,316.759,316.749 ,316.74,316.731,316.717,316.708,316.698 ,316.687,316.678,316.661,316.644, 316.635,316.625,316.612,316.604, 316.219)
ORBIT_NUMBER = 6442
ORBITAL_ECCENTRICITY = 0.574
ORBITAL_INCLINATION = 86.77
ORBITAL_SEMIMAJOR_AXIS = 8668.35
PERIAPSIS_ALTITUDE = 305.92
PERIAPSIS_ARGUMENT_ANGLE = 305.81
PERIAPSIS_TIME = 2009-01-07T17:29:46.000Z
SPACECRAFT_ORIENTATION = (0.0,1.0,0.0)
^MEX_ORIENTATION_DESC = "MEX_ORIENTATION_DESC.TXT"
SPACECRAFT_POINTING_MODE = ACROSSTRACK
^MEX_POINTING_DESC = "MEX_POINTING_DESC.TXT"
RIGHT_ASCENSION = -1e+32
DECLINATION = -1e+32
OFFSET_ANGLE = 0.2
SPACECRAFT_SOLAR_DISTANCE = 2.16954e+08
TARGET_NAME = MARS
/* CAMERA DATA ELEMENTS */
DETECTOR_TEMPERATURE = 17.5549
FOCAL_PLANE_TEMPERATURE = 8.5833
INST_CMPRS_NAME = "DISCRETE COSINE TRANSFORMATION (DCT)"
INST_CMPRS_RATIO = 25.3519
INST_CMPRS_QUALITY = 0
INST_CMPRS_QUANTZ_TBL_ID = 0
INSTRUMENT_TEMPERATURE = 11.0301
LENS_TEMPERATURE = 7.156
MACROPIXEL_SIZE = 8
MISSING_FRAMES = 0
PIXEL_SUBSAMPLING_FLAG = N
SIGNAL_CHAIN_ID = 2
/* RADIOMETRIC DATA ELEMENTS */
BANDWIDTH = 81.0
CENTER_FILTER_WAVELENGTH = 955.5
RADIANCE_OFFSET = 0.888829
RADIANCE_SCALING_FACTOR = 0.00254036
REFLECTANCE_SCALING_FACTOR = 0.000257963
MEX:REFLECTANCE_OFFSET = 0.090257
/* IMAGE OBJECT DEFINITIONS */
OBJECT = IMAGE
  INTERCHANGE_FORMAT = BINARY
  LINES = 9158
  LINE_SAMPLES = 1070
  SAMPLE_TYPE = UNSIGNED_INTEGER
  SAMPLE_BITS = 8
  BANDS = 1
  BAND_STORAGE_TYPE = BAND_SEQUENTIAL
  MAXIMUM = 255
  MEAN = 104.086
  MINIMUM = 1
  STANDARD_DEVIATION = 29.6578
END_OBJECT = IMAGE
/* MAP OBJECT DEFINITIONS */
OBJECT = IMAGE_MAP_PROJECTION
  ^DATA_SET_MAP_PROJECTION_CATALOG= "DSMAP.CAT"
  A_AXIS_RADIUS = 3396.0
  B_AXIS_RADIUS = 3396.0
  C_AXIS_RADIUS = 3396.0
  CENTER_LATITUDE = 0.0
  CENTER_LONGITUDE = 316.0
  COORDINATE_SYSTEM_NAME = PLANETOGRAPHIC
  COORDINATE_SYSTEM_TYPE = "BODY-FIXED ROTATING"
  EASTERNMOST_LONGITUDE = 317.04
  FIRST_STANDARD_PARALLEL = "N/A"
  LINE_FIRST_PIXEL = 1
  LINE_LAST_PIXEL = 9158
  LINE_PROJECTION_OFFSET = -13647.5625
  MAP_PROJECTION_ROTATION = 0.0
  MAP_PROJECTION_TYPE = SINUSOIDAL
  MAP_RESOLUTION = 592.713803866667
  MAP_SCALE = 0.1
  MAXIMUM_LATITUDE = -22.991
  MINIMUM_LATITUDE = -38.4088
  POSITIVE_LONGITUDE_DIRECTION = EAST
  REFERENCE_LATITUDE = "N/A"
  REFERENCE_LONGITUDE = "N/A"
  SAMPLE_FIRST_PIXEL = 1
  SAMPLE_LAST_PIXEL = 1070
  SAMPLE_PROJECTION_OFFSET = 534.5625
  SECOND_STANDARD_PARALLEL = "N/A"
  WESTERNMOST_LONGITUDE = 314.982
END_OBJECT = IMAGE_MAP_PROJECTION
/* The JPEG2000 image data file associated with this label. */
OBJECT = COMPRESSED_FILE
  FILE_NAME = "H6442_0000_IR3.JP2"
  RECORD_TYPE = UNDEFINED
  FILE_RECORDS = UNK
  ENCODING_TYPE = "JP2"
  INTERCHANGE_FORMAT = BINARY
  UNCOMPRESSED_FILE_NAME = "H6442_0000_IR3.IMG"
  REQUIRED_STORAGE_BYTES = "9817250"
  ^DESCRIPTION = "JP2INFO.TXT"
END_OBJECT = COMPRESSED_FILE
END
