PDS_VERSION_ID = PDS3
/* FILE DATA ELEMENTS */
RECORD_TYPE = STREAM
/* POINTERS TO DATA OBJECTS */
^COMPRESSED_FILE = "H6449_0000_BL3.JP2"
/* IDENTIFICATION DATA ELEMENTS */
DATA_SET_ID = "MEX-M-HRSC-5-REFDR-MAPPROJECTED-V3.0"
DATA_SET_NAME = "MARS EXPRESS HRSC MAP PROJECTED REFDR V3.0"
DETECTOR_ID = MEX_HRSC_BLUE
EVENT_TYPE = "MARS-REGIONAL-MAPPING-Im-Fl"
INSTRUMENT_HOST_ID = MEX
INSTRUMENT_HOST_NAME = "MARS EXPRESS"
INSTRUMENT_ID = HRSC
INSTRUMENT_NAME = "HIGH RESOLUTION STEREO CAMERA"
MISSION_NAME = "MARS EXPRESS"
MISSION_PHASE_NAME = ME_Phase_15
PROCESSING_LEVEL_ID = 3
PRODUCT_CREATION_TIME = 2016-06-28T15:33:21.000Z
PRODUCT_ID = "H6449_0000_BL3.JP2"
RELEASE_ID = 0072
REVISION_ID = 0000
/* QUALITY DATA ELEMENTS */
DATA_QUALITY_ID = 1
DATA_QUALITY_DESC = "Data calculated based on original SPICE kernels"
/* TIME DATA ELEMENTS */
SPACECRAFT_CLOCK_START_COUNT = "1/0179601976.08247"
SPACECRAFT_CLOCK_STOP_COUNT = "1/0179602216.62573"
START_TIME = 2009-01-09T17:26:41.321Z
STOP_TIME = 2009-01-09T17:29:38.505Z
/* ORBITAL DATA ELEMENTS */
ASCENDING_NODE_LONGITUDE = 94.88
MAXIMUM_RESOLUTION = 98.1
FOOTPRINT_POINT_LATITUDE = (-51.5466,-51.5409,-51.5331,-51.5099, -51.2885,-51.0671,-50.735,-50.5134, -50.2919,-50.0705,-49.8493,-49.6283, -49.407,-49.1857,-48.9633,-48.7416, -48.5206,-48.2919,-48.0629,-47.8341, -47.6059,-47.3785,-47.1498,-46.8068, -46.5779,-46.3494,-46.1211,-45.8931, -45.6649,-45.4366,-45.0951,-44.8591, -44.6235,-44.3878,-44.1523,-43.9165, -43.6809,-43.4454,-43.2104,-42.9753, -42.7405,-42.5009,-42.2586,-42.0152, -41.6505,-41.4085,-41.1669,-40.8043, -40.5629,-40.3223,-40.0832,-39.856, -39.8606,-39.8614,-39.9834,-40.224, -40.4653,-40.7073,-40.9492,-41.1907, -41.4328,-41.7967,-42.0396,-42.2824, -42.5254,-42.7648,-43.1175,-43.3531, -43.5886,-43.8243,-44.0606,-44.2967, -44.5327,-44.8866,-45.1222,-45.3502, -45.6933,-46.0364,-46.2652,-46.4941, -46.7231,-46.9518,-47.2953,-47.5246, -47.7539,-47.9833,-48.2129,-48.442, -48.6668,-48.8884,-49.109,-49.3308, -49.6642,-49.8856,-50.2184,-50.4403, -50.6623,-50.995,-51.2169,-51.5466)
FOOTPRINT_POINT_LONGITUDE = (336.322,335.806,335.302,334.822, 334.837,334.852,334.873,334.887,334.901 ,334.914,334.927,334.939,334.951, 334.963,334.977,334.989,335.0,335.012, 335.023,335.033,335.043,335.051,335.061 ,335.076,335.085,335.094,335.103, 335.111,335.12,335.128,335.139,335.147, 335.154,335.162,335.169,335.176,335.183 ,335.19,335.196,335.202,335.207,335.213 ,335.218,335.225,335.234,335.238, 335.243,335.249,335.253,335.256,335.258 ,335.261,335.935,336.357,336.853, 336.853,336.85,336.844,336.84,336.839, 336.834,336.826,336.819,336.814,336.808 ,336.805,336.799,336.793,336.789, 336.783,336.775,336.769,336.764,336.757 ,336.752,336.75,336.74,336.731,336.725, 336.719,336.713,336.709,336.7,336.694, 336.687,336.68,336.672,336.667,336.66, 336.653,336.654,336.646,336.63,336.626, 336.614,336.607,336.598,336.589,336.581 ,336.322)
ORBIT_NUMBER = 6449
ORBITAL_ECCENTRICITY = 0.574
ORBITAL_INCLINATION = 86.77
ORBITAL_SEMIMAJOR_AXIS = 8666.36
PERIAPSIS_ALTITUDE = 305.7
PERIAPSIS_ARGUMENT_ANGLE = 304.59
PERIAPSIS_TIME = 2009-01-09T17:25:49.000Z
SPACECRAFT_ORIENTATION = (0.0,1.0,0.0)
^MEX_ORIENTATION_DESC = "MEX_ORIENTATION_DESC.TXT"
SPACECRAFT_POINTING_MODE = ACROSSTRACK
^MEX_POINTING_DESC = "MEX_POINTING_DESC.TXT"
RIGHT_ASCENSION = -1e+32
DECLINATION = -1e+32
OFFSET_ANGLE = -0.8
SPACECRAFT_SOLAR_DISTANCE = 2.16605e+08
TARGET_NAME = MARS
/* CAMERA DATA ELEMENTS */
DETECTOR_TEMPERATURE = 18.3705
FOCAL_PLANE_TEMPERATURE = 9.195
INST_CMPRS_NAME = "DISCRETE COSINE TRANSFORMATION (DCT)"
INST_CMPRS_RATIO = 19.664
INST_CMPRS_QUALITY = 0
INST_CMPRS_QUANTZ_TBL_ID = 0
INSTRUMENT_TEMPERATURE = 11.0301
LENS_TEMPERATURE = 9.195
MACROPIXEL_SIZE = 8
MISSING_FRAMES = 0
PIXEL_SUBSAMPLING_FLAG = N
SIGNAL_CHAIN_ID = 2
/* RADIOMETRIC DATA ELEMENTS */
BANDWIDTH = 76.0
CENTER_FILTER_WAVELENGTH = 444.0
RADIANCE_OFFSET = 0.622691
RADIANCE_SCALING_FACTOR = 0.00128661
REFLECTANCE_SCALING_FACTOR = 6.20211e-05
MEX:REFLECTANCE_OFFSET = 0.030017
/* IMAGE OBJECT DEFINITIONS */
OBJECT = IMAGE
  INTERCHANGE_FORMAT = BINARY
  LINES = 6932
  LINE_SAMPLES = 878
  SAMPLE_TYPE = UNSIGNED_INTEGER
  SAMPLE_BITS = 8
  BANDS = 1
  BAND_STORAGE_TYPE = BAND_SEQUENTIAL
  MAXIMUM = 255
  MEAN = 143.43
  MINIMUM = 1
  STANDARD_DEVIATION = 24.5971
END_OBJECT = IMAGE
/* MAP OBJECT DEFINITIONS */
OBJECT = IMAGE_MAP_PROJECTION
  ^DATA_SET_MAP_PROJECTION_CATALOG= "DSMAP.CAT"
  A_AXIS_RADIUS = 3396.0
  B_AXIS_RADIUS = 3396.0
  C_AXIS_RADIUS = 3396.0
  CENTER_LATITUDE = 0.0
  CENTER_LONGITUDE = 336.0
  COORDINATE_SYSTEM_NAME = PLANETOGRAPHIC
  COORDINATE_SYSTEM_TYPE = "BODY-FIXED ROTATING"
  EASTERNMOST_LONGITUDE = 336.853
  FIRST_STANDARD_PARALLEL = "N/A"
  LINE_FIRST_PIXEL = 1
  LINE_LAST_PIXEL = 6932
  LINE_PROJECTION_OFFSET = -23617.5625
  MAP_PROJECTION_ROTATION = 0.0
  MAP_PROJECTION_TYPE = SINUSOIDAL
  MAP_RESOLUTION = 592.713803866667
  MAP_SCALE = 0.1
  MAXIMUM_LATITUDE = -39.856
  MINIMUM_LATITUDE = -51.5466
  POSITIVE_LONGITUDE_DIRECTION = EAST
  REFERENCE_LATITUDE = "N/A"
  REFERENCE_LONGITUDE = "N/A"
  SAMPLE_FIRST_PIXEL = 1
  SAMPLE_LAST_PIXEL = 878
  SAMPLE_PROJECTION_OFFSET = 448.3125
  SECOND_STANDARD_PARALLEL = "N/A"
  WESTERNMOST_LONGITUDE = 334.822
END_OBJECT = IMAGE_MAP_PROJECTION
/* The JPEG2000 image data file associated with this label. */
OBJECT = COMPRESSED_FILE
  FILE_NAME = "H6449_0000_BL3.JP2"
  RECORD_TYPE = UNDEFINED
  FILE_RECORDS = UNK
  ENCODING_TYPE = "JP2"
  INTERCHANGE_FORMAT = BINARY
  UNCOMPRESSED_FILE_NAME = "H6449_0000_BL3.IMG"
  REQUIRED_STORAGE_BYTES = "6104734"
  ^DESCRIPTION = "JP2INFO.TXT"
END_OBJECT = COMPRESSED_FILE
END
