PDS_VERSION_ID = PDS3
/* FILE DATA ELEMENTS */
RECORD_TYPE = STREAM
/* POINTERS TO DATA OBJECTS */
^COMPRESSED_FILE = "H6450_0000_GR3.JP2"
/* IDENTIFICATION DATA ELEMENTS */
DATA_SET_ID = "MEX-M-HRSC-5-REFDR-MAPPROJECTED-V3.0"
DATA_SET_NAME = "MARS EXPRESS HRSC MAP PROJECTED REFDR V3.0"
DETECTOR_ID = MEX_HRSC_GREEN
EVENT_TYPE = "MARS-REGIONAL-MAPPING-Te-Im"
INSTRUMENT_HOST_ID = MEX
INSTRUMENT_HOST_NAME = "MARS EXPRESS"
INSTRUMENT_ID = HRSC
INSTRUMENT_NAME = "HIGH RESOLUTION STEREO CAMERA"
MISSION_NAME = "MARS EXPRESS"
MISSION_PHASE_NAME = ME_Phase_15
PROCESSING_LEVEL_ID = 3
PRODUCT_CREATION_TIME = 2016-06-28T15:33:21.000Z
PRODUCT_ID = "H6450_0000_GR3.JP2"
RELEASE_ID = 0072
REVISION_ID = 0000
/* QUALITY DATA ELEMENTS */
DATA_QUALITY_ID = 1
DATA_QUALITY_DESC = "Data calculated based on original SPICE kernels"
/* TIME DATA ELEMENTS */
SPACECRAFT_CLOCK_START_COUNT = "1/0179626520.08246"
SPACECRAFT_CLOCK_STOP_COUNT = "1/0179626755.48670"
START_TIME = 2009-01-10T00:15:54.880Z
STOP_TIME = 2009-01-10T00:18:52.170Z
/* ORBITAL DATA ELEMENTS */
ASCENDING_NODE_LONGITUDE = 94.86
MAXIMUM_RESOLUTION = 96.6
FOOTPRINT_POINT_LATITUDE = (-58.6769,-58.6672,-58.6563,-58.6447, -58.6341,-58.6213,-58.6146,-58.3783, -58.142,-57.9056,-57.551,-57.2038, -56.9758,-56.7477,-56.5197,-56.2916, -55.9494,-55.6073,-55.3792,-55.151, -54.9229,-54.6947,-54.3525,-54.0115, -53.7837,-53.4417,-53.2137,-52.9857, -52.6357,-52.3992,-52.0449,-51.6904, -51.454,-51.2177,-50.8637,-50.6281, -50.3924,-50.1569,-49.8035,-49.4505, -49.0975,-48.8622,-48.5092,-48.1568, -47.9219,-47.6872,-47.445,-47.202, -46.9591,-46.9542,-46.962,-46.9674, -46.9749,-46.981,-46.989,-47.2323, -47.4758,-47.7191,-47.9544,-48.1899, -48.4254,-48.6611,-48.8968,-49.1327, -49.3686,-49.7227,-49.9588,-50.195, -50.4313,-50.7858,-51.1404,-51.4956, -51.7323,-51.9693,-52.3245,-52.6799, -52.916,-53.1446,-53.4875,-53.7161, -53.9451,-54.174,-54.4031,-54.6319, -54.8609,-55.0898,-55.433,-55.7765, -56.0054,-56.2345,-56.4635,-56.6924, -56.9215,-57.1504,-57.3793,-57.6129, -57.8504,-58.2066,-58.5628,-58.6769)
FOOTPRINT_POINT_LONGITUDE = (234.14,233.866,233.574,233.283,233.029 ,232.738,232.378,232.421,232.462, 232.503,232.562,232.618,232.655,232.69, 232.725,232.759,232.809,232.858,232.889 ,232.921,232.951,232.981,233.025, 233.064,233.091,233.131,233.158,233.184 ,233.226,233.252,233.29,233.327,233.351 ,233.375,233.409,233.43,233.451,233.471 ,233.502,233.53,233.559,233.578,233.606 ,233.632,233.649,233.666,233.682, 233.699,233.716,234.059,234.314,234.508 ,234.793,235.033,235.313,235.3,235.287, 235.274,235.261,235.248,235.234,235.221 ,235.207,235.193,235.179,235.157, 235.142,235.127,235.112,235.088,235.064 ,235.04,235.023,235.007,234.98,234.954, 234.936,234.919,234.891,234.873,234.855 ,234.837,234.818,234.799,234.779, 234.759,234.728,234.697,234.676,234.654 ,234.633,234.61,234.588,234.564,234.541 ,234.516,234.491,234.453,234.414, 234.14)
ORBIT_NUMBER = 6450
ORBITAL_ECCENTRICITY = 0.575
ORBITAL_INCLINATION = 86.77
ORBITAL_SEMIMAJOR_AXIS = 8667.48
PERIAPSIS_ALTITUDE = 304.91
PERIAPSIS_ARGUMENT_ANGLE = 304.4
PERIAPSIS_TIME = 2009-01-10T00:16:39.000Z
SPACECRAFT_ORIENTATION = (0.0,1.0,0.0)
^MEX_ORIENTATION_DESC = "MEX_ORIENTATION_DESC.TXT"
SPACECRAFT_POINTING_MODE = NADIR
^MEX_POINTING_DESC = "MEX_POINTING_DESC.TXT"
RIGHT_ASCENSION = -1e+32
DECLINATION = -1e+32
OFFSET_ANGLE = -1e+32
SPACECRAFT_SOLAR_DISTANCE = 2.16556e+08
TARGET_NAME = MARS
/* CAMERA DATA ELEMENTS */
DETECTOR_TEMPERATURE = 18.5744
FOCAL_PLANE_TEMPERATURE = 8.3794
INST_CMPRS_NAME = "DISCRETE COSINE TRANSFORMATION (DCT)"
INST_CMPRS_RATIO = 19.4071
INST_CMPRS_QUALITY = 0
INST_CMPRS_QUANTZ_TBL_ID = 0
INSTRUMENT_TEMPERATURE = 11.234
LENS_TEMPERATURE = 8.7872
MACROPIXEL_SIZE = 8
MISSING_FRAMES = 0
PIXEL_SUBSAMPLING_FLAG = N
SIGNAL_CHAIN_ID = 2
/* RADIOMETRIC DATA ELEMENTS */
BANDWIDTH = 88.0
CENTER_FILTER_WAVELENGTH = 538.0
RADIANCE_OFFSET = 1.24944
RADIANCE_SCALING_FACTOR = 0.00955144
REFLECTANCE_SCALING_FACTOR = 0.000385656
MEX:REFLECTANCE_OFFSET = 0.0504483
/* IMAGE OBJECT DEFINITIONS */
OBJECT = IMAGE
  INTERCHANGE_FORMAT = BINARY
  LINES = 6962
  LINE_SAMPLES = 1058
  SAMPLE_TYPE = UNSIGNED_INTEGER
  SAMPLE_BITS = 8
  BANDS = 1
  BAND_STORAGE_TYPE = BAND_SEQUENTIAL
  MAXIMUM = 255
  MEAN = 55.7226
  MINIMUM = 1
  STANDARD_DEVIATION = 34.451
END_OBJECT = IMAGE
/* MAP OBJECT DEFINITIONS */
OBJECT = IMAGE_MAP_PROJECTION
  ^DATA_SET_MAP_PROJECTION_CATALOG= "DSMAP.CAT"
  A_AXIS_RADIUS = 3396.0
  B_AXIS_RADIUS = 3396.0
  C_AXIS_RADIUS = 3396.0
  CENTER_LATITUDE = 0.0
  CENTER_LONGITUDE = 234.0
  COORDINATE_SYSTEM_NAME = PLANETOGRAPHIC
  COORDINATE_SYSTEM_TYPE = "BODY-FIXED ROTATING"
  EASTERNMOST_LONGITUDE = 235.313
  FIRST_STANDARD_PARALLEL = "N/A"
  LINE_FIRST_PIXEL = 1
  LINE_LAST_PIXEL = 6962
  LINE_PROJECTION_OFFSET = -27829.5625
  MAP_PROJECTION_ROTATION = 0.0
  MAP_PROJECTION_TYPE = SINUSOIDAL
  MAP_RESOLUTION = 592.713803866667
  MAP_SCALE = 0.1
  MAXIMUM_LATITUDE = -46.9542
  MINIMUM_LATITUDE = -58.6769
  POSITIVE_LONGITUDE_DIRECTION = EAST
  REFERENCE_LATITUDE = "N/A"
  REFERENCE_LONGITUDE = "N/A"
  SAMPLE_FIRST_PIXEL = 1
  SAMPLE_LAST_PIXEL = 1058
  SAMPLE_PROJECTION_OFFSET = 512.9375
  SECOND_STANDARD_PARALLEL = "N/A"
  WESTERNMOST_LONGITUDE = 232.378
END_OBJECT = IMAGE_MAP_PROJECTION
/* The JPEG2000 image data file associated with this label. */
OBJECT = COMPRESSED_FILE
  FILE_NAME = "H6450_0000_GR3.JP2"
  RECORD_TYPE = UNDEFINED
  FILE_RECORDS = UNK
  ENCODING_TYPE = "JP2"
  INTERCHANGE_FORMAT = BINARY
  UNCOMPRESSED_FILE_NAME = "H6450_0000_GR3.IMG"
  REQUIRED_STORAGE_BYTES = "7383782"
  ^DESCRIPTION = "JP2INFO.TXT"
END_OBJECT = COMPRESSED_FILE
END
