PDS_VERSION_ID = PDS3
/* FILE DATA ELEMENTS */
RECORD_TYPE = STREAM
/* POINTERS TO DATA OBJECTS */
^COMPRESSED_FILE = "H6452_0000_IR3.JP2"
/* IDENTIFICATION DATA ELEMENTS */
DATA_SET_ID = "MEX-M-HRSC-5-REFDR-MAPPROJECTED-V3.0"
DATA_SET_NAME = "MARS EXPRESS HRSC MAP PROJECTED REFDR V3.0"
DETECTOR_ID = MEX_HRSC_IR
EVENT_TYPE = "MARS-REGIONAL-MAPPING-Te-Im-Fl"
INSTRUMENT_HOST_ID = MEX
INSTRUMENT_HOST_NAME = "MARS EXPRESS"
INSTRUMENT_ID = HRSC
INSTRUMENT_NAME = "HIGH RESOLUTION STEREO CAMERA"
MISSION_NAME = "MARS EXPRESS"
MISSION_PHASE_NAME = ME_Phase_15
PROCESSING_LEVEL_ID = 3
PRODUCT_CREATION_TIME = 2016-06-28T15:33:21.000Z
PRODUCT_ID = "H6452_0000_IR3.JP2"
RELEASE_ID = 0072
REVISION_ID = 0000
/* QUALITY DATA ELEMENTS */
DATA_QUALITY_ID = 2
DATA_QUALITY_DESC = "Data calculated based on photogrammetrically improved orbit and attitude data"
/* TIME DATA ELEMENTS */
SPACECRAFT_CLOCK_START_COUNT = "1/0179676252.08254"
SPACECRAFT_CLOCK_STOP_COUNT = "1/0179676723.03573"
START_TIME = 2009-01-10T14:05:29.056Z
STOP_TIME = 2009-01-10T14:11:44.920Z
/* ORBITAL DATA ELEMENTS */
ASCENDING_NODE_LONGITUDE = 94.82
MAXIMUM_RESOLUTION = 75.6
FOOTPRINT_POINT_LATITUDE = (-30.7519,-30.7395,-30.7381,-30.2648, -29.6265,-29.3033,-28.812,-28.4845, -28.1518,-27.818,-27.4804,-27.1422, -26.7999,-26.4564,-25.9424,-25.5862, -25.2311,-24.879,-24.3405,-23.9786, -23.607,-23.238,-22.8673,-22.4951, -22.1135,-21.5396,-21.1551,-20.5701, -20.1775,-19.7806,-19.3789,-18.9738, -18.3653,-17.9514,-17.5222,-17.1059, -16.6762,-16.0282,-15.5926,-15.1532, -14.71,-14.2603,-13.8077,-13.3506, -12.889,-12.4227,-11.9514,-11.4759, -11.3416,-11.3377,-11.3339,-11.3304, -11.3258,-11.3231,-11.5643,-12.0416, -12.5148,-12.9803,-13.4452,-13.9029, -14.3554,-14.8047,-15.2495,-15.691, -16.1279,-16.5604,-16.989,-17.4131, -17.8436,-18.2592,-18.8782,-19.2903, -19.6841,-20.0816,-20.678,-21.0672, -21.4528,-21.8483,-22.2293,-22.7846, -23.1587,-23.531,-23.899,-24.2626, -24.6251,-24.9808,-25.5136,-25.8674, -26.2164,-26.7341,-27.0817,-27.589, -27.9269,-28.2607,-28.5942,-28.9233, -29.2518,-29.8979,-30.6968,-30.7519)
FOOTPRINT_POINT_LONGITUDE = (35.5705,35.0222,34.4911,34.4847, 34.4754,34.4704,34.4625,34.4567,34.4506 ,34.4443,34.4377,34.4306,34.4233, 34.4157,34.4025,34.3947,34.3861,34.3761 ,34.3613,34.3511,34.341,34.33,34.3184, 34.3059,34.2941,34.2748,34.2611,34.2398 ,34.2249,34.2096,34.1937,34.1774,34.151 ,34.1333,34.1146,34.0947,34.0758, 34.0454,34.0242,34.0023,33.9795,33.9563 ,33.9321,33.9073,33.8816,33.855,33.8277 ,33.7994,34.1654,34.7037,35.0545, 35.4878,36.0592,36.4416,36.6928,36.6828 ,36.673,36.6624,36.6541,36.6445,36.6346 ,36.626,36.6173,36.6095,36.6016,36.5936 ,36.5859,36.5782,36.57,36.5621,36.5517, 36.5478,36.5351,36.527,36.5186,36.5109, 36.5029,36.5032,36.4967,36.4802,36.475, 36.4697,36.4638,36.4576,36.4515,36.444, 36.435,36.4299,36.4243,36.415,36.4115, 36.4022,36.3975,36.3915,36.3867,36.3812 ,36.3753,36.3624,36.3489,35.5705)
ORBIT_NUMBER = 6452
ORBITAL_ECCENTRICITY = 0.575
ORBITAL_INCLINATION = 86.76
ORBITAL_SEMIMAJOR_AXIS = 8669.48
PERIAPSIS_ALTITUDE = 305.85
PERIAPSIS_ARGUMENT_ANGLE = 304.07
PERIAPSIS_TIME = 2009-01-10T13:58:27.000Z
SPACECRAFT_ORIENTATION = (0.0,1.0,0.0)
^MEX_ORIENTATION_DESC = "MEX_ORIENTATION_DESC.TXT"
SPACECRAFT_POINTING_MODE = ACROSSTRACK
^MEX_POINTING_DESC = "MEX_POINTING_DESC.TXT"
RIGHT_ASCENSION = -1e+32
DECLINATION = -1e+32
OFFSET_ANGLE = -0.6
SPACECRAFT_SOLAR_DISTANCE = 2.16457e+08
TARGET_NAME = MARS
/* CAMERA DATA ELEMENTS */
DETECTOR_TEMPERATURE = 17.1471
FOCAL_PLANE_TEMPERATURE = 8.3794
INST_CMPRS_NAME = "DISCRETE COSINE TRANSFORMATION (DCT)"
INST_CMPRS_RATIO = 12.3541
INST_CMPRS_QUALITY = 0
INST_CMPRS_QUANTZ_TBL_ID = 0
INSTRUMENT_TEMPERATURE = 11.4379
LENS_TEMPERATURE = 8.7872
MACROPIXEL_SIZE = 4
MISSING_FRAMES = 1
PIXEL_SUBSAMPLING_FLAG = N
SIGNAL_CHAIN_ID = 2
/* RADIOMETRIC DATA ELEMENTS */
BANDWIDTH = 81.0
CENTER_FILTER_WAVELENGTH = 955.5
RADIANCE_OFFSET = 0.928614
RADIANCE_SCALING_FACTOR = 0.0053666
REFLECTANCE_SCALING_FACTOR = 0.000542458
MEX:REFLECTANCE_OFFSET = 0.0938646
/* IMAGE OBJECT DEFINITIONS */
OBJECT = IMAGE
  INTERCHANGE_FORMAT = BINARY
  LINES = 23054
  LINE_SAMPLES = 3106
  SAMPLE_TYPE = UNSIGNED_INTEGER
  SAMPLE_BITS = 8
  BANDS = 1
  BAND_STORAGE_TYPE = BAND_SEQUENTIAL
  MAXIMUM = 255
  MEAN = 89.1213
  MINIMUM = 1
  STANDARD_DEVIATION = 32.8753
END_OBJECT = IMAGE
/* MAP OBJECT DEFINITIONS */
OBJECT = IMAGE_MAP_PROJECTION
  ^DATA_SET_MAP_PROJECTION_CATALOG= "DSMAP.CAT"
  A_AXIS_RADIUS = 3396.0
  B_AXIS_RADIUS = 3396.0
  C_AXIS_RADIUS = 3396.0
  CENTER_LATITUDE = 0.0
  CENTER_LONGITUDE = 35.0
  COORDINATE_SYSTEM_NAME = PLANETOGRAPHIC
  COORDINATE_SYSTEM_TYPE = "BODY-FIXED ROTATING"
  EASTERNMOST_LONGITUDE = 36.6928
  FIRST_STANDARD_PARALLEL = "N/A"
  LINE_FIRST_PIXEL = 1
  LINE_LAST_PIXEL = 23054
  LINE_PROJECTION_OFFSET = -13446.375
  MAP_PROJECTION_ROTATION = 0.0
  MAP_PROJECTION_TYPE = SINUSOIDAL
  MAP_RESOLUTION = 1185.42760773333
  MAP_SCALE = 0.05
  MAXIMUM_LATITUDE = -11.3231
  MINIMUM_LATITUDE = -30.7519
  POSITIVE_LONGITUDE_DIRECTION = EAST
  REFERENCE_LATITUDE = "N/A"
  REFERENCE_LONGITUDE = "N/A"
  SAMPLE_FIRST_PIXEL = 1
  SAMPLE_LAST_PIXEL = 3106
  SAMPLE_PROJECTION_OFFSET = 1264.875
  SECOND_STANDARD_PARALLEL = "N/A"
  WESTERNMOST_LONGITUDE = 33.7994
END_OBJECT = IMAGE_MAP_PROJECTION
/* The JPEG2000 image data file associated with this label. */
OBJECT = COMPRESSED_FILE
  FILE_NAME = "H6452_0000_IR3.JP2"
  RECORD_TYPE = UNDEFINED
  FILE_RECORDS = UNK
  ENCODING_TYPE = "JP2"
  INTERCHANGE_FORMAT = BINARY
  UNCOMPRESSED_FILE_NAME = "H6452_0000_IR3.IMG"
  REQUIRED_STORAGE_BYTES = "71630572"
  ^DESCRIPTION = "JP2INFO.TXT"
END_OBJECT = COMPRESSED_FILE
END
