PDS_VERSION_ID = PDS3
/* FILE DATA ELEMENTS */
RECORD_TYPE = STREAM
/* POINTERS TO DATA OBJECTS */
^COMPRESSED_FILE = "H6456_0000_GR3.JP2"
/* IDENTIFICATION DATA ELEMENTS */
DATA_SET_ID = "MEX-M-HRSC-5-REFDR-MAPPROJECTED-V3.0"
DATA_SET_NAME = "MARS EXPRESS HRSC MAP PROJECTED REFDR V3.0"
DETECTOR_ID = MEX_HRSC_GREEN
EVENT_TYPE = "MARS-REGIONAL-MAPPING-Im-Fl"
INSTRUMENT_HOST_ID = MEX
INSTRUMENT_HOST_NAME = "MARS EXPRESS"
INSTRUMENT_ID = HRSC
INSTRUMENT_NAME = "HIGH RESOLUTION STEREO CAMERA"
MISSION_NAME = "MARS EXPRESS"
MISSION_PHASE_NAME = ME_Phase_15
PROCESSING_LEVEL_ID = 3
PRODUCT_CREATION_TIME = 2016-06-28T15:33:21.000Z
PRODUCT_ID = "H6456_0000_GR3.JP2"
RELEASE_ID = 0072
REVISION_ID = 0000
/* QUALITY DATA ELEMENTS */
DATA_QUALITY_ID = 2
DATA_QUALITY_DESC = "Data calculated based on photogrammetrically improved orbit and attitude data"
/* TIME DATA ELEMENTS */
SPACECRAFT_CLOCK_START_COUNT = "1/0179774825.07290"
SPACECRAFT_CLOCK_STOP_COUNT = "1/0179775261.27969"
START_TIME = 2009-01-11T17:27:50.196Z
STOP_TIME = 2009-01-11T17:33:11.841Z
/* ORBITAL DATA ELEMENTS */
ASCENDING_NODE_LONGITUDE = 94.74
MAXIMUM_RESOLUTION = 65.2
FOOTPRINT_POINT_LATITUDE = (-33.9327,-33.9272,-33.9205,-33.3085, -32.8411,-32.5278,-32.055,-31.7355, -31.4165,-31.0933,-30.7673,-30.4426, -29.9456,-29.6144,-29.1087,-28.7715, -28.4287,-28.0853,-27.7392,-27.3889, -26.8601,-26.5052,-26.1449,-25.7851, -25.418,-24.8652,-24.4931,-24.1169, -23.5474,-23.1639,-22.7756,-22.3856, -21.9909,-21.5925,-21.1915,-20.7862, -20.3763,-19.9634,-19.5474,-19.1257, -18.7002,-18.2707,-17.8376,-17.3996, -16.9572,-16.5105,-16.0588,-15.6025, -15.293,-15.2854,-15.2807,-15.2745, -15.2681,-15.7292,-16.1856,-16.6376, -17.0849,-17.5275,-17.9654,-18.3979, -18.827,-19.2532,-19.6737,-20.0911, -20.5033,-20.9125,-21.3187,-21.7197, -22.1169,-22.5121,-22.902,-23.4814, -24.0534,-24.4314,-24.8042,-25.1756, -25.5432,-26.089,-26.451,-26.8068, -27.3385,-27.6883,-28.0369,-28.3808, -28.7257,-29.0634,-29.4016,-29.9027, -30.2351,-30.7273,-31.0536,-31.3785, -31.698,-32.0185,-32.3367,-32.65, -32.964,-33.2766,-33.8909,-33.9327)
FOOTPRINT_POINT_LONGITUDE = (354.909,354.403,353.932,353.815, 353.814,353.813,353.81,353.808,353.806, 353.803,353.801,353.797,353.792,353.788 ,353.782,353.777,353.772,353.766,353.76 ,353.755,353.744,353.737,353.73,353.722 ,353.714,353.702,353.692,353.683, 353.668,353.658,353.647,353.635,353.624 ,353.612,353.599,353.586,353.572, 353.558,353.543,353.528,353.512,353.496 ,353.478,353.461,353.443,353.424, 353.405,353.385,353.754,354.503,354.867 ,355.302,355.816,355.81,355.804,355.799 ,355.793,355.787,355.781,355.774, 355.768,355.766,355.758,355.752,355.747 ,355.742,355.737,355.732,355.726, 355.721,355.715,355.707,355.699,355.693 ,355.687,355.681,355.676,355.667, 355.662,355.657,355.649,355.643,355.637 ,355.631,355.626,355.621,355.614, 355.607,355.601,355.592,355.587,355.582 ,355.576,355.571,355.565,355.56,355.554 ,355.548,355.536,354.909)
ORBIT_NUMBER = 6456
ORBITAL_ECCENTRICITY = 0.574
ORBITAL_INCLINATION = 86.76
ORBITAL_SEMIMAJOR_AXIS = 8665.9
PERIAPSIS_ALTITUDE = 305.75
PERIAPSIS_ARGUMENT_ANGLE = 303.37
PERIAPSIS_TIME = 2009-01-11T17:21:57.000Z
SPACECRAFT_ORIENTATION = (0.0,1.0,0.0)
^MEX_ORIENTATION_DESC = "MEX_ORIENTATION_DESC.TXT"
SPACECRAFT_POINTING_MODE = ACROSSTRACK
^MEX_POINTING_DESC = "MEX_POINTING_DESC.TXT"
RIGHT_ASCENSION = -1e+32
DECLINATION = -1e+32
OFFSET_ANGLE = -0.5
SPACECRAFT_SOLAR_DISTANCE = 2.16261e+08
TARGET_NAME = MARS
/* CAMERA DATA ELEMENTS */
DETECTOR_TEMPERATURE = 16.5354
FOCAL_PLANE_TEMPERATURE = 7.7677
INST_CMPRS_NAME = "DISCRETE COSINE TRANSFORMATION (DCT)"
INST_CMPRS_RATIO = 11.2439
INST_CMPRS_QUALITY = 0
INST_CMPRS_QUANTZ_TBL_ID = 0
INSTRUMENT_TEMPERATURE = 11.6418
LENS_TEMPERATURE = 8.1755
MACROPIXEL_SIZE = 4
MISSING_FRAMES = 0
PIXEL_SUBSAMPLING_FLAG = N
SIGNAL_CHAIN_ID = 2
/* RADIOMETRIC DATA ELEMENTS */
BANDWIDTH = 88.0
CENTER_FILTER_WAVELENGTH = 538.0
RADIANCE_OFFSET = 1.48528
RADIANCE_SCALING_FACTOR = 0.00536781
REFLECTANCE_SCALING_FACTOR = 0.000216141
MEX:REFLECTANCE_OFFSET = 0.0598067
/* IMAGE OBJECT DEFINITIONS */
OBJECT = IMAGE
  INTERCHANGE_FORMAT = BINARY
  LINES = 22146
  LINE_SAMPLES = 2837
  SAMPLE_TYPE = UNSIGNED_INTEGER
  SAMPLE_BITS = 8
  BANDS = 1
  BAND_STORAGE_TYPE = BAND_SEQUENTIAL
  MAXIMUM = 255
  MEAN = 164.735
  MINIMUM = 1
  STANDARD_DEVIATION = 27.9505
END_OBJECT = IMAGE
/* MAP OBJECT DEFINITIONS */
OBJECT = IMAGE_MAP_PROJECTION
  ^DATA_SET_MAP_PROJECTION_CATALOG= "DSMAP.CAT"
  A_AXIS_RADIUS = 3396.0
  B_AXIS_RADIUS = 3396.0
  C_AXIS_RADIUS = 3396.0
  CENTER_LATITUDE = 0.0
  CENTER_LONGITUDE = 355.0
  COORDINATE_SYSTEM_NAME = PLANETOGRAPHIC
  COORDINATE_SYSTEM_TYPE = "BODY-FIXED ROTATING"
  EASTERNMOST_LONGITUDE = 355.816
  FIRST_STANDARD_PARALLEL = "N/A"
  LINE_FIRST_PIXEL = 1
  LINE_LAST_PIXEL = 22146
  LINE_PROJECTION_OFFSET = -18091.625
  MAP_PROJECTION_ROTATION = 0.0
  MAP_PROJECTION_TYPE = SINUSOIDAL
  MAP_RESOLUTION = 1185.42760773333
  MAP_SCALE = 0.05
  MAXIMUM_LATITUDE = -15.2681
  MINIMUM_LATITUDE = -33.9327
  POSITIVE_LONGITUDE_DIRECTION = EAST
  REFERENCE_LATITUDE = "N/A"
  REFERENCE_LONGITUDE = "N/A"
  SAMPLE_FIRST_PIXEL = 1
  SAMPLE_LAST_PIXEL = 2837
  SAMPLE_PROJECTION_OFFSET = 1864.625
  SECOND_STANDARD_PARALLEL = "N/A"
  WESTERNMOST_LONGITUDE = 353.385
END_OBJECT = IMAGE_MAP_PROJECTION
/* The JPEG2000 image data file associated with this label. */
OBJECT = COMPRESSED_FILE
  FILE_NAME = "H6456_0000_GR3.JP2"
  RECORD_TYPE = UNDEFINED
  FILE_RECORDS = UNK
  ENCODING_TYPE = "JP2"
  INTERCHANGE_FORMAT = BINARY
  UNCOMPRESSED_FILE_NAME = "H6456_0000_GR3.IMG"
  REQUIRED_STORAGE_BYTES = "62850898"
  ^DESCRIPTION = "JP2INFO.TXT"
END_OBJECT = COMPRESSED_FILE
END
