PDS_VERSION_ID = PDS3
/* FILE DATA ELEMENTS */
RECORD_TYPE = STREAM
/* POINTERS TO DATA OBJECTS */
^COMPRESSED_FILE = "H6456_0000_P13.JP2"
/* IDENTIFICATION DATA ELEMENTS */
DATA_SET_ID = "MEX-M-HRSC-5-REFDR-MAPPROJECTED-V3.0"
DATA_SET_NAME = "MARS EXPRESS HRSC MAP PROJECTED REFDR V3.0"
DETECTOR_ID = MEX_HRSC_P1
EVENT_TYPE = "MARS-REGIONAL-MAPPING-Im-Fl"
INSTRUMENT_HOST_ID = MEX
INSTRUMENT_HOST_NAME = "MARS EXPRESS"
INSTRUMENT_ID = HRSC
INSTRUMENT_NAME = "HIGH RESOLUTION STEREO CAMERA"
MISSION_NAME = "MARS EXPRESS"
MISSION_PHASE_NAME = ME_Phase_15
PROCESSING_LEVEL_ID = 3
PRODUCT_CREATION_TIME = 2016-06-28T15:33:21.000Z
PRODUCT_ID = "H6456_0000_P13.JP2"
RELEASE_ID = 0072
REVISION_ID = 0000
/* QUALITY DATA ELEMENTS */
DATA_QUALITY_ID = 2
DATA_QUALITY_DESC = "Data calculated based on photogrammetrically improved orbit and attitude data"
/* TIME DATA ELEMENTS */
SPACECRAFT_CLOCK_START_COUNT = "1/0179774825.07290"
SPACECRAFT_CLOCK_STOP_COUNT = "1/0179775261.27969"
START_TIME = 2009-01-11T17:28:09.722Z
STOP_TIME = 2009-01-11T17:33:50.525Z
/* ORBITAL DATA ELEMENTS */
ASCENDING_NODE_LONGITUDE = 94.74
MAXIMUM_RESOLUTION = 34.5
FOOTPRINT_POINT_LATITUDE = (-33.9169,-33.9066,-33.8948,-33.4463, -32.822,-32.3497,-32.031,-31.7138, -31.3905,-31.0657,-30.7394,-30.4115, -30.0826,-29.7487,-29.4139,-29.0776, -28.7369,-28.394,-28.0484,-27.7049, -27.3499,-26.9983,-26.6445,-26.2856, -25.7486,-25.3775,-25.0093,-24.4507, -23.8856,-23.3135,-22.9284,-22.5383, -22.1453,-21.7493,-21.3495,-20.9455, -20.5383,-20.1275,-19.7122,-19.2944, -18.8733,-18.4459,-18.0146,-17.5805, -17.1418,-16.6989,-16.2515,-15.7987, -15.3411,-15.2896,-15.2878,-15.2845, -15.2814,-15.2764,-15.7329,-16.1878, -16.6384,-17.0843,-17.5254,-17.9612, -18.3937,-18.8206,-19.4604,-19.8754, -20.2905,-20.7002,-21.3119,-21.7127, -22.1096,-22.5043,-22.8957,-23.282, -23.8573,-24.2365,-24.612,-24.9833, -25.5366,-25.9031,-26.264,-26.6249, -26.9817,-27.3355,-27.6857,-28.2068, -28.7243,-29.0649,-29.4033,-29.7381, -30.0742,-30.4032,-30.7337,-31.2226, -31.5471,-31.8693,-32.1884,-32.665, -32.9779,-33.2918,-33.7559,-33.9169)
FOOTPRINT_POINT_LONGITUDE = (355.119,354.572,354.03,353.784,353.781 ,353.778,353.776,353.773,353.771, 353.768,353.764,353.76,353.756,353.751, 353.747,353.741,353.736,353.73,353.724, 353.717,353.711,353.703,353.695,353.687 ,353.673,353.665,353.656,353.641, 353.625,353.608,353.596,353.584,353.571 ,353.558,353.544,353.53,353.515,353.5, 353.484,353.467,353.45,353.433,353.414, 353.395,353.376,353.355,353.334,353.313 ,353.29,353.664,353.992,354.471,354.851 ,355.386,355.899,355.891,355.883, 355.875,355.868,355.859,355.851,355.843 ,355.836,355.826,355.819,355.812, 355.803,355.796,355.789,355.783,355.776 ,355.769,355.759,355.753,355.745, 355.738,355.728,355.722,355.715,355.709 ,355.703,355.697,355.689,355.68,355.671 ,355.664,355.657,355.651,355.645, 355.638,355.632,355.623,355.617,355.611 ,355.605,355.596,355.589,355.583, 355.573,355.119)
ORBIT_NUMBER = 6456
ORBITAL_ECCENTRICITY = 0.574
ORBITAL_INCLINATION = 86.76
ORBITAL_SEMIMAJOR_AXIS = 8665.9
PERIAPSIS_ALTITUDE = 305.75
PERIAPSIS_ARGUMENT_ANGLE = 303.37
PERIAPSIS_TIME = 2009-01-11T17:21:57.000Z
SPACECRAFT_ORIENTATION = (0.0,1.0,0.0)
^MEX_ORIENTATION_DESC = "MEX_ORIENTATION_DESC.TXT"
SPACECRAFT_POINTING_MODE = ACROSSTRACK
^MEX_POINTING_DESC = "MEX_POINTING_DESC.TXT"
RIGHT_ASCENSION = -1e+32
DECLINATION = -1e+32
OFFSET_ANGLE = -0.5
SPACECRAFT_SOLAR_DISTANCE = 2.16261e+08
TARGET_NAME = MARS
/* CAMERA DATA ELEMENTS */
DETECTOR_TEMPERATURE = 16.9432
FOCAL_PLANE_TEMPERATURE = 7.7677
INST_CMPRS_NAME = "DISCRETE COSINE TRANSFORMATION (DCT)"
INST_CMPRS_RATIO = 10.0058
INST_CMPRS_QUALITY = 0
INST_CMPRS_QUANTZ_TBL_ID = 0
INSTRUMENT_TEMPERATURE = 11.6418
LENS_TEMPERATURE = 8.1755
MACROPIXEL_SIZE = 2
MISSING_FRAMES = 0
PIXEL_SUBSAMPLING_FLAG = N
SIGNAL_CHAIN_ID = 3
/* RADIOMETRIC DATA ELEMENTS */
BANDWIDTH = 174.0
CENTER_FILTER_WAVELENGTH = 675.0
RADIANCE_OFFSET = 4.1741
RADIANCE_SCALING_FACTOR = 0.0189118
REFLECTANCE_SCALING_FACTOR = 0.000475739
MEX:REFLECTANCE_OFFSET = 0.105002
/* IMAGE OBJECT DEFINITIONS */
OBJECT = IMAGE
  INTERCHANGE_FORMAT = BINARY
  LINES = 44291
  LINE_SAMPLES = 5674
  SAMPLE_TYPE = UNSIGNED_INTEGER
  SAMPLE_BITS = 8
  BANDS = 1
  BAND_STORAGE_TYPE = BAND_SEQUENTIAL
  MAXIMUM = 255
  MEAN = 152.725
  MINIMUM = 1
  STANDARD_DEVIATION = 29.6517
END_OBJECT = IMAGE
/* MAP OBJECT DEFINITIONS */
OBJECT = IMAGE_MAP_PROJECTION
  ^DATA_SET_MAP_PROJECTION_CATALOG= "DSMAP.CAT"
  A_AXIS_RADIUS = 3396.0
  B_AXIS_RADIUS = 3396.0
  C_AXIS_RADIUS = 3396.0
  CENTER_LATITUDE = 0.0
  CENTER_LONGITUDE = 355.0
  COORDINATE_SYSTEM_NAME = PLANETOGRAPHIC
  COORDINATE_SYSTEM_TYPE = "BODY-FIXED ROTATING"
  EASTERNMOST_LONGITUDE = 355.899
  FIRST_STANDARD_PARALLEL = "N/A"
  LINE_FIRST_PIXEL = 1
  LINE_LAST_PIXEL = 44291
  LINE_PROJECTION_OFFSET = -36182.75
  MAP_PROJECTION_ROTATION = 0.0
  MAP_PROJECTION_TYPE = SINUSOIDAL
  MAP_RESOLUTION = 2370.85521546667
  MAP_SCALE = 0.025
  MAXIMUM_LATITUDE = -15.2764
  MINIMUM_LATITUDE = -33.9169
  POSITIVE_LONGITUDE_DIRECTION = EAST
  REFERENCE_LATITUDE = "N/A"
  REFERENCE_LONGITUDE = "N/A"
  SAMPLE_FIRST_PIXEL = 1
  SAMPLE_LAST_PIXEL = 5674
  SAMPLE_PROJECTION_OFFSET = 3729.75
  SECOND_STANDARD_PARALLEL = "N/A"
  WESTERNMOST_LONGITUDE = 353.29
END_OBJECT = IMAGE_MAP_PROJECTION
/* The JPEG2000 image data file associated with this label. */
OBJECT = COMPRESSED_FILE
  FILE_NAME = "H6456_0000_P13.JP2"
  RECORD_TYPE = UNDEFINED
  FILE_RECORDS = UNK
  ENCODING_TYPE = "JP2"
  INTERCHANGE_FORMAT = BINARY
  UNCOMPRESSED_FILE_NAME = "H6456_0000_P13.IMG"
  REQUIRED_STORAGE_BYTES = "251335504"
  ^DESCRIPTION = "JP2INFO.TXT"
END_OBJECT = COMPRESSED_FILE
END
