PDS_VERSION_ID = PDS3
/* FILE DATA ELEMENTS */
RECORD_TYPE = STREAM
/* POINTERS TO DATA OBJECTS */
^COMPRESSED_FILE = "H6456_0000_RE3.JP2"
/* IDENTIFICATION DATA ELEMENTS */
DATA_SET_ID = "MEX-M-HRSC-5-REFDR-MAPPROJECTED-V3.0"
DATA_SET_NAME = "MARS EXPRESS HRSC MAP PROJECTED REFDR V3.0"
DETECTOR_ID = MEX_HRSC_RED
EVENT_TYPE = "MARS-REGIONAL-MAPPING-Im-Fl"
INSTRUMENT_HOST_ID = MEX
INSTRUMENT_HOST_NAME = "MARS EXPRESS"
INSTRUMENT_ID = HRSC
INSTRUMENT_NAME = "HIGH RESOLUTION STEREO CAMERA"
MISSION_NAME = "MARS EXPRESS"
MISSION_PHASE_NAME = ME_Phase_15
PROCESSING_LEVEL_ID = 3
PRODUCT_CREATION_TIME = 2016-06-28T15:33:21.000Z
PRODUCT_ID = "H6456_0000_RE3.JP2"
RELEASE_ID = 0072
REVISION_ID = 0000
/* QUALITY DATA ELEMENTS */
DATA_QUALITY_ID = 2
DATA_QUALITY_DESC = "Data calculated based on photogrammetrically improved orbit and attitude data"
/* TIME DATA ELEMENTS */
SPACECRAFT_CLOCK_START_COUNT = "1/0179774825.07290"
SPACECRAFT_CLOCK_STOP_COUNT = "1/0179775261.27969"
START_TIME = 2009-01-11T17:27:13.693Z
STOP_TIME = 2009-01-11T17:32:06.258Z
/* ORBITAL DATA ELEMENTS */
ASCENDING_NODE_LONGITUDE = 94.74
MAXIMUM_RESOLUTION = 64.5
FOOTPRINT_POINT_LATITUDE = (-33.967,-33.9766,-33.9827,-33.8061, -33.3351,-33.0212,-32.7081,-32.0842, -31.7676,-31.4471,-31.1275,-30.8098, -30.4805,-30.1521,-29.8255,-29.4921, -29.1577,-28.823,-28.3101,-27.9683, -27.6156,-27.092,-26.742,-26.3851, -26.0295,-25.6598,-25.3009,-24.9323, -24.5615,-24.1853,-23.8083,-23.2359, -22.8515,-22.4605,-21.8701,-21.4722, -21.0697,-20.665,-20.2539,-19.631, -18.9989,-18.574,-18.143,-17.7072, -17.2667,-16.8219,-16.3716,-15.9169, -15.4599,-15.3093,-15.2996,-15.2902, -15.2743,-15.7237,-16.181,-16.6327, -17.0787,-17.5226,-17.9612,-18.3973, -18.8257,-19.4572,-19.8786,-20.2918, -20.7033,-21.1066,-21.7089,-22.1069, -22.4989,-22.8895,-23.2752,-23.6584, -24.0359,-24.4152,-24.788,-25.1595, -25.5234,-25.8878,-26.2475,-26.6049, -26.9604,-27.3105,-27.8363,-28.1801, -28.5224,-29.0304,-29.3657,-29.8673, -30.1949,-30.5238,-30.8497,-31.1702, -31.4908,-31.9686,-32.2812,-32.5946, -32.9079,-33.2216,-33.5354,-33.967)
FOOTPRINT_POINT_LONGITUDE = (355.479,354.959,354.474,353.856, 353.856,353.856,353.856,353.854,353.853 ,353.852,353.85,353.849,353.846,353.844 ,353.841,353.838,353.835,353.831, 353.825,353.82,353.815,353.807,353.802, 353.796,353.79,353.783,353.777,353.77, 353.762,353.754,353.746,353.733,353.723 ,353.714,353.699,353.688,353.677, 353.665,353.653,353.635,353.615,353.601 ,353.587,353.572,353.556,353.54,353.523 ,353.506,353.489,354.079,354.472, 354.825,355.346,355.706,355.703,355.7, 355.696,355.692,355.688,355.683,355.679 ,355.676,355.671,355.667,355.663, 355.661,355.655,355.651,355.648,355.644 ,355.64,355.636,355.632,355.627,355.622 ,355.618,355.614,355.61,355.606,355.602 ,355.598,355.593,355.586,355.581, 355.577,355.57,355.566,355.558,355.554, 355.549,355.545,355.54,355.535,355.529, 355.524,355.519,355.514,355.509,355.504 ,355.479)
ORBIT_NUMBER = 6456
ORBITAL_ECCENTRICITY = 0.574
ORBITAL_INCLINATION = 86.76
ORBITAL_SEMIMAJOR_AXIS = 8665.9
PERIAPSIS_ALTITUDE = 305.75
PERIAPSIS_ARGUMENT_ANGLE = 303.37
PERIAPSIS_TIME = 2009-01-11T17:21:57.000Z
SPACECRAFT_ORIENTATION = (0.0,1.0,0.0)
^MEX_ORIENTATION_DESC = "MEX_ORIENTATION_DESC.TXT"
SPACECRAFT_POINTING_MODE = ACROSSTRACK
^MEX_POINTING_DESC = "MEX_POINTING_DESC.TXT"
RIGHT_ASCENSION = -1e+32
DECLINATION = -1e+32
OFFSET_ANGLE = -0.5
SPACECRAFT_SOLAR_DISTANCE = 2.16261e+08
TARGET_NAME = MARS
/* CAMERA DATA ELEMENTS */
DETECTOR_TEMPERATURE = 18.1666
FOCAL_PLANE_TEMPERATURE = 7.7677
INST_CMPRS_NAME = "DISCRETE COSINE TRANSFORMATION (DCT)"
INST_CMPRS_RATIO = 13.0467
INST_CMPRS_QUALITY = 0
INST_CMPRS_QUANTZ_TBL_ID = 0
INSTRUMENT_TEMPERATURE = 11.6418
LENS_TEMPERATURE = 8.1755
MACROPIXEL_SIZE = 4
MISSING_FRAMES = 0
PIXEL_SUBSAMPLING_FLAG = N
SIGNAL_CHAIN_ID = 2
/* RADIOMETRIC DATA ELEMENTS */
BANDWIDTH = 48.0
CENTER_FILTER_WAVELENGTH = 748.0
RADIANCE_OFFSET = 1.06338
RADIANCE_SCALING_FACTOR = 0.00577402
REFLECTANCE_SCALING_FACTOR = 0.000616248
MEX:REFLECTANCE_OFFSET = 0.113492
/* IMAGE OBJECT DEFINITIONS */
OBJECT = IMAGE
  INTERCHANGE_FORMAT = BINARY
  LINES = 22146
  LINE_SAMPLES = 2837
  SAMPLE_TYPE = UNSIGNED_INTEGER
  SAMPLE_BITS = 8
  BANDS = 1
  BAND_STORAGE_TYPE = BAND_SEQUENTIAL
  MAXIMUM = 255
  MEAN = 145.552
  MINIMUM = 1
  STANDARD_DEVIATION = 31.1857
END_OBJECT = IMAGE
/* MAP OBJECT DEFINITIONS */
OBJECT = IMAGE_MAP_PROJECTION
  ^DATA_SET_MAP_PROJECTION_CATALOG= "DSMAP.CAT"
  A_AXIS_RADIUS = 3396.0
  B_AXIS_RADIUS = 3396.0
  C_AXIS_RADIUS = 3396.0
  CENTER_LATITUDE = 0.0
  CENTER_LONGITUDE = 355.0
  COORDINATE_SYSTEM_NAME = PLANETOGRAPHIC
  COORDINATE_SYSTEM_TYPE = "BODY-FIXED ROTATING"
  EASTERNMOST_LONGITUDE = 355.706
  FIRST_STANDARD_PARALLEL = "N/A"
  LINE_FIRST_PIXEL = 1
  LINE_LAST_PIXEL = 22146
  LINE_PROJECTION_OFFSET = -18091.625
  MAP_PROJECTION_ROTATION = 0.0
  MAP_PROJECTION_TYPE = SINUSOIDAL
  MAP_RESOLUTION = 1185.42760773333
  MAP_SCALE = 0.05
  MAXIMUM_LATITUDE = -15.2743
  MINIMUM_LATITUDE = -33.9827
  POSITIVE_LONGITUDE_DIRECTION = EAST
  REFERENCE_LATITUDE = "N/A"
  REFERENCE_LONGITUDE = "N/A"
  SAMPLE_FIRST_PIXEL = 1
  SAMPLE_LAST_PIXEL = 2837
  SAMPLE_PROJECTION_OFFSET = 1864.625
  SECOND_STANDARD_PARALLEL = "N/A"
  WESTERNMOST_LONGITUDE = 353.489
END_OBJECT = IMAGE_MAP_PROJECTION
/* The JPEG2000 image data file associated with this label. */
OBJECT = COMPRESSED_FILE
  FILE_NAME = "H6456_0000_RE3.JP2"
  RECORD_TYPE = UNDEFINED
  FILE_RECORDS = UNK
  ENCODING_TYPE = "JP2"
  INTERCHANGE_FORMAT = BINARY
  UNCOMPRESSED_FILE_NAME = "H6456_0000_RE3.IMG"
  REQUIRED_STORAGE_BYTES = "62850898"
  ^DESCRIPTION = "JP2INFO.TXT"
END_OBJECT = COMPRESSED_FILE
END
