PDS_VERSION_ID = PDS3
/* FILE DATA ELEMENTS */
RECORD_TYPE = STREAM
/* POINTERS TO DATA OBJECTS */
^COMPRESSED_FILE = "H6460_0000_S13.JP2"
/* IDENTIFICATION DATA ELEMENTS */
DATA_SET_ID = "MEX-M-HRSC-5-REFDR-MAPPROJECTED-V3.0"
DATA_SET_NAME = "MARS EXPRESS HRSC MAP PROJECTED REFDR V3.0"
DETECTOR_ID = MEX_HRSC_S1
EVENT_TYPE = "MARS-REGIONAL-MAPPING-Im-Fl"
INSTRUMENT_HOST_ID = MEX
INSTRUMENT_HOST_NAME = "MARS EXPRESS"
INSTRUMENT_ID = HRSC
INSTRUMENT_NAME = "HIGH RESOLUTION STEREO CAMERA"
MISSION_NAME = "MARS EXPRESS"
MISSION_PHASE_NAME = ME_Phase_15
PROCESSING_LEVEL_ID = 3
PRODUCT_CREATION_TIME = 2016-06-28T15:33:21.000Z
PRODUCT_ID = "H6460_0000_S13.JP2"
RELEASE_ID = 0072
REVISION_ID = 0000
/* QUALITY DATA ELEMENTS */
DATA_QUALITY_ID = 1
DATA_QUALITY_DESC = "Data calculated based on original SPICE kernels"
/* TIME DATA ELEMENTS */
SPACECRAFT_CLOCK_START_COUNT = "1/0179873614.09057"
SPACECRAFT_CLOCK_STOP_COUNT = "1/0179873942.59008"
START_TIME = 2009-01-12T20:54:40.947Z
STOP_TIME = 2009-01-12T20:59:03.310Z
/* ORBITAL DATA ELEMENTS */
ASCENDING_NODE_LONGITUDE = 94.66
MAXIMUM_RESOLUTION = 31.2
FOOTPRINT_POINT_LATITUDE = (-41.3375,-41.3381,-41.3373,-41.3922, -41.0885,-40.7685,-40.4428,-39.9679, -39.4859,-39.1649,-38.8501,-38.3765, -37.9067,-37.5934,-37.2824,-36.9825, -36.6755,-36.3633,-36.0441,-35.7347, -35.281,-34.8266,-34.5231,-34.2214, -33.9222,-33.6195,-33.3188,-33.0156, -32.7169,-32.419,-32.1218,-31.825, -31.5291,-31.2348,-30.942,-30.649, -30.3572,-30.0657,-29.775,-29.4857, -29.1981,-28.9118,-28.4822,-28.1976, -27.9132,-27.6301,-27.3485,-27.0669, -26.507,-26.3329,-26.3263,-26.3145, -26.3033,-26.5828,-26.8636,-27.1455, -27.5698,-27.853,-28.1375,-28.4228, -28.7088,-28.9966,-29.2853,-29.5771, -29.874,-30.1596,-30.4518,-30.7452, -31.1853,-31.4803,-31.7771,-32.0742, -32.372,-32.6701,-32.9695,-33.2739, -33.575,-33.8773,-34.1768,-34.4795, -34.784,-35.2424,-35.5492,-35.8617, -36.1732,-36.6363,-36.9451,-37.2565, -37.5643,-37.8769,-38.1889,-38.5017, -38.9749,-39.2899,-39.6227,-39.9426, -40.2612,-40.5801,-41.0517,-41.3375)
FOOTPRINT_POINT_LONGITUDE = (312.09,311.572,311.047,310.546,310.56, 310.574,310.592,310.609,310.632,310.647 ,310.657,310.673,310.687,310.696, 310.704,310.704,310.71,310.719,310.733, 310.74,310.744,310.75,310.754,310.757, 310.758,310.762,310.765,310.768,310.77, 310.772,310.773,310.775,310.776,310.776 ,310.776,310.776,310.776,310.776, 310.775,310.774,310.772,310.77,310.767, 310.764,310.761,310.758,310.755,310.751 ,310.744,311.182,311.577,312.239, 312.882,312.874,312.865,312.856,312.843 ,312.834,312.825,312.816,312.806, 312.797,312.788,312.778,312.77,312.759, 312.749,312.739,312.724,312.713,312.703 ,312.692,312.681,312.67,312.659,312.648 ,312.637,312.625,312.613,312.601, 312.589,312.57,312.558,312.546,312.533, 312.513,312.5,312.486,312.472,312.458, 312.443,312.428,312.406,312.391,312.377 ,312.361,312.345,312.329,312.303, 312.09)
ORBIT_NUMBER = 6460
ORBITAL_ECCENTRICITY = 0.575
ORBITAL_INCLINATION = 86.76
ORBITAL_SEMIMAJOR_AXIS = 8685.31
PERIAPSIS_ALTITUDE = 305.77
PERIAPSIS_ARGUMENT_ANGLE = 302.71
PERIAPSIS_TIME = 2009-01-12T20:50:08.000Z
SPACECRAFT_ORIENTATION = (0.0,1.0,0.0)
^MEX_ORIENTATION_DESC = "MEX_ORIENTATION_DESC.TXT"
SPACECRAFT_POINTING_MODE = ACROSSTRACK
^MEX_POINTING_DESC = "MEX_POINTING_DESC.TXT"
RIGHT_ASCENSION = -1e+32
DECLINATION = -1e+32
OFFSET_ANGLE = 0.5
SPACECRAFT_SOLAR_DISTANCE = 2.16065e+08
TARGET_NAME = MARS
/* CAMERA DATA ELEMENTS */
DETECTOR_TEMPERATURE = 17.351
FOCAL_PLANE_TEMPERATURE = 7.9716
INST_CMPRS_NAME = "DISCRETE COSINE TRANSFORMATION (DCT)"
INST_CMPRS_RATIO = 9.26206
INST_CMPRS_QUALITY = 0
INST_CMPRS_QUANTZ_TBL_ID = 0
INSTRUMENT_TEMPERATURE = 11.0301
LENS_TEMPERATURE = 8.3794
MACROPIXEL_SIZE = 2
MISSING_FRAMES = 1
PIXEL_SUBSAMPLING_FLAG = N
SIGNAL_CHAIN_ID = 1
/* RADIOMETRIC DATA ELEMENTS */
BANDWIDTH = 180.0
CENTER_FILTER_WAVELENGTH = 677.0
RADIANCE_OFFSET = 4.3598
RADIANCE_SCALING_FACTOR = 0.0113982
REFLECTANCE_SCALING_FACTOR = 0.000277615
MEX:REFLECTANCE_OFFSET = 0.106188
/* IMAGE OBJECT DEFINITIONS */
OBJECT = IMAGE
  INTERCHANGE_FORMAT = BINARY
  LINES = 35792
  LINE_SAMPLES = 4297
  SAMPLE_TYPE = UNSIGNED_INTEGER
  SAMPLE_BITS = 8
  BANDS = 1
  BAND_STORAGE_TYPE = BAND_SEQUENTIAL
  MAXIMUM = 255
  MEAN = 117.926
  MINIMUM = 1
  STANDARD_DEVIATION = 24.5592
END_OBJECT = IMAGE
/* MAP OBJECT DEFINITIONS */
OBJECT = IMAGE_MAP_PROJECTION
  ^DATA_SET_MAP_PROJECTION_CATALOG= "DSMAP.CAT"
  A_AXIS_RADIUS = 3396.0
  B_AXIS_RADIUS = 3396.0
  C_AXIS_RADIUS = 3396.0
  CENTER_LATITUDE = 0.0
  CENTER_LONGITUDE = 312.0
  COORDINATE_SYSTEM_NAME = PLANETOGRAPHIC
  COORDINATE_SYSTEM_TYPE = "BODY-FIXED ROTATING"
  EASTERNMOST_LONGITUDE = 312.882
  FIRST_STANDARD_PARALLEL = "N/A"
  LINE_FIRST_PIXEL = 1
  LINE_LAST_PIXEL = 35792
  LINE_PROJECTION_OFFSET = -62394.25
  MAP_PROJECTION_ROTATION = 0.0
  MAP_PROJECTION_TYPE = SINUSOIDAL
  MAP_RESOLUTION = 2370.85521546667
  MAP_SCALE = 0.025
  MAXIMUM_LATITUDE = -26.3033
  MINIMUM_LATITUDE = -41.3922
  POSITIVE_LONGITUDE_DIRECTION = EAST
  REFERENCE_LATITUDE = "N/A"
  REFERENCE_LONGITUDE = "N/A"
  SAMPLE_FIRST_PIXEL = 1
  SAMPLE_LAST_PIXEL = 4297
  SAMPLE_PROJECTION_OFFSET = 2606.75
  SECOND_STANDARD_PARALLEL = "N/A"
  WESTERNMOST_LONGITUDE = 310.546
END_OBJECT = IMAGE_MAP_PROJECTION
/* The JPEG2000 image data file associated with this label. */
OBJECT = COMPRESSED_FILE
  FILE_NAME = "H6460_0000_S13.JP2"
  RECORD_TYPE = UNDEFINED
  FILE_RECORDS = UNK
  ENCODING_TYPE = "JP2"
  INTERCHANGE_FORMAT = BINARY
  UNCOMPRESSED_FILE_NAME = "H6460_0000_S13.IMG"
  REQUIRED_STORAGE_BYTES = "153824006"
  ^DESCRIPTION = "JP2INFO.TXT"
END_OBJECT = COMPRESSED_FILE
END
