PDS_VERSION_ID = PDS3
/* FILE DATA ELEMENTS */
RECORD_TYPE = STREAM
/* POINTERS TO DATA OBJECTS */
^COMPRESSED_FILE = "H6461_0000_P23.JP2"
/* IDENTIFICATION DATA ELEMENTS */
DATA_SET_ID = "MEX-M-HRSC-5-REFDR-MAPPROJECTED-V3.0"
DATA_SET_NAME = "MARS EXPRESS HRSC MAP PROJECTED REFDR V3.0"
DETECTOR_ID = MEX_HRSC_P2
EVENT_TYPE = "MARS-REGIONAL-MAPPING-Te-Im-Fl"
INSTRUMENT_HOST_ID = MEX
INSTRUMENT_HOST_NAME = "MARS EXPRESS"
INSTRUMENT_ID = HRSC
INSTRUMENT_NAME = "HIGH RESOLUTION STEREO CAMERA"
MISSION_NAME = "MARS EXPRESS"
MISSION_PHASE_NAME = ME_Phase_15
PROCESSING_LEVEL_ID = 3
PRODUCT_CREATION_TIME = 2016-06-28T15:33:21.000Z
PRODUCT_ID = "H6461_0000_P23.JP2"
RELEASE_ID = 0072
REVISION_ID = 0000
/* QUALITY DATA ELEMENTS */
DATA_QUALITY_ID = 2
DATA_QUALITY_DESC = "Data calculated based on photogrammetrically improved orbit and attitude data"
/* TIME DATA ELEMENTS */
SPACECRAFT_CLOCK_START_COUNT = "1/0179898178.09046"
SPACECRAFT_CLOCK_STOP_COUNT = "1/0179898509.38832"
START_TIME = 2009-01-13T03:43:09.777Z
STOP_TIME = 2009-01-13T03:47:28.722Z
/* ORBITAL DATA ELEMENTS */
ASCENDING_NODE_LONGITUDE = 94.64
MAXIMUM_RESOLUTION = 49.9
FOOTPRINT_POINT_LATITUDE = (-53.5315,-53.5057,-53.4319,-52.958, -52.6383,-52.3179,-51.9971,-51.6772, -51.1973,-50.8738,-50.557,-50.2361, -49.9161,-49.5959,-49.2753,-48.9549, -48.6343,-48.3139,-47.9939,-47.6656, -47.1669,-46.8343,-46.3356,-46.003, -45.6708,-45.3388,-45.006,-44.6621, -44.3198,-43.9706,-43.6276,-43.29, -42.9467,-42.5983,-42.242,-41.709, -41.3556,-40.8297,-40.4753,-40.1219, -39.7637,-39.24,-38.712,-38.3574, -38.0058,-37.6353,-37.2165,-36.7981, -36.3801,-36.2937,-36.3009,-36.305, -36.308,-36.5199,-36.9384,-37.3579, -37.5679,-37.9572,-38.3113,-38.6623, -39.1885,-39.7202,-40.0746,-40.4305, -40.7867,-41.139,-41.4928,-41.8452, -42.2011,-42.5534,-42.9045,-43.2484, -43.592,-44.1032,-44.4468,-44.7909, -45.3041,-45.6399,-46.1389,-46.4719, -46.8073,-47.1376,-47.4709,-47.8033, -48.1299,-48.451,-48.7717,-49.0932, -49.5748,-49.8962,-50.2181,-50.5395, -51.0209,-51.3416,-51.6627,-52.1438, -52.4652,-52.9436,-53.2604,-53.5315)
FOOTPRINT_POINT_LONGITUDE = (211.504,210.72,209.955,210.009,210.044 ,210.078,210.111,210.144,210.191,210.22 ,210.251,210.28,210.308,210.336,210.362 ,210.388,210.413,210.437,210.461, 210.485,210.519,210.541,210.572,210.592 ,210.611,210.63,210.648,210.666,210.685 ,210.698,210.715,210.733,210.748, 210.763,210.777,210.796,210.809,210.83, 210.841,210.852,210.859,210.877,210.891 ,210.898,210.906,210.914,210.922,210.93 ,210.937,211.411,211.792,212.098, 212.372,212.57,212.558,212.545,212.539, 212.525,212.513,212.502,212.486,212.467 ,212.454,212.439,212.425,212.413, 212.399,212.387,212.372,212.359,212.345 ,212.331,212.316,212.296,212.281, 212.265,212.238,212.22,212.195,212.178, 212.159,212.143,212.125,212.107,212.089 ,212.071,212.053,212.034,212.005, 211.985,211.964,211.944,211.912,211.891 ,211.868,211.834,211.811,211.777, 211.755,211.504)
ORBIT_NUMBER = 6461
ORBITAL_ECCENTRICITY = 0.575
ORBITAL_INCLINATION = 86.77
ORBITAL_SEMIMAJOR_AXIS = 8685.21
PERIAPSIS_ALTITUDE = 305.18
PERIAPSIS_ARGUMENT_ANGLE = 302.52
PERIAPSIS_TIME = 2009-01-13T03:42:29.000Z
SPACECRAFT_ORIENTATION = (0.0,1.0,0.0)
^MEX_ORIENTATION_DESC = "MEX_ORIENTATION_DESC.TXT"
SPACECRAFT_POINTING_MODE = NADIR
^MEX_POINTING_DESC = "MEX_POINTING_DESC.TXT"
RIGHT_ASCENSION = -1e+32
DECLINATION = -1e+32
OFFSET_ANGLE = -1e+32
SPACECRAFT_SOLAR_DISTANCE = 2.16016e+08
TARGET_NAME = MARS
/* CAMERA DATA ELEMENTS */
DETECTOR_TEMPERATURE = 18.1666
FOCAL_PLANE_TEMPERATURE = 8.1755
INST_CMPRS_NAME = "DISCRETE COSINE TRANSFORMATION (DCT)"
INST_CMPRS_RATIO = 9.43917
INST_CMPRS_QUALITY = 0
INST_CMPRS_QUANTZ_TBL_ID = 0
INSTRUMENT_TEMPERATURE = 11.234
LENS_TEMPERATURE = 8.3794
MACROPIXEL_SIZE = 4
MISSING_FRAMES = 0
PIXEL_SUBSAMPLING_FLAG = N
SIGNAL_CHAIN_ID = 3
/* RADIOMETRIC DATA ELEMENTS */
BANDWIDTH = 177.0
CENTER_FILTER_WAVELENGTH = 676.5
RADIANCE_OFFSET = 2.82773
RADIANCE_SCALING_FACTOR = 0.017901
REFLECTANCE_SCALING_FACTOR = 0.0004429
MEX:REFLECTANCE_OFFSET = 0.0699625
/* IMAGE OBJECT DEFINITIONS */
OBJECT = IMAGE
  INTERCHANGE_FORMAT = BINARY
  LINES = 20377
  LINE_SAMPLES = 2296
  SAMPLE_TYPE = UNSIGNED_INTEGER
  SAMPLE_BITS = 8
  BANDS = 1
  BAND_STORAGE_TYPE = BAND_SEQUENTIAL
  MAXIMUM = 255
  MEAN = 111.913
  MINIMUM = 1
  STANDARD_DEVIATION = 23.3689
END_OBJECT = IMAGE
/* MAP OBJECT DEFINITIONS */
OBJECT = IMAGE_MAP_PROJECTION
  ^DATA_SET_MAP_PROJECTION_CATALOG= "DSMAP.CAT"
  A_AXIS_RADIUS = 3396.0
  B_AXIS_RADIUS = 3396.0
  C_AXIS_RADIUS = 3396.0
  CENTER_LATITUDE = 0.0
  CENTER_LONGITUDE = 211.0
  COORDINATE_SYSTEM_NAME = PLANETOGRAPHIC
  COORDINATE_SYSTEM_TYPE = "BODY-FIXED ROTATING"
  EASTERNMOST_LONGITUDE = 212.57
  FIRST_STANDARD_PARALLEL = "N/A"
  LINE_FIRST_PIXEL = 1
  LINE_LAST_PIXEL = 20377
  LINE_PROJECTION_OFFSET = -43017.375
  MAP_PROJECTION_ROTATION = 0.0
  MAP_PROJECTION_TYPE = SINUSOIDAL
  MAP_RESOLUTION = 1185.42760773333
  MAP_SCALE = 0.05
  MAXIMUM_LATITUDE = -36.2937
  MINIMUM_LATITUDE = -53.5315
  POSITIVE_LONGITUDE_DIRECTION = EAST
  REFERENCE_LATITUDE = "N/A"
  REFERENCE_LONGITUDE = "N/A"
  SAMPLE_FIRST_PIXEL = 1
  SAMPLE_LAST_PIXEL = 2296
  SAMPLE_PROJECTION_OFFSET = 734.875
  SECOND_STANDARD_PARALLEL = "N/A"
  WESTERNMOST_LONGITUDE = 209.955
END_OBJECT = IMAGE_MAP_PROJECTION
/* The JPEG2000 image data file associated with this label. */
OBJECT = COMPRESSED_FILE
  FILE_NAME = "H6461_0000_P23.JP2"
  RECORD_TYPE = UNDEFINED
  FILE_RECORDS = UNK
  ENCODING_TYPE = "JP2"
  INTERCHANGE_FORMAT = BINARY
  UNCOMPRESSED_FILE_NAME = "H6461_0000_P23.IMG"
  REQUIRED_STORAGE_BYTES = "46808552"
  ^DESCRIPTION = "JP2INFO.TXT"
END_OBJECT = COMPRESSED_FILE
END
