PDS_VERSION_ID = PDS3
/* FILE DATA ELEMENTS */
RECORD_TYPE = STREAM
/* POINTERS TO DATA OBJECTS */
^COMPRESSED_FILE = "H6465_0000_IR3.JP2"
/* IDENTIFICATION DATA ELEMENTS */
DATA_SET_ID = "MEX-M-HRSC-5-REFDR-MAPPROJECTED-V3.0"
DATA_SET_NAME = "MARS EXPRESS HRSC MAP PROJECTED REFDR V3.0"
DETECTOR_ID = MEX_HRSC_IR
EVENT_TYPE = "MARS-REGIONAL-MAPPING-Te-Im"
INSTRUMENT_HOST_ID = MEX
INSTRUMENT_HOST_NAME = "MARS EXPRESS"
INSTRUMENT_ID = HRSC
INSTRUMENT_NAME = "HIGH RESOLUTION STEREO CAMERA"
MISSION_NAME = "MARS EXPRESS"
MISSION_PHASE_NAME = ME_Phase_15
PROCESSING_LEVEL_ID = 3
PRODUCT_CREATION_TIME = 2016-06-28T15:33:21.000Z
PRODUCT_ID = "H6465_0000_IR3.JP2"
RELEASE_ID = 0072
REVISION_ID = 0000
/* QUALITY DATA ELEMENTS */
DATA_QUALITY_ID = 2
DATA_QUALITY_DESC = "Data calculated based on photogrammetrically improved orbit and attitude data"
/* TIME DATA ELEMENTS */
SPACECRAFT_CLOCK_START_COUNT = "1/0179997380.08236"
SPACECRAFT_CLOCK_STOP_COUNT = "1/0179997669.53595"
START_TIME = 2009-01-14T07:17:24.696Z
STOP_TIME = 2009-01-14T07:21:00.192Z
/* ORBITAL DATA ELEMENTS */
ASCENDING_NODE_LONGITUDE = 94.56
MAXIMUM_RESOLUTION = 64.3
FOOTPRINT_POINT_LATITUDE = (-39.5749,-39.5696,-39.5629,-39.3631, -39.1341,-38.7904,-38.5619,-38.3339, -38.1062,-37.8788,-37.6521,-37.3125, -36.9672,-36.7352,-36.5041,-36.274, -36.0398,-35.8043,-35.5697,-35.3345, -35.0955,-34.8556,-34.6167,-34.3771, -34.1353,-33.887,-33.6446,-33.2738, -33.0258,-32.7782,-32.5264,-32.2742, -32.0226,-31.767,-31.5106,-31.2551, -30.9952,-30.605,-30.3421,-30.0764, -29.8116,-29.5428,-29.1412,-28.8696, -28.4623,-28.1861,-27.912,-27.6302, -27.2114,-27.1641,-27.1649,-27.164, -27.1616,-27.3001,-27.58,-27.8609, -28.137,-28.5509,-28.8233,-29.0966, -29.3649,-29.6336,-30.0332,-30.2973, -30.6899,-31.0866,-31.4688,-31.7264, -31.984,-32.2365,-32.4902,-32.7435, -32.9915,-33.2407,-33.4883,-33.7339, -33.9762,-34.2214,-34.4626,-34.6995, -35.0581,-35.3047,-35.544,-35.7798, -36.0159,-36.2513,-36.482,-36.8267, -37.0578,-37.2895,-37.5171,-37.8588, -38.0865,-38.3146,-38.5429,-38.7719, -39.1159,-39.3452,-39.5753,-39.5749)
FOOTPRINT_POINT_LONGITUDE = (169.684,169.173,168.659,168.396, 168.402,168.411,168.417,168.422,168.428 ,168.432,168.437,168.444,168.451, 168.455,168.459,168.462,168.465,168.468 ,168.471,168.474,168.477,168.479, 168.481,168.483,168.483,168.487,168.488 ,168.49,168.491,168.491,168.492,168.492 ,168.492,168.492,168.492,168.491,168.49 ,168.488,168.487,168.486,168.485, 168.483,168.48,168.477,168.472,168.469, 168.465,168.462,168.456,168.947,169.28, 169.731,170.044,170.555,170.548,170.54, 170.532,170.521,170.513,170.506,170.498 ,170.49,170.479,170.471,170.458,170.448 ,170.435,170.427,170.419,170.411, 170.404,170.396,170.388,170.38,170.371, 170.363,170.354,170.346,170.337,170.328 ,170.314,170.308,170.301,170.292, 170.284,170.275,170.266,170.252,170.243 ,170.235,170.226,170.213,170.204, 170.195,170.185,170.176,170.161,170.152 ,170.142,169.684)
ORBIT_NUMBER = 6465
ORBITAL_ECCENTRICITY = 0.575
ORBITAL_INCLINATION = 86.76
ORBITAL_SEMIMAJOR_AXIS = 8685.64
PERIAPSIS_ALTITUDE = 306.11
PERIAPSIS_ARGUMENT_ANGLE = 301.84
PERIAPSIS_TIME = 2009-01-14T07:12:14.000Z
SPACECRAFT_ORIENTATION = (0.0,1.0,0.0)
^MEX_ORIENTATION_DESC = "MEX_ORIENTATION_DESC.TXT"
SPACECRAFT_POINTING_MODE = ACROSSTRACK
^MEX_POINTING_DESC = "MEX_POINTING_DESC.TXT"
RIGHT_ASCENSION = -1e+32
DECLINATION = -1e+32
OFFSET_ANGLE = 0.2
SPACECRAFT_SOLAR_DISTANCE = 2.15821e+08
TARGET_NAME = MARS
/* CAMERA DATA ELEMENTS */
DETECTOR_TEMPERATURE = 17.1471
FOCAL_PLANE_TEMPERATURE = 8.1755
INST_CMPRS_NAME = "DISCRETE COSINE TRANSFORMATION (DCT)"
INST_CMPRS_RATIO = 13.6441
INST_CMPRS_QUALITY = 0
INST_CMPRS_QUANTZ_TBL_ID = 0
INSTRUMENT_TEMPERATURE = 11.4379
LENS_TEMPERATURE = 8.7872
MACROPIXEL_SIZE = 4
MISSING_FRAMES = 0
PIXEL_SUBSAMPLING_FLAG = N
SIGNAL_CHAIN_ID = 2
/* RADIOMETRIC DATA ELEMENTS */
BANDWIDTH = 81.0
CENTER_FILTER_WAVELENGTH = 955.5
RADIANCE_OFFSET = 0.653844
RADIANCE_SCALING_FACTOR = 0.00617714
REFLECTANCE_SCALING_FACTOR = 0.000620732
MEX:REFLECTANCE_OFFSET = 0.0657039
/* IMAGE OBJECT DEFINITIONS */
OBJECT = IMAGE
  INTERCHANGE_FORMAT = BINARY
  LINES = 14774
  LINE_SAMPLES = 2149
  SAMPLE_TYPE = UNSIGNED_INTEGER
  SAMPLE_BITS = 8
  BANDS = 1
  BAND_STORAGE_TYPE = BAND_SEQUENTIAL
  MAXIMUM = 255
  MEAN = 91.15
  MINIMUM = 1
  STANDARD_DEVIATION = 36.784
END_OBJECT = IMAGE
/* MAP OBJECT DEFINITIONS */
OBJECT = IMAGE_MAP_PROJECTION
  ^DATA_SET_MAP_PROJECTION_CATALOG= "DSMAP.CAT"
  A_AXIS_RADIUS = 3396.0
  B_AXIS_RADIUS = 3396.0
  C_AXIS_RADIUS = 3396.0
  CENTER_LATITUDE = 0.0
  CENTER_LONGITUDE = 169.0
  COORDINATE_SYSTEM_NAME = PLANETOGRAPHIC
  COORDINATE_SYSTEM_TYPE = "BODY-FIXED ROTATING"
  EASTERNMOST_LONGITUDE = 170.555
  FIRST_STANDARD_PARALLEL = "N/A"
  LINE_FIRST_PIXEL = 1
  LINE_LAST_PIXEL = 14774
  LINE_PROJECTION_OFFSET = -32212.875
  MAP_PROJECTION_ROTATION = 0.0
  MAP_PROJECTION_TYPE = SINUSOIDAL
  MAP_RESOLUTION = 1185.42760773333
  MAP_SCALE = 0.05
  MAXIMUM_LATITUDE = -27.1616
  MINIMUM_LATITUDE = -39.5753
  POSITIVE_LONGITUDE_DIRECTION = EAST
  REFERENCE_LATITUDE = "N/A"
  REFERENCE_LONGITUDE = "N/A"
  SAMPLE_FIRST_PIXEL = 1
  SAMPLE_LAST_PIXEL = 2149
  SAMPLE_PROJECTION_OFFSET = 569.125
  SECOND_STANDARD_PARALLEL = "N/A"
  WESTERNMOST_LONGITUDE = 168.396
END_OBJECT = IMAGE_MAP_PROJECTION
/* The JPEG2000 image data file associated with this label. */
OBJECT = COMPRESSED_FILE
  FILE_NAME = "H6465_0000_IR3.JP2"
  RECORD_TYPE = UNDEFINED
  FILE_RECORDS = UNK
  ENCODING_TYPE = "JP2"
  INTERCHANGE_FORMAT = BINARY
  UNCOMPRESSED_FILE_NAME = "H6465_0000_IR3.IMG"
  REQUIRED_STORAGE_BYTES = "31770816"
  ^DESCRIPTION = "JP2INFO.TXT"
END_OBJECT = COMPRESSED_FILE
END
