PDS_VERSION_ID = PDS3
/* FILE DATA ELEMENTS */
RECORD_TYPE = STREAM
/* POINTERS TO DATA OBJECTS */
^COMPRESSED_FILE = "H6473_0000_BL3.JP2"
/* IDENTIFICATION DATA ELEMENTS */
DATA_SET_ID = "MEX-M-HRSC-5-REFDR-MAPPROJECTED-V3.0"
DATA_SET_NAME = "MARS EXPRESS HRSC MAP PROJECTED REFDR V3.0"
DETECTOR_ID = MEX_HRSC_BLUE
EVENT_TYPE = "MARS-REGIONAL-MAPPING-Vo-Im-Fl"
INSTRUMENT_HOST_ID = MEX
INSTRUMENT_HOST_NAME = "MARS EXPRESS"
INSTRUMENT_ID = HRSC
INSTRUMENT_NAME = "HIGH RESOLUTION STEREO CAMERA"
MISSION_NAME = "MARS EXPRESS"
MISSION_PHASE_NAME = ME_Phase_15
PROCESSING_LEVEL_ID = 3
PRODUCT_CREATION_TIME = 2016-06-28T15:33:21.000Z
PRODUCT_ID = "H6473_0000_BL3.JP2"
RELEASE_ID = 0072
REVISION_ID = 0000
/* QUALITY DATA ELEMENTS */
DATA_QUALITY_ID = 1
DATA_QUALITY_DESC = "Data calculated based on original SPICE kernels"
/* TIME DATA ELEMENTS */
SPACECRAFT_CLOCK_START_COUNT = "1/0180195332.08254"
SPACECRAFT_CLOCK_STOP_COUNT = "1/0180195639.46449"
START_TIME = 2009-01-16T14:16:01.384Z
STOP_TIME = 2009-01-16T14:19:36.713Z
/* ORBITAL DATA ELEMENTS */
ASCENDING_NODE_LONGITUDE = 94.4
MAXIMUM_RESOLUTION = 117.6
FOOTPRINT_POINT_LATITUDE = (-41.585,-41.5723,-41.5572,-41.2091, -40.9618,-40.7061,-40.4508,-40.1953, -39.9405,-39.6861,-39.431,-39.177, -38.9228,-38.6691,-38.4153,-38.1622, -37.9092,-37.6565,-37.404,-37.1515, -36.8995,-36.6478,-36.3964,-36.1408, -35.8833,-35.6266,-35.3703,-35.1097, -34.8467,-34.5841,-34.3217,-34.0544, -33.6514,-33.2454,-32.9732,-32.6992, -32.2858,-31.8675,-31.5885,-31.3029, -30.8765,-30.5889,-30.2992,-30.0113, -29.7172,-29.4209,-28.9757,-28.6759, -28.3774,-28.0719,-28.0717,-28.0769, -28.0787,-28.0825,-28.3885,-28.6903, -28.9907,-29.2899,-29.733,-30.0276, -30.3177,-30.608,-31.0388,-31.3235, -31.749,-32.0284,-32.3082,-32.5858, -32.9971,-33.2714,-33.543,-33.8114, -34.0802,-34.3501,-34.7445,-35.0075, -35.4003,-35.657,-35.9145,-36.1725, -36.4289,-36.6809,-36.933,-37.1855, -37.4384,-37.6915,-37.9448,-38.1984, -38.4522,-38.7061,-38.9606,-39.3426, -39.5974,-39.8529,-40.2363,-40.4918, -40.7479,-41.0042,-41.3603,-41.585)
FOOTPRINT_POINT_LONGITUDE = (85.2521,84.7619,84.2685,84.0053, 84.0151,84.0252,84.0354,84.044,84.0538, 84.0638,84.0706,84.0796,84.087,84.0948, 84.1014,84.1087,84.1156,84.1221,84.1283 ,84.1335,84.1388,84.1442,84.1492, 84.1544,84.1596,84.1655,84.1716,84.1763 ,84.1804,84.1842,84.1874,84.1935, 84.1962,84.1961,84.2031,84.2039,84.2065 ,84.2093,84.2095,84.208,84.2083,84.2083 ,84.2081,84.2111,84.2103,84.2053, 84.2037,84.2025,84.2056,84.2026,84.7514 ,85.3561,85.6486,86.1528,86.1454, 86.1376,86.1305,86.123,86.1115,86.1043, 86.0965,86.0889,86.0771,86.0695,86.0573 ,86.0493,86.0413,86.0331,86.0206, 86.0125,86.0039,85.9958,85.9875,85.9777 ,85.9651,85.9569,85.9442,85.9364, 85.9279,85.919,85.9098,85.9005,85.8914, 85.8819,85.8723,85.8624,85.8526,85.8425 ,85.8325,85.8224,85.8119,85.796,85.7854 ,85.774,85.7572,85.7463,85.7346,85.7229 ,85.7063,85.2521)
ORBIT_NUMBER = 6473
ORBITAL_ECCENTRICITY = 0.576
ORBITAL_INCLINATION = 86.77
ORBITAL_SEMIMAJOR_AXIS = 8685.66
PERIAPSIS_ALTITUDE = 304.59
PERIAPSIS_ARGUMENT_ANGLE = 300.44
PERIAPSIS_TIME = 2009-01-16T14:11:35.000Z
SPACECRAFT_ORIENTATION = (0.0,1.0,0.0)
^MEX_ORIENTATION_DESC = "MEX_ORIENTATION_DESC.TXT"
SPACECRAFT_POINTING_MODE = ACROSSTRACK
^MEX_POINTING_DESC = "MEX_POINTING_DESC.TXT"
RIGHT_ASCENSION = -1e+32
DECLINATION = -1e+32
OFFSET_ANGLE = 0.3
SPACECRAFT_SOLAR_DISTANCE = 2.15436e+08
TARGET_NAME = MARS
/* CAMERA DATA ELEMENTS */
DETECTOR_TEMPERATURE = 18.5744
FOCAL_PLANE_TEMPERATURE = 8.7872
INST_CMPRS_NAME = "DISCRETE COSINE TRANSFORMATION (DCT)"
INST_CMPRS_RATIO = 23.3911
INST_CMPRS_QUALITY = 0
INST_CMPRS_QUANTZ_TBL_ID = 0
INSTRUMENT_TEMPERATURE = 11.4379
LENS_TEMPERATURE = 7.3599
MACROPIXEL_SIZE = 8
MISSING_FRAMES = 0
PIXEL_SUBSAMPLING_FLAG = N
SIGNAL_CHAIN_ID = 2
/* RADIOMETRIC DATA ELEMENTS */
BANDWIDTH = 76.0
CENTER_FILTER_WAVELENGTH = 444.0
RADIANCE_OFFSET = 0.766745
RADIANCE_SCALING_FACTOR = 0.00156606
REFLECTANCE_SCALING_FACTOR = 7.46794e-05
MEX:REFLECTANCE_OFFSET = 0.036563
/* IMAGE OBJECT DEFINITIONS */
OBJECT = IMAGE
  INTERCHANGE_FORMAT = BINARY
  LINES = 8011
  LINE_SAMPLES = 1083
  SAMPLE_TYPE = UNSIGNED_INTEGER
  SAMPLE_BITS = 8
  BANDS = 1
  BAND_STORAGE_TYPE = BAND_SEQUENTIAL
  MAXIMUM = 255
  MEAN = 180.777
  MINIMUM = 1
  STANDARD_DEVIATION = 26.4585
END_OBJECT = IMAGE
/* MAP OBJECT DEFINITIONS */
OBJECT = IMAGE_MAP_PROJECTION
  ^DATA_SET_MAP_PROJECTION_CATALOG= "DSMAP.CAT"
  A_AXIS_RADIUS = 3396.0
  B_AXIS_RADIUS = 3396.0
  C_AXIS_RADIUS = 3396.0
  CENTER_LATITUDE = 0.0
  CENTER_LONGITUDE = 85.0
  COORDINATE_SYSTEM_NAME = PLANETOGRAPHIC
  COORDINATE_SYSTEM_TYPE = "BODY-FIXED ROTATING"
  EASTERNMOST_LONGITUDE = 86.1528
  FIRST_STANDARD_PARALLEL = "N/A"
  LINE_FIRST_PIXEL = 1
  LINE_LAST_PIXEL = 8011
  LINE_PROJECTION_OFFSET = -16642.3125
  MAP_PROJECTION_ROTATION = 0.0
  MAP_PROJECTION_TYPE = SINUSOIDAL
  MAP_RESOLUTION = 592.713803866667
  MAP_SCALE = 0.1
  MAXIMUM_LATITUDE = -28.0717
  MINIMUM_LATITUDE = -41.585
  POSITIVE_LONGITUDE_DIRECTION = EAST
  REFERENCE_LATITUDE = "N/A"
  REFERENCE_LONGITUDE = "N/A"
  SAMPLE_FIRST_PIXEL = 1
  SAMPLE_LAST_PIXEL = 1083
  SAMPLE_PROJECTION_OFFSET = 468.6875
  SECOND_STANDARD_PARALLEL = "N/A"
  WESTERNMOST_LONGITUDE = 84.00530000000001
END_OBJECT = IMAGE_MAP_PROJECTION
/* The JPEG2000 image data file associated with this label. */
OBJECT = COMPRESSED_FILE
  FILE_NAME = "H6473_0000_BL3.JP2"
  RECORD_TYPE = UNDEFINED
  FILE_RECORDS = UNK
  ENCODING_TYPE = "JP2"
  INTERCHANGE_FORMAT = BINARY
  UNCOMPRESSED_FILE_NAME = "H6473_0000_BL3.IMG"
  REQUIRED_STORAGE_BYTES = "8694324"
  ^DESCRIPTION = "JP2INFO.TXT"
END_OBJECT = COMPRESSED_FILE
END
