PDS_VERSION_ID = PDS3
/* FILE DATA ELEMENTS */
RECORD_TYPE = STREAM
/* POINTERS TO DATA OBJECTS */
^COMPRESSED_FILE = "H6473_0000_GR3.JP2"
/* IDENTIFICATION DATA ELEMENTS */
DATA_SET_ID = "MEX-M-HRSC-5-REFDR-MAPPROJECTED-V3.0"
DATA_SET_NAME = "MARS EXPRESS HRSC MAP PROJECTED REFDR V3.0"
DETECTOR_ID = MEX_HRSC_GREEN
EVENT_TYPE = "MARS-REGIONAL-MAPPING-Vo-Im-Fl"
INSTRUMENT_HOST_ID = MEX
INSTRUMENT_HOST_NAME = "MARS EXPRESS"
INSTRUMENT_ID = HRSC
INSTRUMENT_NAME = "HIGH RESOLUTION STEREO CAMERA"
MISSION_NAME = "MARS EXPRESS"
MISSION_PHASE_NAME = ME_Phase_15
PROCESSING_LEVEL_ID = 3
PRODUCT_CREATION_TIME = 2016-06-28T15:33:21.000Z
PRODUCT_ID = "H6473_0000_GR3.JP2"
RELEASE_ID = 0072
REVISION_ID = 0000
/* QUALITY DATA ELEMENTS */
DATA_QUALITY_ID = 1
DATA_QUALITY_DESC = "Data calculated based on original SPICE kernels"
/* TIME DATA ELEMENTS */
SPACECRAFT_CLOCK_START_COUNT = "1/0180195332.08254"
SPACECRAFT_CLOCK_STOP_COUNT = "1/0180195639.46449"
START_TIME = 2009-01-16T14:16:12.654Z
STOP_TIME = 2009-01-16T14:19:53.629Z
/* ORBITAL DATA ELEMENTS */
ASCENDING_NODE_LONGITUDE = 94.4
MAXIMUM_RESOLUTION = 119.3
FOOTPRINT_POINT_LATITUDE = (-41.5695,-41.5607,-41.5492,-41.5479, -41.296,-41.0444,-40.793,-40.4162, -40.1658,-39.9152,-39.6649,-39.4155, -39.1659,-38.9169,-38.668,-38.4197, -38.1714,-37.9235,-37.676,-37.1821, -36.9304,-36.6775,-36.4251,-36.1729, -35.9162,-35.6579,-35.3995,-35.142, -34.8785,-34.6153,-34.3528,-33.9517, -33.684,-33.4179,-33.1464,-32.8718, -32.5996,-32.3232,-32.0448,-31.7676, -31.4857,-31.0631,-30.7776,-30.4896, -30.2021,-29.9086,-29.4721,-29.0271, -28.7299,-28.4267,-28.1242,-28.0638, -28.0669,-28.0681,-28.0684,-28.2214, -28.5242,-28.9742,-29.2725,-29.5687, -29.861,-30.1548,-30.4428,-30.7313, -31.0181,-31.4434,-31.7268,-32.0049, -32.2836,-32.5618,-32.835,-33.1084, -33.3822,-33.6501,-33.9187,-34.3201, -34.5835,-34.8468,-35.242,-35.6298, -35.8888,-36.1474,-36.4,-36.6529, -36.9061,-37.1599,-37.6547,-37.9026, -38.1509,-38.3995,-38.7733,-39.1474, -39.3973,-39.6476,-40.0232,-40.3996, -40.7771,-41.0289,-41.2811,-41.5695)
FOOTPRINT_POINT_LONGITUDE = (85.4754,85.0097,84.51,83.9769,83.9869, 83.9968,84.0063,84.0213,84.0294,84.0389 ,84.0483,84.055,84.0633,84.0703,84.0778 ,84.0839,84.091,84.0975,84.1037,84.1143 ,84.1195,84.1247,84.1295,84.1344, 84.1394,84.1448,84.1511,84.1551,84.159, 84.163,84.1657,84.1736,84.1753,84.1727, 84.1746,84.181,84.1811,84.1828,84.1846, 84.184,84.1852,84.1806,84.1825,84.1824, 84.182,84.1867,84.1788,84.1755,84.1743, 84.1749,84.1742,84.6253,85.078,85.3982, 85.8493,86.1766,86.1688,86.1569,86.1492 ,86.1421,86.1331,86.1254,86.1174, 86.1093,86.1012,86.0892,86.0806,86.0722 ,86.0639,86.0554,86.047,86.0382,86.0299 ,86.0212,86.0124,85.9984,85.99,85.9808, 85.9682,85.9556,85.9469,85.9378,85.9286 ,85.9191,85.9094,85.8999,85.8805, 85.8706,85.8606,85.8504,85.8353,85.8195 ,85.8087,85.7981,85.7811,85.7641, 85.7472,85.7354,85.7235,85.4754)
ORBIT_NUMBER = 6473
ORBITAL_ECCENTRICITY = 0.576
ORBITAL_INCLINATION = 86.77
ORBITAL_SEMIMAJOR_AXIS = 8685.66
PERIAPSIS_ALTITUDE = 304.59
PERIAPSIS_ARGUMENT_ANGLE = 300.44
PERIAPSIS_TIME = 2009-01-16T14:11:35.000Z
SPACECRAFT_ORIENTATION = (0.0,1.0,0.0)
^MEX_ORIENTATION_DESC = "MEX_ORIENTATION_DESC.TXT"
SPACECRAFT_POINTING_MODE = ACROSSTRACK
^MEX_POINTING_DESC = "MEX_POINTING_DESC.TXT"
RIGHT_ASCENSION = -1e+32
DECLINATION = -1e+32
OFFSET_ANGLE = 0.3
SPACECRAFT_SOLAR_DISTANCE = 2.15436e+08
TARGET_NAME = MARS
/* CAMERA DATA ELEMENTS */
DETECTOR_TEMPERATURE = 18.5744
FOCAL_PLANE_TEMPERATURE = 8.7872
INST_CMPRS_NAME = "DISCRETE COSINE TRANSFORMATION (DCT)"
INST_CMPRS_RATIO = 19.652
INST_CMPRS_QUALITY = 0
INST_CMPRS_QUANTZ_TBL_ID = 0
INSTRUMENT_TEMPERATURE = 11.4379
LENS_TEMPERATURE = 7.3599
MACROPIXEL_SIZE = 8
MISSING_FRAMES = 0
PIXEL_SUBSAMPLING_FLAG = N
SIGNAL_CHAIN_ID = 2
/* RADIOMETRIC DATA ELEMENTS */
BANDWIDTH = 88.0
CENTER_FILTER_WAVELENGTH = 538.0
RADIANCE_OFFSET = 1.87428
RADIANCE_SCALING_FACTOR = 0.00391548
REFLECTANCE_SCALING_FACTOR = 0.000156462
MEX:REFLECTANCE_OFFSET = 0.074896
/* IMAGE OBJECT DEFINITIONS */
OBJECT = IMAGE
  INTERCHANGE_FORMAT = BINARY
  LINES = 8011
  LINE_SAMPLES = 1083
  SAMPLE_TYPE = UNSIGNED_INTEGER
  SAMPLE_BITS = 8
  BANDS = 1
  BAND_STORAGE_TYPE = BAND_SEQUENTIAL
  MAXIMUM = 255
  MEAN = 169.822
  MINIMUM = 1
  STANDARD_DEVIATION = 34.2622
END_OBJECT = IMAGE
/* MAP OBJECT DEFINITIONS */
OBJECT = IMAGE_MAP_PROJECTION
  ^DATA_SET_MAP_PROJECTION_CATALOG= "DSMAP.CAT"
  A_AXIS_RADIUS = 3396.0
  B_AXIS_RADIUS = 3396.0
  C_AXIS_RADIUS = 3396.0
  CENTER_LATITUDE = 0.0
  CENTER_LONGITUDE = 85.0
  COORDINATE_SYSTEM_NAME = PLANETOGRAPHIC
  COORDINATE_SYSTEM_TYPE = "BODY-FIXED ROTATING"
  EASTERNMOST_LONGITUDE = 86.17659999999999
  FIRST_STANDARD_PARALLEL = "N/A"
  LINE_FIRST_PIXEL = 1
  LINE_LAST_PIXEL = 8011
  LINE_PROJECTION_OFFSET = -16642.3125
  MAP_PROJECTION_ROTATION = 0.0
  MAP_PROJECTION_TYPE = SINUSOIDAL
  MAP_RESOLUTION = 592.713803866667
  MAP_SCALE = 0.1
  MAXIMUM_LATITUDE = -28.0638
  MINIMUM_LATITUDE = -41.5695
  POSITIVE_LONGITUDE_DIRECTION = EAST
  REFERENCE_LATITUDE = "N/A"
  REFERENCE_LONGITUDE = "N/A"
  SAMPLE_FIRST_PIXEL = 1
  SAMPLE_LAST_PIXEL = 1083
  SAMPLE_PROJECTION_OFFSET = 468.6875
  SECOND_STANDARD_PARALLEL = "N/A"
  WESTERNMOST_LONGITUDE = 83.9769
END_OBJECT = IMAGE_MAP_PROJECTION
/* The JPEG2000 image data file associated with this label. */
OBJECT = COMPRESSED_FILE
  FILE_NAME = "H6473_0000_GR3.JP2"
  RECORD_TYPE = UNDEFINED
  FILE_RECORDS = UNK
  ENCODING_TYPE = "JP2"
  INTERCHANGE_FORMAT = BINARY
  UNCOMPRESSED_FILE_NAME = "H6473_0000_GR3.IMG"
  REQUIRED_STORAGE_BYTES = "8694324"
  ^DESCRIPTION = "JP2INFO.TXT"
END_OBJECT = COMPRESSED_FILE
END
