PDS_VERSION_ID = PDS3
/* FILE DATA ELEMENTS */
RECORD_TYPE = STREAM
/* POINTERS TO DATA OBJECTS */
^COMPRESSED_FILE = "H6473_0000_S13.JP2"
/* IDENTIFICATION DATA ELEMENTS */
DATA_SET_ID = "MEX-M-HRSC-5-REFDR-MAPPROJECTED-V3.0"
DATA_SET_NAME = "MARS EXPRESS HRSC MAP PROJECTED REFDR V3.0"
DETECTOR_ID = MEX_HRSC_S1
EVENT_TYPE = "MARS-REGIONAL-MAPPING-Vo-Im-Fl"
INSTRUMENT_HOST_ID = MEX
INSTRUMENT_HOST_NAME = "MARS EXPRESS"
INSTRUMENT_ID = HRSC
INSTRUMENT_NAME = "HIGH RESOLUTION STEREO CAMERA"
MISSION_NAME = "MARS EXPRESS"
MISSION_PHASE_NAME = ME_Phase_15
PROCESSING_LEVEL_ID = 3
PRODUCT_CREATION_TIME = 2016-06-28T15:33:21.000Z
PRODUCT_ID = "H6473_0000_S13.JP2"
RELEASE_ID = 0072
REVISION_ID = 0000
/* QUALITY DATA ELEMENTS */
DATA_QUALITY_ID = 1
DATA_QUALITY_DESC = "Data calculated based on original SPICE kernels"
/* TIME DATA ELEMENTS */
SPACECRAFT_CLOCK_START_COUNT = "1/0180195332.08254"
SPACECRAFT_CLOCK_STOP_COUNT = "1/0180195639.46449"
START_TIME = 2009-01-16T14:16:42.472Z
STOP_TIME = 2009-01-16T14:20:40.198Z
/* ORBITAL DATA ELEMENTS */
ASCENDING_NODE_LONGITUDE = 94.4
MAXIMUM_RESOLUTION = 33.1
FOOTPRINT_POINT_LATITUDE = (-41.4957,-41.492,-41.4866,-41.5727, -41.3249,-41.0772,-40.7065,-40.4594, -40.2141,-39.967,-39.5971,-39.1091, -38.8599,-38.487,-38.2374,-37.9841, -37.7297,-37.3499,-36.9651,-36.7065, -36.4493,-36.1866,-35.9223,-35.6582, -35.3888,-35.1208,-34.8538,-34.583, -34.1756,-33.8996,-33.6251,-33.3576, -33.0719,-32.6539,-32.3703,-32.0844, -31.6595,-31.3721,-31.0911,-30.7952, -30.5031,-30.2051,-29.9023,-29.604, -29.313,-29.0088,-28.7026,-28.3879, -28.0766,-28.068,-28.0671,-28.0651, -28.0612,-28.0575,-28.2101,-28.518, -28.9762,-29.2819,-29.5863,-30.0314, -30.3287,-30.6241,-30.9173,-31.2067, -31.6429,-31.9295,-32.2137,-32.4992, -32.7795,-33.059,-33.3387,-33.7523, -34.0298,-34.3012,-34.7083,-35.1118, -35.3824,-35.652,-35.917,-36.1816, -36.4439,-36.7019,-36.961,-37.3483, -37.6013,-37.8555,-38.11,-38.3604, -38.6097,-38.8608,-39.111,-39.601, -39.8484,-40.3376,-40.586,-40.8332, -41.081,-41.329,-41.5778,-41.4957)
FOOTPRINT_POINT_LONGITUDE = (85.3333,84.7883,84.2397,83.917,83.9264 ,83.9355,83.9488,83.9576,83.9653,83.974 ,83.9867,83.9999,84.0061,84.015,84.0214 ,84.0276,84.0332,84.0409,84.0472, 84.0519,84.0559,84.0602,84.0648,84.0693 ,84.075,84.0783,84.0812,84.0843,84.0876 ,84.0914,84.0921,84.0892,84.0942, 84.0943,84.0954,84.0963,84.094,84.093, 84.0879,84.0883,84.0866,84.0855,84.0867 ,84.0831,84.0761,84.0728,84.0705, 84.0697,84.0669,84.5182,84.9253,85.3317 ,85.6949,86.0145,86.2728,86.2631, 86.2487,86.2393,86.2307,86.2153,86.2059 ,86.1962,86.1868,86.1763,86.1626, 86.1527,86.143,86.1332,86.1235,86.1133, 86.1036,86.0885,86.0789,86.0688,86.0533 ,86.0385,86.0288,86.0193,86.0095, 85.9992,85.9886,85.978,85.9674,85.9513, 85.9405,85.9296,85.9185,85.9076,85.8966 ,85.8857,85.8743,85.8518,85.8408, 85.8168,85.8053,85.7932,85.781,85.7686, 85.756,85.3333)
ORBIT_NUMBER = 6473
ORBITAL_ECCENTRICITY = 0.576
ORBITAL_INCLINATION = 86.77
ORBITAL_SEMIMAJOR_AXIS = 8685.66
PERIAPSIS_ALTITUDE = 304.59
PERIAPSIS_ARGUMENT_ANGLE = 300.44
PERIAPSIS_TIME = 2009-01-16T14:11:35.000Z
SPACECRAFT_ORIENTATION = (0.0,1.0,0.0)
^MEX_ORIENTATION_DESC = "MEX_ORIENTATION_DESC.TXT"
SPACECRAFT_POINTING_MODE = ACROSSTRACK
^MEX_POINTING_DESC = "MEX_POINTING_DESC.TXT"
RIGHT_ASCENSION = -1e+32
DECLINATION = -1e+32
OFFSET_ANGLE = 0.3
SPACECRAFT_SOLAR_DISTANCE = 2.15436e+08
TARGET_NAME = MARS
/* CAMERA DATA ELEMENTS */
DETECTOR_TEMPERATURE = 17.351
FOCAL_PLANE_TEMPERATURE = 8.7872
INST_CMPRS_NAME = "DISCRETE COSINE TRANSFORMATION (DCT)"
INST_CMPRS_RATIO = 12.5731
INST_CMPRS_QUALITY = 0
INST_CMPRS_QUANTZ_TBL_ID = 0
INSTRUMENT_TEMPERATURE = 11.4379
LENS_TEMPERATURE = 7.3599
MACROPIXEL_SIZE = 2
MISSING_FRAMES = 0
PIXEL_SUBSAMPLING_FLAG = N
SIGNAL_CHAIN_ID = 1
/* RADIOMETRIC DATA ELEMENTS */
BANDWIDTH = 180.0
CENTER_FILTER_WAVELENGTH = 677.0
RADIANCE_OFFSET = 5.81307
RADIANCE_SCALING_FACTOR = 0.0135901
REFLECTANCE_SCALING_FACTOR = 0.000329079
MEX:REFLECTANCE_OFFSET = 0.140761
/* IMAGE OBJECT DEFINITIONS */
OBJECT = IMAGE
  INTERCHANGE_FORMAT = BINARY
  LINES = 32041
  LINE_SAMPLES = 4330
  SAMPLE_TYPE = UNSIGNED_INTEGER
  SAMPLE_BITS = 8
  BANDS = 1
  BAND_STORAGE_TYPE = BAND_SEQUENTIAL
  MAXIMUM = 255
  MEAN = 148.302
  MINIMUM = 1
  STANDARD_DEVIATION = 33.9968
END_OBJECT = IMAGE
/* MAP OBJECT DEFINITIONS */
OBJECT = IMAGE_MAP_PROJECTION
  ^DATA_SET_MAP_PROJECTION_CATALOG= "DSMAP.CAT"
  A_AXIS_RADIUS = 3396.0
  B_AXIS_RADIUS = 3396.0
  C_AXIS_RADIUS = 3396.0
  CENTER_LATITUDE = 0.0
  CENTER_LONGITUDE = 85.0
  COORDINATE_SYSTEM_NAME = PLANETOGRAPHIC
  COORDINATE_SYSTEM_TYPE = "BODY-FIXED ROTATING"
  EASTERNMOST_LONGITUDE = 86.2728
  FIRST_STANDARD_PARALLEL = "N/A"
  LINE_FIRST_PIXEL = 1
  LINE_LAST_PIXEL = 32041
  LINE_PROJECTION_OFFSET = -66567.75
  MAP_PROJECTION_ROTATION = 0.0
  MAP_PROJECTION_TYPE = SINUSOIDAL
  MAP_RESOLUTION = 2370.85521546667
  MAP_SCALE = 0.025
  MAXIMUM_LATITUDE = -28.0575
  MINIMUM_LATITUDE = -41.5778
  POSITIVE_LONGITUDE_DIRECTION = EAST
  REFERENCE_LATITUDE = "N/A"
  REFERENCE_LONGITUDE = "N/A"
  SAMPLE_FIRST_PIXEL = 1
  SAMPLE_LAST_PIXEL = 4330
  SAMPLE_PROJECTION_OFFSET = 1876.25
  SECOND_STANDARD_PARALLEL = "N/A"
  WESTERNMOST_LONGITUDE = 83.917
END_OBJECT = IMAGE_MAP_PROJECTION
/* The JPEG2000 image data file associated with this label. */
OBJECT = COMPRESSED_FILE
  FILE_NAME = "H6473_0000_S13.JP2"
  RECORD_TYPE = UNDEFINED
  FILE_RECORDS = UNK
  ENCODING_TYPE = "JP2"
  INTERCHANGE_FORMAT = BINARY
  UNCOMPRESSED_FILE_NAME = "H6473_0000_S13.IMG"
  REQUIRED_STORAGE_BYTES = "138763510"
  ^DESCRIPTION = "JP2INFO.TXT"
END_OBJECT = COMPRESSED_FILE
END
