PDS_VERSION_ID = PDS3
/* FILE DATA ELEMENTS */
RECORD_TYPE = STREAM
/* POINTERS TO DATA OBJECTS */
^COMPRESSED_FILE = "H6473_0000_S23.JP2"
/* IDENTIFICATION DATA ELEMENTS */
DATA_SET_ID = "MEX-M-HRSC-5-REFDR-MAPPROJECTED-V3.0"
DATA_SET_NAME = "MARS EXPRESS HRSC MAP PROJECTED REFDR V3.0"
DETECTOR_ID = MEX_HRSC_S2
EVENT_TYPE = "MARS-REGIONAL-MAPPING-Vo-Im-Fl"
INSTRUMENT_HOST_ID = MEX
INSTRUMENT_HOST_NAME = "MARS EXPRESS"
INSTRUMENT_ID = HRSC
INSTRUMENT_NAME = "HIGH RESOLUTION STEREO CAMERA"
MISSION_NAME = "MARS EXPRESS"
MISSION_PHASE_NAME = ME_Phase_15
PROCESSING_LEVEL_ID = 3
PRODUCT_CREATION_TIME = 2016-06-28T15:33:21.000Z
PRODUCT_ID = "H6473_0000_S23.JP2"
RELEASE_ID = 0072
REVISION_ID = 0000
/* QUALITY DATA ELEMENTS */
DATA_QUALITY_ID = 1
DATA_QUALITY_DESC = "Data calculated based on original SPICE kernels"
/* TIME DATA ELEMENTS */
SPACECRAFT_CLOCK_START_COUNT = "1/0180195332.08254"
SPACECRAFT_CLOCK_STOP_COUNT = "1/0180195639.46449"
START_TIME = 2009-01-16T14:15:34.569Z
STOP_TIME = 2009-01-16T14:18:58.829Z
/* ORBITAL DATA ELEMENTS */
ASCENDING_NODE_LONGITUDE = 94.4
MAXIMUM_RESOLUTION = 30.2
FOOTPRINT_POINT_LATITUDE = (-41.6719,-41.6521,-41.617,-41.2983, -41.0723,-40.8462,-40.3963,-39.9455, -39.6084,-39.3824,-38.983,-38.7148, -38.4445,-38.1769,-37.9085,-37.6406, -37.2381,-36.9684,-36.7005,-36.2989, -35.8984,-35.6331,-35.3708,-35.1049, -34.7056,-34.3057,-34.0375,-33.7636, -33.4809,-33.2064,-32.9375,-32.6548, -32.3754,-32.0941,-31.8078,-31.5221, -31.2262,-30.7885,-30.4984,-30.2052, -29.9159,-29.6137,-29.3053,-29.0024, -28.6976,-28.4021,-28.0902,-28.0896, -28.0994,-28.1107,-28.1152,-28.1191, -28.4311,-28.7408,-29.0449,-29.3502, -29.6488,-30.1002,-30.3983,-30.6912, -30.9839,-31.2779,-31.5632,-31.8511, -32.1379,-32.561,-32.982,-33.2623, -33.5366,-33.8106,-34.0828,-34.362, -34.6278,-34.8956,-35.1597,-35.4241, -35.6874,-35.9539,-36.221,-36.4894, -36.7581,-37.1607,-37.4296,-37.6993, -37.9683,-38.2377,-38.5069,-38.9097, -39.1791,-39.4453,-39.6702,-39.8987, -40.1244,-40.3514,-40.6892,-40.9156, -41.1418,-41.3686,-41.5949,-41.6719)
FOOTPRINT_POINT_LONGITUDE = (85.2817,84.7846,84.0479,84.0035, 84.0129,84.0221,84.0407,84.0579,84.0706 ,84.078,84.0909,84.0997,84.107,84.1154, 84.123,84.1305,84.1408,84.1465,84.1528, 84.1617,84.1703,84.1765,84.1838,84.189, 84.1959,84.202,84.2083,84.2114,84.2101, 84.2126,84.2206,84.2217,84.224,84.2266, 84.2283,84.23,84.2266,84.2286,84.2302, 84.2307,84.2351,84.2333,84.2289,84.2292 ,84.2282,84.232,84.2301,84.5033,84.9396 ,85.5558,85.8267,86.1035,86.0968, 86.0895,86.083,86.0761,86.0696,86.0585, 86.0512,86.044,86.0368,86.0291,86.022, 86.0143,86.0066,85.9952,85.9833,85.9754 ,85.9675,85.9594,85.9516,85.9422, 85.9344,85.926,85.9183,85.9104,85.9026, 85.8941,85.8853,85.8761,85.8667,85.8525 ,85.8428,85.8328,85.8228,85.8126, 85.8023,85.7868,85.7761,85.7653,85.7563 ,85.7464,85.737,85.7271,85.7128,85.7029 ,85.6928,85.6825,85.6722,85.2817)
ORBIT_NUMBER = 6473
ORBITAL_ECCENTRICITY = 0.576
ORBITAL_INCLINATION = 86.77
ORBITAL_SEMIMAJOR_AXIS = 8685.66
PERIAPSIS_ALTITUDE = 304.59
PERIAPSIS_ARGUMENT_ANGLE = 300.44
PERIAPSIS_TIME = 2009-01-16T14:11:35.000Z
SPACECRAFT_ORIENTATION = (0.0,1.0,0.0)
^MEX_ORIENTATION_DESC = "MEX_ORIENTATION_DESC.TXT"
SPACECRAFT_POINTING_MODE = ACROSSTRACK
^MEX_POINTING_DESC = "MEX_POINTING_DESC.TXT"
RIGHT_ASCENSION = -1e+32
DECLINATION = -1e+32
OFFSET_ANGLE = 0.3
SPACECRAFT_SOLAR_DISTANCE = 2.15436e+08
TARGET_NAME = MARS
/* CAMERA DATA ELEMENTS */
DETECTOR_TEMPERATURE = 18.7783
FOCAL_PLANE_TEMPERATURE = 8.7872
INST_CMPRS_NAME = "DISCRETE COSINE TRANSFORMATION (DCT)"
INST_CMPRS_RATIO = 12.0181
INST_CMPRS_QUALITY = 0
INST_CMPRS_QUANTZ_TBL_ID = 0
INSTRUMENT_TEMPERATURE = 11.4379
LENS_TEMPERATURE = 7.3599
MACROPIXEL_SIZE = 2
MISSING_FRAMES = 0
PIXEL_SUBSAMPLING_FLAG = N
SIGNAL_CHAIN_ID = 1
/* RADIOMETRIC DATA ELEMENTS */
BANDWIDTH = 178.0
CENTER_FILTER_WAVELENGTH = 679.0
RADIANCE_OFFSET = 5.35604
RADIANCE_SCALING_FACTOR = 0.0146803
REFLECTANCE_SCALING_FACTOR = 0.000360826
MEX:REFLECTANCE_OFFSET = 0.131646
/* IMAGE OBJECT DEFINITIONS */
OBJECT = IMAGE
  INTERCHANGE_FORMAT = BINARY
  LINES = 32041
  LINE_SAMPLES = 4330
  SAMPLE_TYPE = UNSIGNED_INTEGER
  SAMPLE_BITS = 8
  BANDS = 1
  BAND_STORAGE_TYPE = BAND_SEQUENTIAL
  MAXIMUM = 255
  MEAN = 147.9
  MINIMUM = 1
  STANDARD_DEVIATION = 39.2552
END_OBJECT = IMAGE
/* MAP OBJECT DEFINITIONS */
OBJECT = IMAGE_MAP_PROJECTION
  ^DATA_SET_MAP_PROJECTION_CATALOG= "DSMAP.CAT"
  A_AXIS_RADIUS = 3396.0
  B_AXIS_RADIUS = 3396.0
  C_AXIS_RADIUS = 3396.0
  CENTER_LATITUDE = 0.0
  CENTER_LONGITUDE = 85.0
  COORDINATE_SYSTEM_NAME = PLANETOGRAPHIC
  COORDINATE_SYSTEM_TYPE = "BODY-FIXED ROTATING"
  EASTERNMOST_LONGITUDE = 86.1035
  FIRST_STANDARD_PARALLEL = "N/A"
  LINE_FIRST_PIXEL = 1
  LINE_LAST_PIXEL = 32041
  LINE_PROJECTION_OFFSET = -66567.75
  MAP_PROJECTION_ROTATION = 0.0
  MAP_PROJECTION_TYPE = SINUSOIDAL
  MAP_RESOLUTION = 2370.85521546667
  MAP_SCALE = 0.025
  MAXIMUM_LATITUDE = -28.0896
  MINIMUM_LATITUDE = -41.6719
  POSITIVE_LONGITUDE_DIRECTION = EAST
  REFERENCE_LATITUDE = "N/A"
  REFERENCE_LONGITUDE = "N/A"
  SAMPLE_FIRST_PIXEL = 1
  SAMPLE_LAST_PIXEL = 4330
  SAMPLE_PROJECTION_OFFSET = 1876.25
  SECOND_STANDARD_PARALLEL = "N/A"
  WESTERNMOST_LONGITUDE = 84.0035
END_OBJECT = IMAGE_MAP_PROJECTION
/* The JPEG2000 image data file associated with this label. */
OBJECT = COMPRESSED_FILE
  FILE_NAME = "H6473_0000_S23.JP2"
  RECORD_TYPE = UNDEFINED
  FILE_RECORDS = UNK
  ENCODING_TYPE = "JP2"
  INTERCHANGE_FORMAT = BINARY
  UNCOMPRESSED_FILE_NAME = "H6473_0000_S23.IMG"
  REQUIRED_STORAGE_BYTES = "138763510"
  ^DESCRIPTION = "JP2INFO.TXT"
END_OBJECT = COMPRESSED_FILE
END
