PDS_VERSION_ID = PDS3
/* FILE DATA ELEMENTS */
RECORD_TYPE = STREAM
/* POINTERS TO DATA OBJECTS */
^COMPRESSED_FILE = "H6476_0000_S23.JP2"
/* IDENTIFICATION DATA ELEMENTS */
DATA_SET_ID = "MEX-M-HRSC-5-REFDR-MAPPROJECTED-V3.0"
DATA_SET_NAME = "MARS EXPRESS HRSC MAP PROJECTED REFDR V3.0"
DETECTOR_ID = MEX_HRSC_S2
EVENT_TYPE = "MARS-REGIONAL-MAPPING-Im-Fl"
INSTRUMENT_HOST_ID = MEX
INSTRUMENT_HOST_NAME = "MARS EXPRESS"
INSTRUMENT_ID = HRSC
INSTRUMENT_NAME = "HIGH RESOLUTION STEREO CAMERA"
MISSION_NAME = "MARS EXPRESS"
MISSION_PHASE_NAME = ME_Phase_15
PROCESSING_LEVEL_ID = 3
PRODUCT_CREATION_TIME = 2016-06-28T15:33:21.000Z
PRODUCT_ID = "H6476_0000_S23.JP2"
RELEASE_ID = 0072
REVISION_ID = 0000
/* QUALITY DATA ELEMENTS */
DATA_QUALITY_ID = 2
DATA_QUALITY_DESC = "Data calculated based on photogrammetrically improved orbit and attitude data"
/* TIME DATA ELEMENTS */
SPACECRAFT_CLOCK_START_COUNT = "1/0180269610.09062"
SPACECRAFT_CLOCK_STOP_COUNT = "1/0180270064.47994"
START_TIME = 2009-01-17T10:53:32.618Z
STOP_TIME = 2009-01-17T10:58:41.444Z
/* ORBITAL DATA ELEMENTS */
ASCENDING_NODE_LONGITUDE = 94.34
MAXIMUM_RESOLUTION = 31.3
FOOTPRINT_POINT_LATITUDE = (-39.383,-39.3735,-39.1479,-38.7999, -38.4525,-38.1049,-37.7584,-37.4134, -37.0664,-36.5452,-36.1878,-35.8412, -35.5063,-35.1617,-34.8106,-34.4553, -34.1006,-33.741,-33.378,-33.0156, -32.6471,-32.2761,-31.9058,-31.3374, -30.9585,-30.5714,-30.1847,-29.595, -29.2007,-28.7983,-28.3951,-27.9884, -27.5794,-27.1579,-26.5367,-25.8967, -25.4641,-25.0232,-24.5822,-24.1347, -23.4517,-22.9938,-22.5341,-22.0625, -21.5822,-21.107,-20.6185,-20.1264, -19.631,-19.3202,-19.3244,-19.322, -19.3172,-19.311,-19.8134,-20.5548, -21.0422,-21.524,-22.0012,-22.4724, -22.9371,-23.3949,-24.0776,-24.5268, -24.9662,-25.6288,-26.0608,-26.4863, -26.9082,-27.3233,-27.9476,-28.3592, -28.7627,-29.1667,-29.5624,-29.9583, -30.3489,-30.7351,-31.3129,-31.697, -32.2571,-32.6284,-32.9985,-33.3618, -33.7244,-34.2653,-34.7865,-35.1387, -35.4854,-35.841,-36.1872,-36.53, -36.8815,-37.4019,-37.7492,-38.0878, -38.4422,-38.9655,-39.3137,-39.383)
FOOTPRINT_POINT_LONGITUDE = (143.937,143.492,142.905,142.914, 142.922,142.929,142.937,142.944,142.95, 142.958,142.96,142.964,142.972,142.976, 142.98,142.983,142.985,142.987,142.989, 142.991,142.992,142.992,142.993,142.993 ,142.992,142.991,142.989,142.986, 142.984,142.981,142.977,142.974,142.97, 142.963,142.958,142.948,142.942,142.933 ,142.925,142.916,142.901,142.89,142.881 ,142.869,142.855,142.843,142.829, 142.814,142.799,143.174,143.643,144.325 ,144.666,144.994,144.988,144.979, 144.973,144.967,144.96,144.954,144.948, 144.942,144.932,144.925,144.92,144.907, 144.9,144.894,144.887,144.881,144.869, 144.861,144.854,144.846,144.838,144.83, 144.821,144.814,144.8,144.79,144.778, 144.769,144.76,144.751,144.742,144.727, 144.717,144.707,144.697,144.684,144.674 ,144.665,144.653,144.637,144.626, 144.619,144.605,144.587,144.575, 143.937)
ORBIT_NUMBER = 6476
ORBITAL_ECCENTRICITY = 0.575
ORBITAL_INCLINATION = 86.75
ORBITAL_SEMIMAJOR_AXIS = 8684.86
PERIAPSIS_ALTITUDE = 306.08
PERIAPSIS_ARGUMENT_ANGLE = 299.95
PERIAPSIS_TIME = 2009-01-17T10:48:51.000Z
SPACECRAFT_ORIENTATION = (0.0,1.0,0.0)
^MEX_ORIENTATION_DESC = "MEX_ORIENTATION_DESC.TXT"
SPACECRAFT_POINTING_MODE = NADIR
^MEX_POINTING_DESC = "MEX_POINTING_DESC.TXT"
RIGHT_ASCENSION = -1e+32
DECLINATION = -1e+32
OFFSET_ANGLE = -1e+32
SPACECRAFT_SOLAR_DISTANCE = 2.15293e+08
TARGET_NAME = MARS
/* CAMERA DATA ELEMENTS */
DETECTOR_TEMPERATURE = 18.7783
FOCAL_PLANE_TEMPERATURE = 8.5833
INST_CMPRS_NAME = "DISCRETE COSINE TRANSFORMATION (DCT)"
INST_CMPRS_RATIO = 11.058
INST_CMPRS_QUALITY = 0
INST_CMPRS_QUANTZ_TBL_ID = 0
INSTRUMENT_TEMPERATURE = 11.8457
LENS_TEMPERATURE = 8.9911
MACROPIXEL_SIZE = 2
MISSING_FRAMES = 0
PIXEL_SUBSAMPLING_FLAG = N
SIGNAL_CHAIN_ID = 1
/* RADIOMETRIC DATA ELEMENTS */
BANDWIDTH = 178.0
CENTER_FILTER_WAVELENGTH = 679.0
RADIANCE_OFFSET = 3.70604
RADIANCE_SCALING_FACTOR = 0.0191088
REFLECTANCE_SCALING_FACTOR = 0.000469054
MEX:REFLECTANCE_OFFSET = 0.09097
/* IMAGE OBJECT DEFINITIONS */
OBJECT = IMAGE
  INTERCHANGE_FORMAT = BINARY
  LINES = 47575
  LINE_SAMPLES = 5565
  SAMPLE_TYPE = UNSIGNED_INTEGER
  SAMPLE_BITS = 8
  BANDS = 1
  BAND_STORAGE_TYPE = BAND_SEQUENTIAL
  MAXIMUM = 255
  MEAN = 120.403
  MINIMUM = 1
  STANDARD_DEVIATION = 25.5997
END_OBJECT = IMAGE
/* MAP OBJECT DEFINITIONS */
OBJECT = IMAGE_MAP_PROJECTION
  ^DATA_SET_MAP_PROJECTION_CATALOG= "DSMAP.CAT"
  A_AXIS_RADIUS = 3396.0
  B_AXIS_RADIUS = 3396.0
  C_AXIS_RADIUS = 3396.0
  CENTER_LATITUDE = 0.0
  CENTER_LONGITUDE = 144.0
  COORDINATE_SYSTEM_NAME = PLANETOGRAPHIC
  COORDINATE_SYSTEM_TYPE = "BODY-FIXED ROTATING"
  EASTERNMOST_LONGITUDE = 144.994
  FIRST_STANDARD_PARALLEL = "N/A"
  LINE_FIRST_PIXEL = 1
  LINE_LAST_PIXEL = 47575
  LINE_PROJECTION_OFFSET = -45610.25
  MAP_PROJECTION_ROTATION = 0.0
  MAP_PROJECTION_TYPE = SINUSOIDAL
  MAP_RESOLUTION = 2370.85521546667
  MAP_SCALE = 0.025
  MAXIMUM_LATITUDE = -19.311
  MINIMUM_LATITUDE = -39.383
  POSITIVE_LONGITUDE_DIRECTION = EAST
  REFERENCE_LATITUDE = "N/A"
  REFERENCE_LONGITUDE = "N/A"
  SAMPLE_FIRST_PIXEL = 1
  SAMPLE_LAST_PIXEL = 5565
  SAMPLE_PROJECTION_OFFSET = 3033.25
  SECOND_STANDARD_PARALLEL = "N/A"
  WESTERNMOST_LONGITUDE = 142.799
END_OBJECT = IMAGE_MAP_PROJECTION
/* The JPEG2000 image data file associated with this label. */
OBJECT = COMPRESSED_FILE
  FILE_NAME = "H6476_0000_S23.JP2"
  RECORD_TYPE = UNDEFINED
  FILE_RECORDS = UNK
  ENCODING_TYPE = "JP2"
  INTERCHANGE_FORMAT = BINARY
  UNCOMPRESSED_FILE_NAME = "H6476_0000_S23.IMG"
  REQUIRED_STORAGE_BYTES = "264782700"
  ^DESCRIPTION = "JP2INFO.TXT"
END_OBJECT = COMPRESSED_FILE
END
