PDS_VERSION_ID = PDS3
/* FILE DATA ELEMENTS */
RECORD_TYPE = STREAM
/* POINTERS TO DATA OBJECTS */
^COMPRESSED_FILE = "H6479_0000_GR3.JP2"
/* IDENTIFICATION DATA ELEMENTS */
DATA_SET_ID = "MEX-M-HRSC-5-REFDR-MAPPROJECTED-V3.0"
DATA_SET_NAME = "MARS EXPRESS HRSC MAP PROJECTED REFDR V3.0"
DETECTOR_ID = MEX_HRSC_GREEN
EVENT_TYPE = "MARS-REGIONAL-MAPPING-Te-Im-Fl"
INSTRUMENT_HOST_ID = MEX
INSTRUMENT_HOST_NAME = "MARS EXPRESS"
INSTRUMENT_ID = HRSC
INSTRUMENT_NAME = "HIGH RESOLUTION STEREO CAMERA"
MISSION_NAME = "MARS EXPRESS"
MISSION_PHASE_NAME = ME_Phase_15
PROCESSING_LEVEL_ID = 3
PRODUCT_CREATION_TIME = 2016-06-28T15:33:21.000Z
PRODUCT_ID = "H6479_0000_GR3.JP2"
RELEASE_ID = 0072
REVISION_ID = 0000
/* QUALITY DATA ELEMENTS */
DATA_QUALITY_ID = 2
DATA_QUALITY_DESC = "Data calculated based on photogrammetrically improved orbit and attitude data"
/* TIME DATA ELEMENTS */
SPACECRAFT_CLOCK_START_COUNT = "1/0180343745.07284"
SPACECRAFT_CLOCK_STOP_COUNT = "1/0180344145.45143"
START_TIME = 2009-01-18T07:29:43.029Z
STOP_TIME = 2009-01-18T07:34:55.814Z
/* ORBITAL DATA ELEMENTS */
ASCENDING_NODE_LONGITUDE = 94.28
MAXIMUM_RESOLUTION = 109.2
FOOTPRINT_POINT_LATITUDE = (-46.4596,-46.4469,-46.2786,-45.9625, -45.6466,-45.331,-45.0154,-44.7002, -44.3856,-44.0719,-43.7583,-43.4454, -43.1328,-42.7836,-42.2274,-41.8565, -41.4862,-40.9319,-40.5632,-40.1951, -39.8273,-39.4598,-39.0932,-38.7273, -38.3616,-37.9902,-37.6158,-37.0527, -36.6716,-36.2917,-35.71,-35.3222, -34.9261,-34.5309,-34.1287,-33.7266, -33.3179,-32.9081,-32.4931,-32.076, -31.6512,-31.0098,-30.5779,-30.1392, -29.6985,-29.2526,-28.8018,-28.347, -27.8876,-27.277,-27.2804,-27.2822, -27.2817,-27.2819,-27.7511,-28.2112, -28.8966,-29.3485,-29.7948,-30.2349, -30.8896,-31.3223,-31.7478,-32.1713, -32.5899,-33.2107,-33.6224,-34.0257, -34.6295,-35.0252,-35.4207,-35.8088, -36.3916,-36.9628,-37.3439,-37.7171, -38.0892,-38.6444,-39.1945,-39.5622, -39.9303,-40.2989,-40.668,-41.0378, -41.408,-41.7788,-42.3362,-42.708, -43.0747,-43.3883,-43.859,-44.1728, -44.4874,-44.8041,-45.1196,-45.4354, -45.7517,-46.0683,-46.3852,-46.4596)
FOOTPRINT_POINT_LONGITUDE = (202.039,201.57,201.032,201.049,201.066 ,201.083,201.1,201.116,201.132,201.145, 201.159,201.171,201.183,201.195,201.212 ,201.223,201.235,201.251,201.261, 201.271,201.281,201.291,201.3,201.308, 201.318,201.326,201.335,201.344,201.35, 201.354,201.358,201.362,201.364,201.366 ,201.368,201.368,201.369,201.368, 201.366,201.364,201.364,201.361,201.358 ,201.354,201.35,201.345,201.339,201.334 ,201.326,201.316,201.959,202.389, 202.683,203.193,203.392,203.379,203.364 ,203.356,203.343,203.332,203.316, 203.305,203.294,203.283,203.272,203.255 ,203.243,203.231,203.214,203.201, 203.189,203.176,203.16,203.14,203.13, 203.117,203.1,203.086,203.068,203.055, 203.042,203.028,203.014,202.999,202.983 ,202.967,202.942,202.924,202.902, 202.888,202.866,202.85,202.835,202.823, 202.807,202.791,202.774,202.757,202.74, 202.039)
ORBIT_NUMBER = 6479
ORBITAL_ECCENTRICITY = 0.575
ORBITAL_INCLINATION = 86.77
ORBITAL_SEMIMAJOR_AXIS = 8680.75
PERIAPSIS_ALTITUDE = 305.29
PERIAPSIS_ARGUMENT_ANGLE = 299.42
PERIAPSIS_TIME = 2009-01-18T07:26:05.000Z
SPACECRAFT_ORIENTATION = (0.0,1.0,0.0)
^MEX_ORIENTATION_DESC = "MEX_ORIENTATION_DESC.TXT"
SPACECRAFT_POINTING_MODE = NADIR
^MEX_POINTING_DESC = "MEX_POINTING_DESC.TXT"
RIGHT_ASCENSION = -1e+32
DECLINATION = -1e+32
OFFSET_ANGLE = -1e+32
SPACECRAFT_SOLAR_DISTANCE = 2.15151e+08
TARGET_NAME = MARS
/* CAMERA DATA ELEMENTS */
DETECTOR_TEMPERATURE = 18.5744
FOCAL_PLANE_TEMPERATURE = 8.1755
INST_CMPRS_NAME = "DISCRETE COSINE TRANSFORMATION (DCT)"
INST_CMPRS_RATIO = 10.8062
INST_CMPRS_QUALITY = 0
INST_CMPRS_QUANTZ_TBL_ID = 0
INSTRUMENT_TEMPERATURE = 11.234
LENS_TEMPERATURE = 8.5833
MACROPIXEL_SIZE = 8
MISSING_FRAMES = 0
PIXEL_SUBSAMPLING_FLAG = N
SIGNAL_CHAIN_ID = 2
/* RADIOMETRIC DATA ELEMENTS */
BANDWIDTH = 88.0
CENTER_FILTER_WAVELENGTH = 538.0
RADIANCE_OFFSET = 1.16936
RADIANCE_SCALING_FACTOR = 0.0061378
REFLECTANCE_SCALING_FACTOR = 0.000244617
MEX:REFLECTANCE_OFFSET = 0.0466038
/* IMAGE OBJECT DEFINITIONS */
OBJECT = IMAGE
  INTERCHANGE_FORMAT = BINARY
  LINES = 11388
  LINE_SAMPLES = 1163
  SAMPLE_TYPE = UNSIGNED_INTEGER
  SAMPLE_BITS = 8
  BANDS = 1
  BAND_STORAGE_TYPE = BAND_SEQUENTIAL
  MAXIMUM = 255
  MEAN = 126.084
  MINIMUM = 1
  STANDARD_DEVIATION = 29.999
END_OBJECT = IMAGE
/* MAP OBJECT DEFINITIONS */
OBJECT = IMAGE_MAP_PROJECTION
  ^DATA_SET_MAP_PROJECTION_CATALOG= "DSMAP.CAT"
  A_AXIS_RADIUS = 3396.0
  B_AXIS_RADIUS = 3396.0
  C_AXIS_RADIUS = 3396.0
  CENTER_LATITUDE = 0.0
  CENTER_LONGITUDE = 202.0
  COORDINATE_SYSTEM_NAME = PLANETOGRAPHIC
  COORDINATE_SYSTEM_TYPE = "BODY-FIXED ROTATING"
  EASTERNMOST_LONGITUDE = 203.392
  FIRST_STANDARD_PARALLEL = "N/A"
  LINE_FIRST_PIXEL = 1
  LINE_LAST_PIXEL = 11388
  LINE_PROJECTION_OFFSET = -16171.1875
  MAP_PROJECTION_ROTATION = 0.0
  MAP_PROJECTION_TYPE = SINUSOIDAL
  MAP_RESOLUTION = 592.713803866667
  MAP_SCALE = 0.1
  MAXIMUM_LATITUDE = -27.277
  MINIMUM_LATITUDE = -46.4596
  POSITIVE_LONGITUDE_DIRECTION = EAST
  REFERENCE_LATITUDE = "N/A"
  REFERENCE_LONGITUDE = "N/A"
  SAMPLE_FIRST_PIXEL = 1
  SAMPLE_LAST_PIXEL = 1163
  SAMPLE_PROJECTION_OFFSET = 412.5625
  SECOND_STANDARD_PARALLEL = "N/A"
  WESTERNMOST_LONGITUDE = 201.032
END_OBJECT = IMAGE_MAP_PROJECTION
/* The JPEG2000 image data file associated with this label. */
OBJECT = COMPRESSED_FILE
  FILE_NAME = "H6479_0000_GR3.JP2"
  RECORD_TYPE = UNDEFINED
  FILE_RECORDS = UNK
  ENCODING_TYPE = "JP2"
  INTERCHANGE_FORMAT = BINARY
  UNCOMPRESSED_FILE_NAME = "H6479_0000_GR3.IMG"
  REQUIRED_STORAGE_BYTES = "13264015"
  ^DESCRIPTION = "JP2INFO.TXT"
END_OBJECT = COMPRESSED_FILE
END
