PDS_VERSION_ID = PDS3
/* FILE DATA ELEMENTS */
RECORD_TYPE = STREAM
/* POINTERS TO DATA OBJECTS */
^COMPRESSED_FILE = "H6479_0000_P13.JP2"
/* IDENTIFICATION DATA ELEMENTS */
DATA_SET_ID = "MEX-M-HRSC-5-REFDR-MAPPROJECTED-V3.0"
DATA_SET_NAME = "MARS EXPRESS HRSC MAP PROJECTED REFDR V3.0"
DETECTOR_ID = MEX_HRSC_P1
EVENT_TYPE = "MARS-REGIONAL-MAPPING-Te-Im-Fl"
INSTRUMENT_HOST_ID = MEX
INSTRUMENT_HOST_NAME = "MARS EXPRESS"
INSTRUMENT_ID = HRSC
INSTRUMENT_NAME = "HIGH RESOLUTION STEREO CAMERA"
MISSION_NAME = "MARS EXPRESS"
MISSION_PHASE_NAME = ME_Phase_15
PROCESSING_LEVEL_ID = 3
PRODUCT_CREATION_TIME = 2016-06-28T15:33:21.000Z
PRODUCT_ID = "H6479_0000_P13.JP2"
RELEASE_ID = 0072
REVISION_ID = 0000
/* QUALITY DATA ELEMENTS */
DATA_QUALITY_ID = 2
DATA_QUALITY_DESC = "Data calculated based on photogrammetrically improved orbit and attitude data"
/* TIME DATA ELEMENTS */
SPACECRAFT_CLOCK_START_COUNT = "1/0180343745.07284"
SPACECRAFT_CLOCK_STOP_COUNT = "1/0180344145.45143"
START_TIME = 2009-01-18T07:29:58.542Z
STOP_TIME = 2009-01-18T07:35:24.275Z
/* ORBITAL DATA ELEMENTS */
ASCENDING_NODE_LONGITUDE = 94.28
MAXIMUM_RESOLUTION = 28.6
FOOTPRINT_POINT_LATITUDE = (-46.4394,-46.432,-46.4216,-46.406, -45.9634,-45.4956,-45.0259,-44.714, -44.4031,-44.0945,-43.5512,-43.1848, -42.8207,-42.4608,-42.0973,-41.735, -41.1914,-40.8301,-40.47,-39.9292, -39.5686,-39.2034,-38.6509,-38.2821, -37.9025,-37.5251,-37.1441,-36.5725, -36.1848,-35.8017,-35.407,-35.0137, -34.6149,-34.2143,-33.8094,-33.4035, -32.9907,-32.5788,-32.1608,-31.7346, -31.3081,-30.8753,-30.4395,-30.0004, -29.5559,-29.107,-28.4262,-27.9676, -27.5042,-27.2567,-27.2554,-27.2583, -27.2547,-27.2588,-27.4906,-27.9552, -28.4132,-28.8716,-29.5516,-29.9936, -30.4339,-30.8708,-31.3045,-31.7322, -32.3679,-32.9947,-33.4091,-33.8162, -34.2248,-34.6252,-35.0256,-35.4178, -36.0074,-36.3957,-36.9674,-37.3544, -37.731,-38.2912,-38.6661,-39.2198, -39.5861,-39.9471,-40.3083,-40.6697, -41.0318,-41.3942,-41.7571,-42.3031, -42.6672,-43.0246,-43.3937,-43.7628, -44.1227,-44.4323,-44.7476,-45.2168, -45.5287,-45.8414,-46.1544,-46.4394)
FOOTPRINT_POINT_LONGITUDE = (202.57,202.22,201.786,201.218,201.014, 201.038,201.063,201.079,201.094,201.107 ,201.129,201.143,201.155,201.164, 201.175,201.186,201.202,201.212,201.22, 201.234,201.243,201.252,201.265,201.271 ,201.281,201.289,201.294,201.302, 201.305,201.306,201.31,201.311,201.313, 201.314,201.313,201.313,201.311,201.309 ,201.305,201.304,201.301,201.298, 201.294,201.289,201.283,201.277,201.266 ,201.257,201.248,201.693,201.973, 202.251,202.809,203.155,203.457,203.445 ,203.431,203.42,203.405,203.39,203.379, 203.367,203.355,203.343,203.325,203.307 ,203.294,203.281,203.269,203.256, 203.243,203.229,203.211,203.198,203.176 ,203.166,203.152,203.131,203.12,203.1, 203.087,203.074,203.059,203.045,203.029 ,203.013,202.997,202.972,202.954, 202.931,202.915,202.897,202.878,202.862 ,202.849,202.827,202.81,202.793,202.776 ,202.57)
ORBIT_NUMBER = 6479
ORBITAL_ECCENTRICITY = 0.575
ORBITAL_INCLINATION = 86.77
ORBITAL_SEMIMAJOR_AXIS = 8680.75
PERIAPSIS_ALTITUDE = 305.29
PERIAPSIS_ARGUMENT_ANGLE = 299.42
PERIAPSIS_TIME = 2009-01-18T07:26:05.000Z
SPACECRAFT_ORIENTATION = (0.0,1.0,0.0)
^MEX_ORIENTATION_DESC = "MEX_ORIENTATION_DESC.TXT"
SPACECRAFT_POINTING_MODE = NADIR
^MEX_POINTING_DESC = "MEX_POINTING_DESC.TXT"
RIGHT_ASCENSION = -1e+32
DECLINATION = -1e+32
OFFSET_ANGLE = -1e+32
SPACECRAFT_SOLAR_DISTANCE = 2.15151e+08
TARGET_NAME = MARS
/* CAMERA DATA ELEMENTS */
DETECTOR_TEMPERATURE = 17.351
FOCAL_PLANE_TEMPERATURE = 8.1755
INST_CMPRS_NAME = "DISCRETE COSINE TRANSFORMATION (DCT)"
INST_CMPRS_RATIO = 10.8997
INST_CMPRS_QUALITY = 0
INST_CMPRS_QUANTZ_TBL_ID = 0
INSTRUMENT_TEMPERATURE = 11.234
LENS_TEMPERATURE = 8.5833
MACROPIXEL_SIZE = 2
MISSING_FRAMES = 0
PIXEL_SUBSAMPLING_FLAG = N
SIGNAL_CHAIN_ID = 3
/* RADIOMETRIC DATA ELEMENTS */
BANDWIDTH = 174.0
CENTER_FILTER_WAVELENGTH = 675.0
RADIANCE_OFFSET = 3.30395
RADIANCE_SCALING_FACTOR = 0.0212018
REFLECTANCE_SCALING_FACTOR = 0.000527887
MEX:REFLECTANCE_OFFSET = 0.0822624
/* IMAGE OBJECT DEFINITIONS */
OBJECT = IMAGE
  INTERCHANGE_FORMAT = BINARY
  LINES = 45550
  LINE_SAMPLES = 4650
  SAMPLE_TYPE = UNSIGNED_INTEGER
  SAMPLE_BITS = 8
  BANDS = 1
  BAND_STORAGE_TYPE = BAND_SEQUENTIAL
  MAXIMUM = 255
  MEAN = 105.853
  MINIMUM = 1
  STANDARD_DEVIATION = 30.9151
END_OBJECT = IMAGE
/* MAP OBJECT DEFINITIONS */
OBJECT = IMAGE_MAP_PROJECTION
  ^DATA_SET_MAP_PROJECTION_CATALOG= "DSMAP.CAT"
  A_AXIS_RADIUS = 3396.0
  B_AXIS_RADIUS = 3396.0
  C_AXIS_RADIUS = 3396.0
  CENTER_LATITUDE = 0.0
  CENTER_LONGITUDE = 202.0
  COORDINATE_SYSTEM_NAME = PLANETOGRAPHIC
  COORDINATE_SYSTEM_TYPE = "BODY-FIXED ROTATING"
  EASTERNMOST_LONGITUDE = 203.457
  FIRST_STANDARD_PARALLEL = "N/A"
  LINE_FIRST_PIXEL = 1
  LINE_LAST_PIXEL = 45550
  LINE_PROJECTION_OFFSET = -64683.25
  MAP_PROJECTION_ROTATION = 0.0
  MAP_PROJECTION_TYPE = SINUSOIDAL
  MAP_RESOLUTION = 2370.85521546667
  MAP_SCALE = 0.025
  MAXIMUM_LATITUDE = -27.2547
  MINIMUM_LATITUDE = -46.4394
  POSITIVE_LONGITUDE_DIRECTION = EAST
  REFERENCE_LATITUDE = "N/A"
  REFERENCE_LONGITUDE = "N/A"
  SAMPLE_FIRST_PIXEL = 1
  SAMPLE_LAST_PIXEL = 4650
  SAMPLE_PROJECTION_OFFSET = 1651.75
  SECOND_STANDARD_PARALLEL = "N/A"
  WESTERNMOST_LONGITUDE = 201.014
END_OBJECT = IMAGE_MAP_PROJECTION
/* The JPEG2000 image data file associated with this label. */
OBJECT = COMPRESSED_FILE
  FILE_NAME = "H6479_0000_P13.JP2"
  RECORD_TYPE = UNDEFINED
  FILE_RECORDS = UNK
  ENCODING_TYPE = "JP2"
  INTERCHANGE_FORMAT = BINARY
  UNCOMPRESSED_FILE_NAME = "H6479_0000_P13.IMG"
  REQUIRED_STORAGE_BYTES = "211835400"
  ^DESCRIPTION = "JP2INFO.TXT"
END_OBJECT = COMPRESSED_FILE
END
