PDS_VERSION_ID = PDS3
/* FILE DATA ELEMENTS */
RECORD_TYPE = STREAM
/* POINTERS TO DATA OBJECTS */
^COMPRESSED_FILE = "H6483_0000_RE3.JP2"
/* IDENTIFICATION DATA ELEMENTS */
DATA_SET_ID = "MEX-M-HRSC-5-REFDR-MAPPROJECTED-V3.0"
DATA_SET_NAME = "MARS EXPRESS HRSC MAP PROJECTED REFDR V3.0"
DETECTOR_ID = MEX_HRSC_RED
EVENT_TYPE = "MARS-REGIONAL-MAPPING-Im-Fl-Gl"
INSTRUMENT_HOST_ID = MEX
INSTRUMENT_HOST_NAME = "MARS EXPRESS"
INSTRUMENT_ID = HRSC
INSTRUMENT_NAME = "HIGH RESOLUTION STEREO CAMERA"
MISSION_NAME = "MARS EXPRESS"
MISSION_PHASE_NAME = ME_Phase_15
PROCESSING_LEVEL_ID = 3
PRODUCT_CREATION_TIME = 2016-06-28T15:33:21.000Z
PRODUCT_ID = "H6483_0000_RE3.JP2"
RELEASE_ID = 0072
REVISION_ID = 0000
/* QUALITY DATA ELEMENTS */
DATA_QUALITY_ID = 2
DATA_QUALITY_DESC = "Data calculated based on photogrammetrically improved orbit and attitude data"
/* TIME DATA ELEMENTS */
SPACECRAFT_CLOCK_START_COUNT = "1/0180443001.07299"
SPACECRAFT_CLOCK_STOP_COUNT = "1/0180443345.36003"
START_TIME = 2009-01-19T11:03:29.306Z
STOP_TIME = 2009-01-19T11:07:12.647Z
/* ORBITAL DATA ELEMENTS */
ASCENDING_NODE_LONGITUDE = 94.2
MAXIMUM_RESOLUTION = 64.5
FOOTPRINT_POINT_LATITUDE = (-38.9077,-38.9149,-38.9266,-38.9349, -38.7709,-38.5151,-38.1332,-37.8771, -37.6216,-37.3663,-37.1107,-36.8559, -36.4706,-36.2102,-35.9512,-35.5632, -35.2997,-34.8996,-34.6309,-34.3607, -34.0868,-33.813,-33.5405,-33.1238, -32.8451,-32.5662,-32.2836,-31.9977, -31.7127,-31.2793,-30.9883,-30.6981, -30.4027,-30.1056,-29.6585,-29.3564, -29.0541,-28.5926,-28.2849,-27.8165, -27.5037,-27.1841,-26.7048,-26.3811, -26.0562,-25.5635,-25.2348,-24.9008, -24.5648,-24.5026,-24.4948,-24.4874, -24.4747,-24.4545,-24.6096,-24.9442, -25.4433,-25.9383,-26.2636,-26.59, -27.0692,-27.3889,-27.7029,-28.1735, -28.6363,-28.9449,-29.2476,-29.5508, -29.8516,-30.1486,-30.446,-30.8868, -31.1778,-31.4694,-31.7557,-32.0404, -32.4678,-32.748,-33.0261,-33.3048, -33.5798,-33.8523,-34.1255,-34.3992, -34.6667,-34.9346,-35.2021,-35.4685, -35.7301,-36.1222,-36.3835,-36.771, -37.0265,-37.411,-37.7947,-38.0507, -38.3072,-38.5634,-38.8201,-38.9077)
FOOTPRINT_POINT_LONGITUDE = (161.123,160.86,160.341,159.831,159.643 ,159.645,159.647,159.648,159.649, 159.649,159.65,159.65,159.651,159.65, 159.65,159.649,159.648,159.646,159.645, 159.644,159.642,159.64,159.638,159.635, 159.632,159.629,159.626,159.623,159.619 ,159.614,159.61,159.605,159.601,159.596 ,159.589,159.583,159.578,159.569, 159.563,159.553,159.546,159.539,159.528 ,159.52,159.512,159.499,159.49,159.481, 159.472,159.701,160.011,160.303,160.734 ,161.25,161.576,161.575,161.572,161.568 ,161.565,161.562,161.558,161.555, 161.552,161.547,161.543,161.54,161.537, 161.533,161.53,161.527,161.524,161.519, 161.516,161.512,161.509,161.506,161.501 ,161.497,161.495,161.492,161.488, 161.486,161.483,161.479,161.475,161.471 ,161.468,161.464,161.46,161.455,161.451 ,161.445,161.441,161.433,161.427, 161.423,161.418,161.414,161.41,161.123)
ORBIT_NUMBER = 6483
ORBITAL_ECCENTRICITY = 0.576
ORBITAL_INCLINATION = 86.76
ORBITAL_SEMIMAJOR_AXIS = 8699.32
PERIAPSIS_ALTITUDE = 306.2
PERIAPSIS_ARGUMENT_ANGLE = 298.75
PERIAPSIS_TIME = 2009-01-19T10:58:18.000Z
SPACECRAFT_ORIENTATION = (0.0,1.0,0.0)
^MEX_ORIENTATION_DESC = "MEX_ORIENTATION_DESC.TXT"
SPACECRAFT_POINTING_MODE = ACROSSTRACK
^MEX_POINTING_DESC = "MEX_POINTING_DESC.TXT"
RIGHT_ASCENSION = -1e+32
DECLINATION = -1e+32
OFFSET_ANGLE = -0.8
SPACECRAFT_SOLAR_DISTANCE = 2.14962e+08
TARGET_NAME = MARS
/* CAMERA DATA ELEMENTS */
DETECTOR_TEMPERATURE = 18.5744
FOCAL_PLANE_TEMPERATURE = 7.9716
INST_CMPRS_NAME = "DISCRETE COSINE TRANSFORMATION (DCT)"
INST_CMPRS_RATIO = 12.4774
INST_CMPRS_QUALITY = 0
INST_CMPRS_QUANTZ_TBL_ID = 0
INSTRUMENT_TEMPERATURE = 11.0301
LENS_TEMPERATURE = 8.3794
MACROPIXEL_SIZE = 4
MISSING_FRAMES = 0
PIXEL_SUBSAMPLING_FLAG = N
SIGNAL_CHAIN_ID = 2
/* RADIOMETRIC DATA ELEMENTS */
BANDWIDTH = 48.0
CENTER_FILTER_WAVELENGTH = 748.0
RADIANCE_OFFSET = 0.899785
RADIANCE_SCALING_FACTOR = 0.00593441
REFLECTANCE_SCALING_FACTOR = 0.000625783
MEX:REFLECTANCE_OFFSET = 0.0948823
/* IMAGE OBJECT DEFINITIONS */
OBJECT = IMAGE
  INTERCHANGE_FORMAT = BINARY
  LINES = 17091
  LINE_SAMPLES = 2521
  SAMPLE_TYPE = UNSIGNED_INTEGER
  SAMPLE_BITS = 8
  BANDS = 1
  BAND_STORAGE_TYPE = BAND_SEQUENTIAL
  MAXIMUM = 255
  MEAN = 115.317
  MINIMUM = 1
  STANDARD_DEVIATION = 28.3833
END_OBJECT = IMAGE
/* MAP OBJECT DEFINITIONS */
OBJECT = IMAGE_MAP_PROJECTION
  ^DATA_SET_MAP_PROJECTION_CATALOG= "DSMAP.CAT"
  A_AXIS_RADIUS = 3396.0
  B_AXIS_RADIUS = 3396.0
  C_AXIS_RADIUS = 3396.0
  CENTER_LATITUDE = 0.0
  CENTER_LONGITUDE = 161.0
  COORDINATE_SYSTEM_NAME = PLANETOGRAPHIC
  COORDINATE_SYSTEM_TYPE = "BODY-FIXED ROTATING"
  EASTERNMOST_LONGITUDE = 161.576
  FIRST_STANDARD_PARALLEL = "N/A"
  LINE_FIRST_PIXEL = 1
  LINE_LAST_PIXEL = 17091
  LINE_PROJECTION_OFFSET = -28991.875
  MAP_PROJECTION_ROTATION = 0.0
  MAP_PROJECTION_TYPE = SINUSOIDAL
  MAP_RESOLUTION = 1185.42760773333
  MAP_SCALE = 0.05
  MAXIMUM_LATITUDE = -24.4545
  MINIMUM_LATITUDE = -38.9349
  POSITIVE_LONGITUDE_DIRECTION = EAST
  REFERENCE_LATITUDE = "N/A"
  REFERENCE_LONGITUDE = "N/A"
  SAMPLE_FIRST_PIXEL = 1
  SAMPLE_LAST_PIXEL = 2521
  SAMPLE_PROJECTION_OFFSET = 1751.875
  SECOND_STANDARD_PARALLEL = "N/A"
  WESTERNMOST_LONGITUDE = 159.472
END_OBJECT = IMAGE_MAP_PROJECTION
/* The JPEG2000 image data file associated with this label. */
OBJECT = COMPRESSED_FILE
  FILE_NAME = "H6483_0000_RE3.JP2"
  RECORD_TYPE = UNDEFINED
  FILE_RECORDS = UNK
  ENCODING_TYPE = "JP2"
  INTERCHANGE_FORMAT = BINARY
  UNCOMPRESSED_FILE_NAME = "H6483_0000_RE3.IMG"
  REQUIRED_STORAGE_BYTES = "43106579"
  ^DESCRIPTION = "JP2INFO.TXT"
END_OBJECT = COMPRESSED_FILE
END
