PDS_VERSION_ID = PDS3
/* FILE DATA ELEMENTS */
RECORD_TYPE = STREAM
/* POINTERS TO DATA OBJECTS */
^COMPRESSED_FILE = "H6486_0000_P13.JP2"
/* IDENTIFICATION DATA ELEMENTS */
DATA_SET_ID = "MEX-M-HRSC-5-REFDR-MAPPROJECTED-V3.0"
DATA_SET_NAME = "MARS EXPRESS HRSC MAP PROJECTED REFDR V3.0"
DETECTOR_ID = MEX_HRSC_P1
EVENT_TYPE = "MARS-REGIONAL-MAPPING-Im-Fl"
INSTRUMENT_HOST_ID = MEX
INSTRUMENT_HOST_NAME = "MARS EXPRESS"
INSTRUMENT_ID = HRSC
INSTRUMENT_NAME = "HIGH RESOLUTION STEREO CAMERA"
MISSION_NAME = "MARS EXPRESS"
MISSION_PHASE_NAME = ME_Phase_15
PROCESSING_LEVEL_ID = 3
PRODUCT_CREATION_TIME = 2016-06-28T15:33:21.000Z
PRODUCT_ID = "H6486_0000_P13.JP2"
RELEASE_ID = 0072
REVISION_ID = 0000
/* QUALITY DATA ELEMENTS */
DATA_QUALITY_ID = 2
DATA_QUALITY_DESC = "Data calculated based on photogrammetrically improved orbit and attitude data"
/* TIME DATA ELEMENTS */
SPACECRAFT_CLOCK_START_COUNT = "1/0180517196.08244"
SPACECRAFT_CLOCK_STOP_COUNT = "1/0180517551.32426"
START_TIME = 2009-01-20T07:40:43.835Z
STOP_TIME = 2009-01-20T07:45:37.081Z
/* ORBITAL DATA ELEMENTS */
ASCENDING_NODE_LONGITUDE = 94.14
MAXIMUM_RESOLUTION = 25.3
FOOTPRINT_POINT_LATITUDE = (-56.6132,-56.594,-56.5684,-56.2773, -55.9407,-55.6096,-55.2785,-54.9474, -54.6192,-54.1051,-53.5944,-53.2542, -52.9171,-52.5777,-52.2368,-51.8919, -51.5512,-51.1993,-50.8496,-50.4997, -50.1515,-49.803,-49.2698,-48.9111, -48.556,-48.1994,-47.8407,-47.4847, -47.1301,-46.776,-46.4224,-46.0709, -45.7199,-45.3687,-45.0189,-44.4391, -44.0231,-43.6077,-43.1931,-42.78, -42.3679,-41.9567,-41.5459,-41.1348, -40.728,-40.1196,-39.7049,-39.2905, -38.8702,-38.4533,-38.2134,-38.2242, -38.2325,-38.2387,-38.8713,-39.2931, -39.7078,-40.3281,-40.7339,-41.3445, -41.7535,-42.1672,-42.5828,-42.9964, -43.4112,-43.8271,-44.2437,-44.8635, -45.2147,-45.5652,-45.9166,-46.2684, -46.8003,-47.1551,-47.5107,-47.8678, -48.4037,-48.7614,-49.2993,-49.6583, -50.1826,-50.5322,-50.8832,-51.2338, -51.5845,-51.9308,-52.2715,-52.6118, -52.9526,-53.2938,-53.6359,-53.9782, -54.321,-54.8272,-55.1581,-55.4931, -55.9874,-56.3221,-56.6551,-56.6132)
FOOTPRINT_POINT_LONGITUDE = (216.475,215.981,215.382,215.261, 215.307,215.347,215.387,215.425,215.461 ,215.52,215.572,215.605,215.636,215.668 ,215.699,215.732,215.759,215.789, 215.817,215.845,215.87,215.896,215.933, 215.957,215.979,216.0,216.022,216.043, 216.062,216.08,216.098,216.114,216.13, 216.145,216.159,216.182,216.198,216.212 ,216.226,216.239,216.251,216.262, 216.273,216.284,216.293,216.304,216.311 ,216.318,216.324,216.327,216.827, 217.362,217.714,218.241,218.218,218.203 ,218.188,218.165,218.148,218.123, 218.106,218.091,218.077,218.06,218.042, 218.025,218.006,217.978,217.961,217.943 ,217.925,217.906,217.879,217.861, 217.842,217.823,217.793,217.773,217.741 ,217.72,217.689,217.667,217.646,217.623 ,217.599,217.575,217.552,217.527, 217.502,217.476,217.45,217.423,217.396, 217.354,217.325,217.299,217.25,217.221, 217.189,216.475)
ORBIT_NUMBER = 6486
ORBITAL_ECCENTRICITY = 0.576
ORBITAL_INCLINATION = 86.77
ORBITAL_SEMIMAJOR_AXIS = 8696.14
PERIAPSIS_ALTITUDE = 304.88
PERIAPSIS_ARGUMENT_ANGLE = 298.21
PERIAPSIS_TIME = 2009-01-20T07:39:11.000Z
SPACECRAFT_ORIENTATION = (0.0,1.0,0.0)
^MEX_ORIENTATION_DESC = "MEX_ORIENTATION_DESC.TXT"
SPACECRAFT_POINTING_MODE = ACROSSTRACK
^MEX_POINTING_DESC = "MEX_POINTING_DESC.TXT"
RIGHT_ASCENSION = -1e+32
DECLINATION = -1e+32
OFFSET_ANGLE = -0.2
SPACECRAFT_SOLAR_DISTANCE = 2.14821e+08
TARGET_NAME = MARS
/* CAMERA DATA ELEMENTS */
DETECTOR_TEMPERATURE = 15.9237
FOCAL_PLANE_TEMPERATURE = 8.3794
INST_CMPRS_NAME = "DISCRETE COSINE TRANSFORMATION (DCT)"
INST_CMPRS_RATIO = 10.027
INST_CMPRS_QUALITY = 0
INST_CMPRS_QUANTZ_TBL_ID = 0
INSTRUMENT_TEMPERATURE = 11.0301
LENS_TEMPERATURE = 8.7872
MACROPIXEL_SIZE = 2
MISSING_FRAMES = 0
PIXEL_SUBSAMPLING_FLAG = N
SIGNAL_CHAIN_ID = 3
/* RADIOMETRIC DATA ELEMENTS */
BANDWIDTH = 174.0
CENTER_FILTER_WAVELENGTH = 675.0
RADIANCE_OFFSET = 3.50957
RADIANCE_SCALING_FACTOR = 0.0169637
REFLECTANCE_SCALING_FACTOR = 0.000421078
MEX:REFLECTANCE_OFFSET = 0.0871154
/* IMAGE OBJECT DEFINITIONS */
OBJECT = IMAGE
  INTERCHANGE_FORMAT = BINARY
  LINES = 43813
  LINE_SAMPLES = 4621
  SAMPLE_TYPE = UNSIGNED_INTEGER
  SAMPLE_BITS = 8
  BANDS = 1
  BAND_STORAGE_TYPE = BAND_SEQUENTIAL
  MAXIMUM = 255
  MEAN = 101.492
  MINIMUM = 1
  STANDARD_DEVIATION = 29.1821
END_OBJECT = IMAGE
/* MAP OBJECT DEFINITIONS */
OBJECT = IMAGE_MAP_PROJECTION
  ^DATA_SET_MAP_PROJECTION_CATALOG= "DSMAP.CAT"
  A_AXIS_RADIUS = 3396.0
  B_AXIS_RADIUS = 3396.0
  C_AXIS_RADIUS = 3396.0
  CENTER_LATITUDE = 0.0
  CENTER_LONGITUDE = 217.0
  COORDINATE_SYSTEM_NAME = PLANETOGRAPHIC
  COORDINATE_SYSTEM_TYPE = "BODY-FIXED ROTATING"
  EASTERNMOST_LONGITUDE = 218.241
  FIRST_STANDARD_PARALLEL = "N/A"
  LINE_FIRST_PIXEL = 1
  LINE_LAST_PIXEL = 43813
  LINE_PROJECTION_OFFSET = -90616.25
  MAP_PROJECTION_ROTATION = 0.0
  MAP_PROJECTION_TYPE = SINUSOIDAL
  MAP_RESOLUTION = 2370.85521546667
  MAP_SCALE = 0.025
  MAXIMUM_LATITUDE = -38.2134
  MINIMUM_LATITUDE = -56.6551
  POSITIVE_LONGITUDE_DIRECTION = EAST
  REFERENCE_LATITUDE = "N/A"
  REFERENCE_LONGITUDE = "N/A"
  SAMPLE_FIRST_PIXEL = 1
  SAMPLE_LAST_PIXEL = 4621
  SAMPLE_PROJECTION_OFFSET = 2324.75
  SECOND_STANDARD_PARALLEL = "N/A"
  WESTERNMOST_LONGITUDE = 215.261
END_OBJECT = IMAGE_MAP_PROJECTION
/* The JPEG2000 image data file associated with this label. */
OBJECT = COMPRESSED_FILE
  FILE_NAME = "H6486_0000_P13.JP2"
  RECORD_TYPE = UNDEFINED
  FILE_RECORDS = UNK
  ENCODING_TYPE = "JP2"
  INTERCHANGE_FORMAT = BINARY
  UNCOMPRESSED_FILE_NAME = "H6486_0000_P13.IMG"
  REQUIRED_STORAGE_BYTES = "202487599"
  ^DESCRIPTION = "JP2INFO.TXT"
END_OBJECT = COMPRESSED_FILE
END
