PDS_VERSION_ID = PDS3
/* FILE DATA ELEMENTS */
RECORD_TYPE = STREAM
/* POINTERS TO DATA OBJECTS */
^COMPRESSED_FILE = "H6488_0000_S13.JP2"
/* IDENTIFICATION DATA ELEMENTS */
DATA_SET_ID = "MEX-M-HRSC-5-REFDR-MAPPROJECTED-V3.0"
DATA_SET_NAME = "MARS EXPRESS HRSC MAP PROJECTED REFDR V3.0"
DETECTOR_ID = MEX_HRSC_S1
EVENT_TYPE = "MARS-REGIONAL-MAPPING-Te-Im-Fl"
INSTRUMENT_HOST_ID = MEX
INSTRUMENT_HOST_NAME = "MARS EXPRESS"
INSTRUMENT_ID = HRSC
INSTRUMENT_NAME = "HIGH RESOLUTION STEREO CAMERA"
MISSION_NAME = "MARS EXPRESS"
MISSION_PHASE_NAME = ME_Phase_15
PROCESSING_LEVEL_ID = 3
PRODUCT_CREATION_TIME = 2016-06-28T15:33:21.000Z
PRODUCT_ID = "H6488_0000_S13.JP2"
RELEASE_ID = 0072
REVISION_ID = 0000
/* QUALITY DATA ELEMENTS */
DATA_QUALITY_ID = 2
DATA_QUALITY_DESC = "Data calculated based on photogrammetrically improved orbit and attitude data"
/* TIME DATA ELEMENTS */
SPACECRAFT_CLOCK_START_COUNT = "1/0180567149.07272"
SPACECRAFT_CLOCK_STOP_COUNT = "1/0180567588.48423"
START_TIME = 2009-01-20T21:33:55.584Z
STOP_TIME = 2009-01-20T21:39:49.264Z
/* ORBITAL DATA ELEMENTS */
ASCENDING_NODE_LONGITUDE = 94.11
MAXIMUM_RESOLUTION = 39.9
FOOTPRINT_POINT_LATITUDE = (-36.0881,-36.0907,-36.1215,-35.5303, -34.7784,-34.4723,-34.1669,-33.8569, -33.5474,-33.2341,-32.9191,-32.6007, -32.2824,-31.9619,-31.6402,-31.3165, -30.8223,-30.4915,-30.1567,-29.821, -29.482,-29.1404,-28.6238,-28.0996, -27.7496,-27.3942,-27.0423,-26.6824, -26.1322,-25.7676,-25.3987,-24.8362, -24.4594,-24.0786,-23.6959,-23.1136, -22.7216,-22.3257,-21.9269,-21.5263, -21.1213,-20.7137,-20.3011,-19.8848, -19.4644,-19.0413,-18.6144,-18.3711, -18.3609,-18.3498,-18.3391,-18.3227, -18.3064,-18.3083,-18.2928,-18.9296, -19.3559,-19.7793,-20.1992,-20.6152, -21.0258,-21.4328,-22.0405,-22.4542, -22.85,-23.2413,-23.6304,-24.0092, -24.3792,-24.7596,-25.1384,-25.5121, -26.0714,-26.4341,-26.9776,-27.3365, -27.6914,-28.0431,-28.5673,-28.9149, -29.4329,-29.9413,-30.2797,-30.6131, -30.9438,-31.27,-31.5987,-31.9244, -32.247,-32.5643,-32.8872,-33.1976, -33.5117,-33.8239,-34.1448,-34.4497, -34.7533,-35.3508,-36.1015,-36.0881)
FOOTPRINT_POINT_LONGITUDE = (15.2493,14.6234,13.7864,13.7925, 13.7993,13.8015,13.8035,13.8053,13.8063 ,13.8073,13.8082,13.809,13.8086,13.8072 ,13.8057,13.8026,13.8005,13.798,13.7951 ,13.7919,13.7879,13.7837,13.7764, 13.7689,13.7624,13.7561,13.7462,13.7386 ,13.7286,13.7185,13.7088,13.6941, 13.6829,13.6716,13.6591,13.6398,13.6262 ,13.6123,13.5974,13.5811,13.5647, 13.5472,13.5294,13.5108,13.4917,13.4716 ,13.4504,13.6444,13.9695,14.3229, 14.6457,15.143,15.6095,15.9308,16.465, 16.442,16.4286,16.4155,16.4025,16.3895, 16.3764,16.3634,16.3448,16.3355,16.3229 ,16.3101,16.2977,16.2838,16.2687, 16.2567,16.2449,16.2328,16.2157,16.2028 ,16.1847,16.1725,16.1602,16.148,16.1297 ,16.1178,16.1001,16.0817,16.0699, 16.0577,16.045,16.0325,16.0203,16.0084, 15.9959,15.9831,15.9714,15.9581,15.9454 ,15.9331,15.922,15.9091,15.8956,15.8688 ,15.8368,15.2493)
ORBIT_NUMBER = 6488
ORBITAL_ECCENTRICITY = 0.576
ORBITAL_INCLINATION = 86.76
ORBITAL_SEMIMAJOR_AXIS = 8698.05
PERIAPSIS_ALTITUDE = 305.72
PERIAPSIS_ARGUMENT_ANGLE = 297.86
PERIAPSIS_TIME = 2009-01-20T21:26:32.000Z
SPACECRAFT_ORIENTATION = (0.0,1.0,0.0)
^MEX_ORIENTATION_DESC = "MEX_ORIENTATION_DESC.TXT"
SPACECRAFT_POINTING_MODE = ACROSSTRACK
^MEX_POINTING_DESC = "MEX_POINTING_DESC.TXT"
RIGHT_ASCENSION = -1e+32
DECLINATION = -1e+32
OFFSET_ANGLE = 0.458
SPACECRAFT_SOLAR_DISTANCE = 2.14728e+08
TARGET_NAME = MARS
/* CAMERA DATA ELEMENTS */
DETECTOR_TEMPERATURE = 17.5549
FOCAL_PLANE_TEMPERATURE = 8.3794
INST_CMPRS_NAME = "DISCRETE COSINE TRANSFORMATION (DCT)"
INST_CMPRS_RATIO = 8.2857
INST_CMPRS_QUALITY = 0
INST_CMPRS_QUANTZ_TBL_ID = 0
INSTRUMENT_TEMPERATURE = 11.234
LENS_TEMPERATURE = 8.5833
MACROPIXEL_SIZE = 2
MISSING_FRAMES = 0
PIXEL_SUBSAMPLING_FLAG = N
SIGNAL_CHAIN_ID = 1
/* RADIOMETRIC DATA ELEMENTS */
BANDWIDTH = 180.0
CENTER_FILTER_WAVELENGTH = 677.0
RADIANCE_OFFSET = 5.40374
RADIANCE_SCALING_FACTOR = 0.0233462
REFLECTANCE_SCALING_FACTOR = 0.000561605
MEX:REFLECTANCE_OFFSET = 0.12999
/* IMAGE OBJECT DEFINITIONS */
OBJECT = IMAGE
  INTERCHANGE_FORMAT = BINARY
  LINES = 42293
  LINE_SAMPLES = 6050
  SAMPLE_TYPE = UNSIGNED_INTEGER
  SAMPLE_BITS = 8
  BANDS = 1
  BAND_STORAGE_TYPE = BAND_SEQUENTIAL
  MAXIMUM = 255
  MEAN = 139.838
  MINIMUM = 1
  STANDARD_DEVIATION = 46.2355
END_OBJECT = IMAGE
/* MAP OBJECT DEFINITIONS */
OBJECT = IMAGE_MAP_PROJECTION
  ^DATA_SET_MAP_PROJECTION_CATALOG= "DSMAP.CAT"
  A_AXIS_RADIUS = 3396.0
  B_AXIS_RADIUS = 3396.0
  C_AXIS_RADIUS = 3396.0
  CENTER_LATITUDE = 0.0
  CENTER_LONGITUDE = 15.0
  COORDINATE_SYSTEM_NAME = PLANETOGRAPHIC
  COORDINATE_SYSTEM_TYPE = "BODY-FIXED ROTATING"
  EASTERNMOST_LONGITUDE = 16.465
  FIRST_STANDARD_PARALLEL = "N/A"
  LINE_FIRST_PIXEL = 1
  LINE_LAST_PIXEL = 42293
  LINE_PROJECTION_OFFSET = -43395.25
  MAP_PROJECTION_ROTATION = 0.0
  MAP_PROJECTION_TYPE = SINUSOIDAL
  MAP_RESOLUTION = 2370.85521546667
  MAP_SCALE = 0.025
  MAXIMUM_LATITUDE = -18.2928
  MINIMUM_LATITUDE = -36.1215
  POSITIVE_LONGITUDE_DIRECTION = EAST
  REFERENCE_LATITUDE = "N/A"
  REFERENCE_LONGITUDE = "N/A"
  SAMPLE_FIRST_PIXEL = 1
  SAMPLE_LAST_PIXEL = 6050
  SAMPLE_PROJECTION_OFFSET = 3192.25
  SECOND_STANDARD_PARALLEL = "N/A"
  WESTERNMOST_LONGITUDE = 13.4504
END_OBJECT = IMAGE_MAP_PROJECTION
/* The JPEG2000 image data file associated with this label. */
OBJECT = COMPRESSED_FILE
  FILE_NAME = "H6488_0000_S13.JP2"
  RECORD_TYPE = UNDEFINED
  FILE_RECORDS = UNK
  ENCODING_TYPE = "JP2"
  INTERCHANGE_FORMAT = BINARY
  UNCOMPRESSED_FILE_NAME = "H6488_0000_S13.IMG"
  REQUIRED_STORAGE_BYTES = "255902900"
  ^DESCRIPTION = "JP2INFO.TXT"
END_OBJECT = COMPRESSED_FILE
END
