PDS_VERSION_ID = PDS3
/* FILE DATA ELEMENTS */
RECORD_TYPE = STREAM
/* POINTERS TO DATA OBJECTS */
^COMPRESSED_FILE = "H6490_0000_P13.JP2"
/* IDENTIFICATION DATA ELEMENTS */
DATA_SET_ID = "MEX-M-HRSC-5-REFDR-MAPPROJECTED-V3.0"
DATA_SET_NAME = "MARS EXPRESS HRSC MAP PROJECTED REFDR V3.0"
DETECTOR_ID = MEX_HRSC_P1
EVENT_TYPE = "MARS-REGIONAL-MAPPING-Im"
INSTRUMENT_HOST_ID = MEX
INSTRUMENT_HOST_NAME = "MARS EXPRESS"
INSTRUMENT_ID = HRSC
INSTRUMENT_NAME = "HIGH RESOLUTION STEREO CAMERA"
MISSION_NAME = "MARS EXPRESS"
MISSION_PHASE_NAME = ME_Phase_15
PROCESSING_LEVEL_ID = 3
PRODUCT_CREATION_TIME = 2016-06-28T15:33:21.000Z
PRODUCT_ID = "H6490_0000_P13.JP2"
RELEASE_ID = 0072
REVISION_ID = 0000
/* QUALITY DATA ELEMENTS */
DATA_QUALITY_ID = 2
DATA_QUALITY_DESC = "Data calculated based on photogrammetrically improved orbit and attitude data"
/* TIME DATA ELEMENTS */
SPACECRAFT_CLOCK_START_COUNT = "1/0180616515.08424"
SPACECRAFT_CLOCK_STOP_COUNT = "1/0180616734.64174"
START_TIME = 2009-01-21T11:16:04.188Z
STOP_TIME = 2009-01-21T11:18:42.940Z
/* ORBITAL DATA ELEMENTS */
ASCENDING_NODE_LONGITUDE = 94.06
MAXIMUM_RESOLUTION = 26
FOOTPRINT_POINT_LATITUDE = (-54.8289,-54.8044,-54.8218,-54.6297, -54.4381,-54.2457,-54.0537,-53.8618, -53.6701,-53.3827,-53.1911,-52.9997, -52.8032,-52.6055,-52.309,-52.1117, -51.8161,-51.5198,-51.3216,-51.125, -50.9289,-50.7328,-50.4294,-50.2268, -50.0242,-49.7219,-49.5192,-49.3176, -49.0154,-48.8146,-48.6144,-48.3143, -48.1154,-47.9146,-47.7148,-47.5152, -47.216,-47.017,-46.818,-46.6193, -46.4206,-46.222,-46.0232,-45.8249, -45.6018,-45.3662,-45.0126,-44.7791, -44.7575,-44.7796,-44.7887,-44.9184, -45.1535,-45.3891,-45.6251,-45.8545, -46.0529,-46.3506,-46.549,-46.7478, -46.9471,-47.1457,-47.3447,-47.5446, -47.7451,-47.9457,-48.1455,-48.3459, -48.5465,-48.7475,-48.949,-49.1516, -49.3532,-49.5553,-49.7579,-49.9609, -50.1638,-50.4682,-50.7729,-50.9696, -51.1663,-51.3635,-51.6594,-51.8567, -52.0545,-52.2538,-52.4524,-52.6484, -52.8467,-53.0448,-53.2367,-53.4286, -53.6205,-53.8123,-54.0038,-54.1967, -54.4857,-54.6804,-54.8703,-54.8289)
FOOTPRINT_POINT_LONGITUDE = (173.714,173.136,172.626,172.644, 172.663,172.681,172.699,172.716,172.733 ,172.758,172.774,172.79,172.807,172.822 ,172.846,172.861,172.883,172.904, 172.919,172.932,172.945,172.958,172.978 ,172.991,173.003,173.022,173.033, 173.045,173.062,173.073,173.083,173.098 ,173.108,173.118,173.128,173.137,173.15 ,173.159,173.167,173.176,173.184, 173.192,173.199,173.207,173.215,173.223 ,173.235,173.243,173.72,174.275,174.672 ,175.094,175.085,175.076,175.066, 175.057,175.049,175.036,175.028,175.019 ,175.011,175.001,174.992,174.983, 174.974,174.966,174.956,174.946,174.936 ,174.926,174.917,174.908,174.898, 174.889,174.879,174.87,174.86,174.844, 174.828,174.818,174.807,174.796,174.779 ,174.768,174.757,174.747,174.736, 174.721,174.709,174.697,174.685,174.673 ,174.66,174.646,174.632,174.62,174.6, 174.589,174.571,173.714)
ORBIT_NUMBER = 6490
ORBITAL_ECCENTRICITY = 0.576
ORBITAL_INCLINATION = 86.76
ORBITAL_SEMIMAJOR_AXIS = 8696.63
PERIAPSIS_ALTITUDE = 305.92
PERIAPSIS_ARGUMENT_ANGLE = 297.54
PERIAPSIS_TIME = 2009-01-21T11:13:53.000Z
SPACECRAFT_ORIENTATION = (0.0,1.0,0.0)
^MEX_ORIENTATION_DESC = "MEX_ORIENTATION_DESC.TXT"
SPACECRAFT_POINTING_MODE = ACROSSTRACK
^MEX_POINTING_DESC = "MEX_POINTING_DESC.TXT"
RIGHT_ASCENSION = -1e+32
DECLINATION = -1e+32
OFFSET_ANGLE = -0.5
SPACECRAFT_SOLAR_DISTANCE = 2.14635e+08
TARGET_NAME = MARS
/* CAMERA DATA ELEMENTS */
DETECTOR_TEMPERATURE = 17.5549
FOCAL_PLANE_TEMPERATURE = 8.5833
INST_CMPRS_NAME = "DISCRETE COSINE TRANSFORMATION (DCT)"
INST_CMPRS_RATIO = 10.3639
INST_CMPRS_QUALITY = 0
INST_CMPRS_QUANTZ_TBL_ID = 0
INSTRUMENT_TEMPERATURE = 11.234
LENS_TEMPERATURE = 8.7872
MACROPIXEL_SIZE = 2
MISSING_FRAMES = 0
PIXEL_SUBSAMPLING_FLAG = N
SIGNAL_CHAIN_ID = 3
/* RADIOMETRIC DATA ELEMENTS */
BANDWIDTH = 174.0
CENTER_FILTER_WAVELENGTH = 675.0
RADIANCE_OFFSET = 3.87686
RADIANCE_SCALING_FACTOR = 0.0142431
REFLECTANCE_SCALING_FACTOR = 0.000352932
MEX:REFLECTANCE_OFFSET = 0.096065
/* IMAGE OBJECT DEFINITIONS */
OBJECT = IMAGE
  INTERCHANGE_FORMAT = BINARY
  LINES = 24051
  LINE_SAMPLES = 3753
  SAMPLE_TYPE = UNSIGNED_INTEGER
  SAMPLE_BITS = 8
  BANDS = 1
  BAND_STORAGE_TYPE = BAND_SEQUENTIAL
  MAXIMUM = 255
  MEAN = 117.257
  MINIMUM = 1
  STANDARD_DEVIATION = 32.9203
END_OBJECT = IMAGE
/* MAP OBJECT DEFINITIONS */
OBJECT = IMAGE_MAP_PROJECTION
  ^DATA_SET_MAP_PROJECTION_CATALOG= "DSMAP.CAT"
  A_AXIS_RADIUS = 3396.0
  B_AXIS_RADIUS = 3396.0
  C_AXIS_RADIUS = 3396.0
  CENTER_LATITUDE = 0.0
  CENTER_LONGITUDE = 174.0
  COORDINATE_SYSTEM_NAME = PLANETOGRAPHIC
  COORDINATE_SYSTEM_TYPE = "BODY-FIXED ROTATING"
  EASTERNMOST_LONGITUDE = 175.094
  FIRST_STANDARD_PARALLEL = "N/A"
  LINE_FIRST_PIXEL = 1
  LINE_LAST_PIXEL = 24051
  LINE_PROJECTION_OFFSET = -106120.75
  MAP_PROJECTION_ROTATION = 0.0
  MAP_PROJECTION_TYPE = SINUSOIDAL
  MAP_RESOLUTION = 2370.85521546667
  MAP_SCALE = 0.025
  MAXIMUM_LATITUDE = -44.7575
  MINIMUM_LATITUDE = -54.8703
  POSITIVE_LONGITUDE_DIRECTION = EAST
  REFERENCE_LATITUDE = "N/A"
  REFERENCE_LONGITUDE = "N/A"
  SAMPLE_FIRST_PIXEL = 1
  SAMPLE_LAST_PIXEL = 3753
  SAMPLE_PROJECTION_OFFSET = 1862.25
  SECOND_STANDARD_PARALLEL = "N/A"
  WESTERNMOST_LONGITUDE = 172.626
END_OBJECT = IMAGE_MAP_PROJECTION
/* The JPEG2000 image data file associated with this label. */
OBJECT = COMPRESSED_FILE
  FILE_NAME = "H6490_0000_P13.JP2"
  RECORD_TYPE = UNDEFINED
  FILE_RECORDS = UNK
  ENCODING_TYPE = "JP2"
  INTERCHANGE_FORMAT = BINARY
  UNCOMPRESSED_FILE_NAME = "H6490_0000_P13.IMG"
  REQUIRED_STORAGE_BYTES = "90285921"
  ^DESCRIPTION = "JP2INFO.TXT"
END_OBJECT = COMPRESSED_FILE
END
