PDS_VERSION_ID = PDS3
/* FILE DATA ELEMENTS */
RECORD_TYPE = STREAM
/* POINTERS TO DATA OBJECTS */
^COMPRESSED_FILE = "H6491_0000_IR3.JP2"
/* IDENTIFICATION DATA ELEMENTS */
DATA_SET_ID = "MEX-M-HRSC-5-REFDR-MAPPROJECTED-V3.0"
DATA_SET_NAME = "MARS EXPRESS HRSC MAP PROJECTED REFDR V3.0"
DETECTOR_ID = MEX_HRSC_IR
EVENT_TYPE = "MARS-REGIONAL-MAPPING-Te-Im-Fl"
INSTRUMENT_HOST_ID = MEX
INSTRUMENT_HOST_NAME = "MARS EXPRESS"
INSTRUMENT_ID = HRSC
INSTRUMENT_NAME = "HIGH RESOLUTION STEREO CAMERA"
MISSION_NAME = "MARS EXPRESS"
MISSION_PHASE_NAME = ME_Phase_15
PROCESSING_LEVEL_ID = 3
PRODUCT_CREATION_TIME = 2016-06-28T15:33:21.000Z
PRODUCT_ID = "H6491_0000_IR3.JP2"
RELEASE_ID = 0072
REVISION_ID = 0000
/* QUALITY DATA ELEMENTS */
DATA_QUALITY_ID = 2
DATA_QUALITY_DESC = "Data calculated based on photogrammetrically improved orbit and attitude data"
/* TIME DATA ELEMENTS */
SPACECRAFT_CLOCK_START_COUNT = "1/0180641834.09059"
SPACECRAFT_CLOCK_STOP_COUNT = "1/0180642216.12751"
START_TIME = 2009-01-21T18:19:20.688Z
STOP_TIME = 2009-01-21T18:23:10.951Z
/* ORBITAL DATA ELEMENTS */
ASCENDING_NODE_LONGITUDE = 94.04
MAXIMUM_RESOLUTION = 119.7
FOOTPRINT_POINT_LATITUDE = (-22.1132,-22.1182,-22.1214,-22.1252, -22.1305,-22.1348,-22.1381,-22.155, -21.8242,-21.4945,-21.2743,-21.0558, -20.8369,-20.6188,-20.4029,-20.1899, -19.9761,-19.6558,-19.4425,-19.2317, -19.0207,-18.8109,-18.4967,-18.1833, -17.9759,-17.7696,-17.5635,-17.3579, -17.1532,-16.9493,-16.6446,-16.4425, -16.2403,-16.0393,-15.8397,-15.5402, -15.342,-15.0452,-14.8482,-14.6513, -14.4542,-14.0653,-13.5853,-13.2012, -12.8203,-12.4433,-12.1619,-11.9027, -11.8952,-11.8855,-11.8774,-11.868, -11.8604,-11.853,-11.8407,-11.8332, -11.8202,-11.8144,-12.1911,-12.6657, -13.1461,-13.5316,-13.9179,-14.1143, -14.3106,-14.5077,-14.7055,-14.9039, -15.103,-15.3027,-15.5028,-15.7036, -15.9048,-16.1069,-16.3105,-16.513, -16.7168,-17.0244,-17.2295,-17.4351, -17.6421,-17.8502,-18.0598,-18.2667, -18.4768,-18.7917,-19.1106,-19.3234, -19.6436,-19.8592,-20.0743,-20.3983, -20.6146,-20.8313,-21.056,-21.2816, -21.5021,-21.7224,-21.943,-22.1132)
FOOTPRINT_POINT_LONGITUDE = (74.0571,73.6566,73.3812,73.0557, 72.5804,72.18,71.854,71.6405,71.6271, 71.6136,71.605,71.5959,71.5871,71.5781, 71.5685,71.5579,71.5478,71.5327,71.5229 ,71.5122,71.5017,71.491,71.475,71.4591, 71.4481,71.4369,71.4257,71.4145,71.4032 ,71.3918,71.3745,71.3627,71.3512, 71.3395,71.3273,71.3095,71.2972,71.2791 ,71.2668,71.2547,71.2428,71.2176, 71.1849,71.1595,71.1336,71.107,71.087, 71.3313,71.5627,71.9256,72.2221,72.5516 ,72.8152,73.079,73.5408,73.8377,74.2995 ,74.6083,74.5976,74.5842,74.5715, 74.5607,74.549,74.5441,74.5389,74.5338, 74.5287,74.5235,74.5184,74.5132,74.5079 ,74.5026,74.4972,74.4919,74.4869, 74.4812,74.4757,74.4677,74.4621,74.4563 ,74.4509,74.4456,74.4406,74.4342, 74.4289,74.4202,74.4125,74.4071,74.3988 ,74.3938,74.3883,74.38,74.3742,74.3682, 74.3654,74.3626,74.3573,74.3516,74.3458 ,74.0571)
ORBIT_NUMBER = 6491
ORBITAL_ECCENTRICITY = 0.576
ORBITAL_INCLINATION = 86.77
ORBITAL_SEMIMAJOR_AXIS = 8698.01
PERIAPSIS_ALTITUDE = 304.69
PERIAPSIS_ARGUMENT_ANGLE = 297.36
PERIAPSIS_TIME = 2009-01-21T18:07:32.000Z
SPACECRAFT_ORIENTATION = (0.0,1.0,0.0)
^MEX_ORIENTATION_DESC = "MEX_ORIENTATION_DESC.TXT"
SPACECRAFT_POINTING_MODE = NADIR
^MEX_POINTING_DESC = "MEX_POINTING_DESC.TXT"
RIGHT_ASCENSION = -1e+32
DECLINATION = -1e+32
OFFSET_ANGLE = -1e+32
SPACECRAFT_SOLAR_DISTANCE = 2.14589e+08
TARGET_NAME = MARS
/* CAMERA DATA ELEMENTS */
DETECTOR_TEMPERATURE = 17.5549
FOCAL_PLANE_TEMPERATURE = 8.1755
INST_CMPRS_NAME = "DISCRETE COSINE TRANSFORMATION (DCT)"
INST_CMPRS_RATIO = 16.5436
INST_CMPRS_QUALITY = 0
INST_CMPRS_QUANTZ_TBL_ID = 0
INSTRUMENT_TEMPERATURE = 11.234
LENS_TEMPERATURE = 8.3794
MACROPIXEL_SIZE = 4
MISSING_FRAMES = 0
PIXEL_SUBSAMPLING_FLAG = N
SIGNAL_CHAIN_ID = 2
/* RADIOMETRIC DATA ELEMENTS */
BANDWIDTH = 81.0
CENTER_FILTER_WAVELENGTH = 955.5
RADIANCE_OFFSET = 1.11486
RADIANCE_SCALING_FACTOR = 0.00443725
REFLECTANCE_SCALING_FACTOR = 0.000440808
MEX:REFLECTANCE_OFFSET = 0.110753
/* IMAGE OBJECT DEFINITIONS */
OBJECT = IMAGE
  INTERCHANGE_FORMAT = BINARY
  LINES = 6119
  LINE_SAMPLES = 1832
  SAMPLE_TYPE = UNSIGNED_INTEGER
  SAMPLE_BITS = 8
  BANDS = 1
  BAND_STORAGE_TYPE = BAND_SEQUENTIAL
  MAXIMUM = 255
  MEAN = 77.6398
  MINIMUM = 1
  STANDARD_DEVIATION = 31.5931
END_OBJECT = IMAGE
/* MAP OBJECT DEFINITIONS */
OBJECT = IMAGE_MAP_PROJECTION
  ^DATA_SET_MAP_PROJECTION_CATALOG= "DSMAP.CAT"
  A_AXIS_RADIUS = 3396.0
  B_AXIS_RADIUS = 3396.0
  C_AXIS_RADIUS = 3396.0
  CENTER_LATITUDE = 0.0
  CENTER_LONGITUDE = 73.0
  COORDINATE_SYSTEM_NAME = PLANETOGRAPHIC
  COORDINATE_SYSTEM_TYPE = "BODY-FIXED ROTATING"
  EASTERNMOST_LONGITUDE = 74.6083
  FIRST_STANDARD_PARALLEL = "N/A"
  LINE_FIRST_PIXEL = 1
  LINE_LAST_PIXEL = 6119
  LINE_PROJECTION_OFFSET = -7005.125
  MAP_PROJECTION_ROTATION = 0.0
  MAP_PROJECTION_TYPE = SINUSOIDAL
  MAP_RESOLUTION = 592.713803866667
  MAP_SCALE = 0.1
  MAXIMUM_LATITUDE = -11.8144
  MINIMUM_LATITUDE = -22.155
  POSITIVE_LONGITUDE_DIRECTION = EAST
  REFERENCE_LATITUDE = "N/A"
  REFERENCE_LONGITUDE = "N/A"
  SAMPLE_FIRST_PIXEL = 1
  SAMPLE_LAST_PIXEL = 1832
  SAMPLE_PROJECTION_OFFSET = 1019.625
  SECOND_STANDARD_PARALLEL = "N/A"
  WESTERNMOST_LONGITUDE = 71.087
END_OBJECT = IMAGE_MAP_PROJECTION
/* The JPEG2000 image data file associated with this label. */
OBJECT = COMPRESSED_FILE
  FILE_NAME = "H6491_0000_IR3.JP2"
  RECORD_TYPE = UNDEFINED
  FILE_RECORDS = UNK
  ENCODING_TYPE = "JP2"
  INTERCHANGE_FORMAT = BINARY
  UNCOMPRESSED_FILE_NAME = "H6491_0000_IR3.IMG"
  REQUIRED_STORAGE_BYTES = "11230160"
  ^DESCRIPTION = "JP2INFO.TXT"
END_OBJECT = COMPRESSED_FILE
END
