PDS_VERSION_ID = PDS3
/* FILE DATA ELEMENTS */
RECORD_TYPE = STREAM
/* POINTERS TO DATA OBJECTS */
^COMPRESSED_FILE = "H6493_0000_IR3.JP2"
/* IDENTIFICATION DATA ELEMENTS */
DATA_SET_ID = "MEX-M-HRSC-5-REFDR-MAPPROJECTED-V3.0"
DATA_SET_NAME = "MARS EXPRESS HRSC MAP PROJECTED REFDR V3.0"
DETECTOR_ID = MEX_HRSC_IR
EVENT_TYPE = "MARS-REGIONAL-MAPPING-Im-Fl"
INSTRUMENT_HOST_ID = MEX
INSTRUMENT_HOST_NAME = "MARS EXPRESS"
INSTRUMENT_ID = HRSC
INSTRUMENT_NAME = "HIGH RESOLUTION STEREO CAMERA"
MISSION_NAME = "MARS EXPRESS"
MISSION_PHASE_NAME = ME_Phase_15
PROCESSING_LEVEL_ID = 3
PRODUCT_CREATION_TIME = 2016-06-28T15:33:21.000Z
PRODUCT_ID = "H6493_0000_IR3.JP2"
RELEASE_ID = 0072
REVISION_ID = 0000
/* QUALITY DATA ELEMENTS */
DATA_QUALITY_ID = 2
DATA_QUALITY_DESC = "Data calculated based on photogrammetrically improved orbit and attitude data"
/* TIME DATA ELEMENTS */
SPACECRAFT_CLOCK_START_COUNT = "1/0180690894.09127"
SPACECRAFT_CLOCK_STOP_COUNT = "1/0180691207.00363"
START_TIME = 2009-01-22T07:55:46.093Z
STOP_TIME = 2009-01-22T08:00:01.142Z
/* ORBITAL DATA ELEMENTS */
ASCENDING_NODE_LONGITUDE = 94.01
MAXIMUM_RESOLUTION = 50.7
FOOTPRINT_POINT_LATITUDE = (-60.2789,-60.2449,-60.2154,-60.095, -59.7882,-59.3281,-58.8721,-58.5648, -58.1028,-57.7986,-57.4933,-57.1869, -56.8826,-56.4289,-56.1206,-55.8061, -55.3332,-54.8666,-54.5545,-54.244, -53.934,-53.6231,-53.3068,-52.9843, -52.6623,-52.3442,-52.0246,-51.7053, -51.3868,-51.0615,-50.7316,-50.2377, -49.7465,-49.2605,-48.9364,-48.6117, -48.2881,-47.965,-47.6423,-47.3203, -47.0043,-46.6837,-46.1461,-45.7658, -45.3862,-45.0072,-44.6292,-44.2525, -44.0682,-44.0842,-44.0943,-44.1072, -44.1184,-44.4956,-44.8737,-45.2527, -45.6326,-46.0127,-46.2033,-46.5765, -46.8974,-47.2158,-47.5434,-47.8647, -48.3529,-48.8373,-49.1629,-49.6523, -49.9789,-50.3046,-50.6359,-51.1308, -51.4566,-51.9366,-52.2576,-52.5786, -53.0604,-53.3826,-53.6996,-54.0111, -54.3217,-54.6342,-54.948,-55.4194, -55.7335,-56.048,-56.3632,-56.6676, -56.9722,-57.2774,-57.5829,-57.8874, -58.1968,-58.4996,-58.8081,-59.1137, -59.4213,-59.7286,-60.0354,-60.2789)
FOOTPRINT_POINT_LONGITUDE = (231.145,230.369,229.757,229.306, 229.356,229.429,229.498,229.543,229.609 ,229.651,229.691,229.731,229.769, 229.824,229.86,229.896,229.948,229.996, 230.028,230.058,230.087,230.115,230.144 ,230.172,230.199,230.225,230.25,230.275 ,230.298,230.322,230.345,230.378, 230.409,230.438,230.456,230.474,230.491 ,230.508,230.523,230.539,230.552, 230.566,230.589,230.604,230.618,230.631 ,230.644,230.656,230.92,231.408,231.724 ,232.149,232.546,232.531,232.515, 232.498,232.482,232.464,232.455,232.437 ,232.422,232.404,232.393,232.375, 232.353,232.325,232.308,232.282,232.263 ,232.243,232.227,232.199,232.179,232.15 ,232.13,232.109,232.077,232.055,232.034 ,232.011,231.986,231.963,231.94,231.904 ,231.878,231.852,231.826,231.8,231.773, 231.746,231.718,231.688,231.663,231.629 ,231.6,231.568,231.536,231.503,231.468, 231.145)
ORBIT_NUMBER = 6493
ORBITAL_ECCENTRICITY = 0.576
ORBITAL_INCLINATION = 86.77
ORBITAL_SEMIMAJOR_AXIS = 8694.78
PERIAPSIS_ALTITUDE = 304.62
PERIAPSIS_ARGUMENT_ANGLE = 297.0
PERIAPSIS_TIME = 2009-01-22T07:54:46.000Z
SPACECRAFT_ORIENTATION = (0.0,1.0,0.0)
^MEX_ORIENTATION_DESC = "MEX_ORIENTATION_DESC.TXT"
SPACECRAFT_POINTING_MODE = ACROSSTRACK
^MEX_POINTING_DESC = "MEX_POINTING_DESC.TXT"
RIGHT_ASCENSION = -1e+32
DECLINATION = -1e+32
OFFSET_ANGLE = -0.4
SPACECRAFT_SOLAR_DISTANCE = 2.14496e+08
TARGET_NAME = MARS
/* CAMERA DATA ELEMENTS */
DETECTOR_TEMPERATURE = 15.7198
FOCAL_PLANE_TEMPERATURE = 8.3794
INST_CMPRS_NAME = "DISCRETE COSINE TRANSFORMATION (DCT)"
INST_CMPRS_RATIO = 12.7441
INST_CMPRS_QUALITY = 0
INST_CMPRS_QUANTZ_TBL_ID = 0
INSTRUMENT_TEMPERATURE = 11.4379
LENS_TEMPERATURE = 8.7872
MACROPIXEL_SIZE = 4
MISSING_FRAMES = 0
PIXEL_SUBSAMPLING_FLAG = N
SIGNAL_CHAIN_ID = 2
/* RADIOMETRIC DATA ELEMENTS */
BANDWIDTH = 81.0
CENTER_FILTER_WAVELENGTH = 955.5
RADIANCE_OFFSET = 0.69837
RADIANCE_SCALING_FACTOR = 0.00645553
REFLECTANCE_SCALING_FACTOR = 0.000640764
MEX:REFLECTANCE_OFFSET = 0.069319
/* IMAGE OBJECT DEFINITIONS */
OBJECT = IMAGE
  INTERCHANGE_FORMAT = BINARY
  LINES = 19281
  LINE_SAMPLES = 2314
  SAMPLE_TYPE = UNSIGNED_INTEGER
  SAMPLE_BITS = 8
  BANDS = 1
  BAND_STORAGE_TYPE = BAND_SEQUENTIAL
  MAXIMUM = 255
  MEAN = 70.8179
  MINIMUM = 1
  STANDARD_DEVIATION = 28.6222
END_OBJECT = IMAGE
/* MAP OBJECT DEFINITIONS */
OBJECT = IMAGE_MAP_PROJECTION
  ^DATA_SET_MAP_PROJECTION_CATALOG= "DSMAP.CAT"
  A_AXIS_RADIUS = 3396.0
  B_AXIS_RADIUS = 3396.0
  C_AXIS_RADIUS = 3396.0
  CENTER_LATITUDE = 0.0
  CENTER_LONGITUDE = 231.0
  COORDINATE_SYSTEM_NAME = PLANETOGRAPHIC
  COORDINATE_SYSTEM_TYPE = "BODY-FIXED ROTATING"
  EASTERNMOST_LONGITUDE = 232.546
  FIRST_STANDARD_PARALLEL = "N/A"
  LINE_FIRST_PIXEL = 1
  LINE_LAST_PIXEL = 19281
  LINE_PROJECTION_OFFSET = -52264.375
  MAP_PROJECTION_ROTATION = 0.0
  MAP_PROJECTION_TYPE = SINUSOIDAL
  MAP_RESOLUTION = 1185.42760773333
  MAP_SCALE = 0.05
  MAXIMUM_LATITUDE = -44.0682
  MINIMUM_LATITUDE = -60.2789
  POSITIVE_LONGITUDE_DIRECTION = EAST
  REFERENCE_LATITUDE = "N/A"
  REFERENCE_LONGITUDE = "N/A"
  SAMPLE_FIRST_PIXEL = 1
  SAMPLE_LAST_PIXEL = 2314
  SAMPLE_PROJECTION_OFFSET = 1010.125
  SECOND_STANDARD_PARALLEL = "N/A"
  WESTERNMOST_LONGITUDE = 229.306
END_OBJECT = IMAGE_MAP_PROJECTION
/* The JPEG2000 image data file associated with this label. */
OBJECT = COMPRESSED_FILE
  FILE_NAME = "H6493_0000_IR3.JP2"
  RECORD_TYPE = UNDEFINED
  FILE_RECORDS = UNK
  ENCODING_TYPE = "JP2"
  INTERCHANGE_FORMAT = BINARY
  UNCOMPRESSED_FILE_NAME = "H6493_0000_IR3.IMG"
  REQUIRED_STORAGE_BYTES = "44639374"
  ^DESCRIPTION = "JP2INFO.TXT"
END_OBJECT = COMPRESSED_FILE
END
