PDS_VERSION_ID = PDS3
/* FILE DATA ELEMENTS */
RECORD_TYPE = STREAM
/* POINTERS TO DATA OBJECTS */
^COMPRESSED_FILE = "H6497_0000_BL3.JP2"
/* IDENTIFICATION DATA ELEMENTS */
DATA_SET_ID = "MEX-M-HRSC-5-REFDR-MAPPROJECTED-V3.0"
DATA_SET_NAME = "MARS EXPRESS HRSC MAP PROJECTED REFDR V3.0"
DETECTOR_ID = MEX_HRSC_BLUE
EVENT_TYPE = "MARS-REGIONAL-MAPPING-Te-Im-Fl"
INSTRUMENT_HOST_ID = MEX
INSTRUMENT_HOST_NAME = "MARS EXPRESS"
INSTRUMENT_ID = HRSC
INSTRUMENT_NAME = "HIGH RESOLUTION STEREO CAMERA"
MISSION_NAME = "MARS EXPRESS"
MISSION_PHASE_NAME = ME_Phase_15
PROCESSING_LEVEL_ID = 3
PRODUCT_CREATION_TIME = 2016-06-28T15:33:21.000Z
PRODUCT_ID = "H6497_0000_BL3.JP2"
RELEASE_ID = 0072
REVISION_ID = 0000
/* QUALITY DATA ELEMENTS */
DATA_QUALITY_ID = 2
DATA_QUALITY_DESC = "Data calculated based on photogrammetrically improved orbit and attitude data"
/* TIME DATA ELEMENTS */
SPACECRAFT_CLOCK_START_COUNT = "1/0180790417.07284"
SPACECRAFT_CLOCK_STOP_COUNT = "1/0180790845.23106"
START_TIME = 2009-01-23T11:34:06.611Z
STOP_TIME = 2009-01-23T11:39:24.337Z
/* ORBITAL DATA ELEMENTS */
ASCENDING_NODE_LONGITUDE = 93.92
MAXIMUM_RESOLUTION = 117.2
FOOTPRINT_POINT_LATITUDE = (-44.9163,-44.9022,-44.8855,-44.8668, -44.3293,-43.985,-43.6409,-43.297, -42.954,-42.6114,-42.2693,-41.9278, -41.5867,-41.2463,-40.9066,-40.2282, -39.8832,-39.5363,-39.1899,-38.8372, -38.4828,-37.9489,-37.5877,-37.0409, -36.6708,-36.3019,-35.9263,-35.5503, -34.979,-34.5959,-34.2059,-33.8155, -33.4192,-33.0224,-32.6181,-32.0073, -31.5959,-31.1793,-30.5474,-29.9086, -29.4771,-29.04,-28.5987,-28.1547, -27.7035,-27.2482,-26.7885,-26.3241, -25.8537,-25.3862,-25.3923,-25.3963, -25.3965,-25.3974,-25.8759,-26.3479, -26.8131,-27.5044,-27.9572,-28.4061, -28.8518,-29.2911,-29.7264,-30.1585, -30.5842,-31.2165,-31.6339,-32.0459, -32.6576,-33.0623,-33.4604,-33.8576, -34.2489,-34.6391,-35.023,-35.5962, -35.973,-36.3491,-36.7184,-37.2724, -37.6345,-37.9975,-38.534,-38.8897, -39.2431,-39.5912,-39.9388,-40.285, -40.9641,-41.3048,-41.6465,-41.9885, -42.3311,-42.8459,-43.1894,-43.5342, -43.8794,-44.2247,-44.5693,-44.9163)
FOOTPRINT_POINT_LONGITUDE = (188.005,187.483,186.956,186.442, 186.246,186.264,186.281,186.296,186.312 ,186.327,186.341,186.355,186.369, 186.382,186.396,186.419,186.432,186.443 ,186.453,186.463,186.472,186.487, 186.497,186.502,186.507,186.512,186.518 ,186.523,186.533,186.537,186.539, 186.541,186.544,186.546,186.547,186.547 ,186.546,186.545,186.539,186.539, 186.535,186.532,186.527,186.522,186.517 ,186.51,186.502,186.493,186.484,186.474 ,187.033,187.761,188.338,188.756, 188.744,188.733,188.722,188.704,188.693 ,188.682,188.67,188.658,188.646,188.635 ,188.622,188.604,188.592,188.579,188.56 ,188.548,188.534,188.522,188.508, 188.495,188.481,188.461,188.447,188.433 ,188.419,188.397,188.382,188.367, 188.343,188.328,188.312,188.295,188.28, 188.263,188.232,188.215,188.197,188.18, 188.161,188.133,188.114,188.094,188.074 ,188.053,188.033,188.005)
ORBIT_NUMBER = 6497
ORBITAL_ECCENTRICITY = 0.576
ORBITAL_INCLINATION = 86.77
ORBITAL_SEMIMAJOR_AXIS = 8694.36
PERIAPSIS_ALTITUDE = 305.54
PERIAPSIS_ARGUMENT_ANGLE = 296.34
PERIAPSIS_TIME = 2009-01-23T11:29:28.000Z
SPACECRAFT_ORIENTATION = (0.0,1.0,0.0)
^MEX_ORIENTATION_DESC = "MEX_ORIENTATION_DESC.TXT"
SPACECRAFT_POINTING_MODE = ACROSSTRACK
^MEX_POINTING_DESC = "MEX_POINTING_DESC.TXT"
RIGHT_ASCENSION = -1e+32
DECLINATION = -1e+32
OFFSET_ANGLE = 0.36
SPACECRAFT_SOLAR_DISTANCE = 2.14312e+08
TARGET_NAME = MARS
/* CAMERA DATA ELEMENTS */
DETECTOR_TEMPERATURE = 18.3705
FOCAL_PLANE_TEMPERATURE = 8.5833
INST_CMPRS_NAME = "DISCRETE COSINE TRANSFORMATION (DCT)"
INST_CMPRS_RATIO = 12.721
INST_CMPRS_QUALITY = 0
INST_CMPRS_QUANTZ_TBL_ID = 0
INSTRUMENT_TEMPERATURE = 11.4379
LENS_TEMPERATURE = 8.9911
MACROPIXEL_SIZE = 8
MISSING_FRAMES = 0
PIXEL_SUBSAMPLING_FLAG = N
SIGNAL_CHAIN_ID = 2
/* RADIOMETRIC DATA ELEMENTS */
BANDWIDTH = 76.0
CENTER_FILTER_WAVELENGTH = 444.0
RADIANCE_OFFSET = 0.583046
RADIANCE_SCALING_FACTOR = 0.00219249
REFLECTANCE_SCALING_FACTOR = 0.000103463
MEX:REFLECTANCE_OFFSET = 0.0275138
/* IMAGE OBJECT DEFINITIONS */
OBJECT = IMAGE
  INTERCHANGE_FORMAT = BINARY
  LINES = 11552
  LINE_SAMPLES = 1323
  SAMPLE_TYPE = UNSIGNED_INTEGER
  SAMPLE_BITS = 8
  BANDS = 1
  BAND_STORAGE_TYPE = BAND_SEQUENTIAL
  MAXIMUM = 255
  MEAN = 149.481
  MINIMUM = 1
  STANDARD_DEVIATION = 29.4995
END_OBJECT = IMAGE
/* MAP OBJECT DEFINITIONS */
OBJECT = IMAGE_MAP_PROJECTION
  ^DATA_SET_MAP_PROJECTION_CATALOG= "DSMAP.CAT"
  A_AXIS_RADIUS = 3396.0
  B_AXIS_RADIUS = 3396.0
  C_AXIS_RADIUS = 3396.0
  CENTER_LATITUDE = 0.0
  CENTER_LONGITUDE = 187.0
  COORDINATE_SYSTEM_NAME = PLANETOGRAPHIC
  COORDINATE_SYSTEM_TYPE = "BODY-FIXED ROTATING"
  EASTERNMOST_LONGITUDE = 188.756
  FIRST_STANDARD_PARALLEL = "N/A"
  LINE_FIRST_PIXEL = 1
  LINE_LAST_PIXEL = 11552
  LINE_PROJECTION_OFFSET = -15064.3125
  MAP_PROJECTION_ROTATION = 0.0
  MAP_PROJECTION_TYPE = SINUSOIDAL
  MAP_RESOLUTION = 592.713803866667
  MAP_SCALE = 0.1
  MAXIMUM_LATITUDE = -25.3862
  MINIMUM_LATITUDE = -44.9163
  POSITIVE_LONGITUDE_DIRECTION = EAST
  REFERENCE_LATITUDE = "N/A"
  REFERENCE_LONGITUDE = "N/A"
  SAMPLE_FIRST_PIXEL = 1
  SAMPLE_LAST_PIXEL = 1323
  SAMPLE_PROJECTION_OFFSET = 357.9375
  SECOND_STANDARD_PARALLEL = "N/A"
  WESTERNMOST_LONGITUDE = 186.246
END_OBJECT = IMAGE_MAP_PROJECTION
/* The JPEG2000 image data file associated with this label. */
OBJECT = COMPRESSED_FILE
  FILE_NAME = "H6497_0000_BL3.JP2"
  RECORD_TYPE = UNDEFINED
  FILE_RECORDS = UNK
  ENCODING_TYPE = "JP2"
  INTERCHANGE_FORMAT = BINARY
  UNCOMPRESSED_FILE_NAME = "H6497_0000_BL3.IMG"
  REQUIRED_STORAGE_BYTES = "15303141"
  ^DESCRIPTION = "JP2INFO.TXT"
END_OBJECT = COMPRESSED_FILE
END
