PDS_VERSION_ID = PDS3
/* FILE DATA ELEMENTS */
RECORD_TYPE = STREAM
/* POINTERS TO DATA OBJECTS */
^COMPRESSED_FILE = "H6497_0000_IR3.JP2"
/* IDENTIFICATION DATA ELEMENTS */
DATA_SET_ID = "MEX-M-HRSC-5-REFDR-MAPPROJECTED-V3.0"
DATA_SET_NAME = "MARS EXPRESS HRSC MAP PROJECTED REFDR V3.0"
DETECTOR_ID = MEX_HRSC_IR
EVENT_TYPE = "MARS-REGIONAL-MAPPING-Te-Im-Fl"
INSTRUMENT_HOST_ID = MEX
INSTRUMENT_HOST_NAME = "MARS EXPRESS"
INSTRUMENT_ID = HRSC
INSTRUMENT_NAME = "HIGH RESOLUTION STEREO CAMERA"
MISSION_NAME = "MARS EXPRESS"
MISSION_PHASE_NAME = ME_Phase_15
PROCESSING_LEVEL_ID = 3
PRODUCT_CREATION_TIME = 2016-06-28T15:33:21.000Z
PRODUCT_ID = "H6497_0000_IR3.JP2"
RELEASE_ID = 0072
REVISION_ID = 0000
/* QUALITY DATA ELEMENTS */
DATA_QUALITY_ID = 2
DATA_QUALITY_DESC = "Data calculated based on photogrammetrically improved orbit and attitude data"
/* TIME DATA ELEMENTS */
SPACECRAFT_CLOCK_START_COUNT = "1/0180790417.07284"
SPACECRAFT_CLOCK_STOP_COUNT = "1/0180790845.23106"
START_TIME = 2009-01-23T11:34:41.974Z
STOP_TIME = 2009-01-23T11:40:32.294Z
/* ORBITAL DATA ELEMENTS */
ASCENDING_NODE_LONGITUDE = 93.92
MAXIMUM_RESOLUTION = 128.5
FOOTPRINT_POINT_LATITUDE = (-44.8324,-44.8269,-44.8193,-44.8098, -44.5125,-44.1808,-43.8497,-43.5236, -43.1927,-42.8643,-42.3691,-42.0335, -41.6989,-41.3595,-41.0173,-40.6757, -40.3279,-39.9798,-39.6296,-39.2752, -38.7412,-38.382,-38.019,-37.4705, -36.9213,-36.5533,-36.1764,-35.6069, -35.025,-34.6363,-34.2465,-33.8545, -33.454,-33.0526,-32.6482,-32.2388, -31.828,-31.4143,-30.993,-30.3555, -29.9263,-29.4922,-29.0532,-28.6108, -28.1631,-27.7122,-27.2565,-26.7971, -26.3334,-25.8647,-25.426,-25.4197, -25.4137,-25.4068,-25.4009,-25.3961, -25.6315,-26.336,-26.8056,-27.2627, -27.7209,-28.1737,-28.6222,-29.0655, -29.5045,-29.9397,-30.5859,-31.2225, -31.6416,-32.062,-32.4697,-32.8788, -33.2849,-33.6862,-34.2807,-34.8691, -35.2587,-35.6435,-36.0264,-36.4059, -36.9678,-37.3395,-37.7051,-38.2509, -38.6093,-39.1444,-39.4972,-39.8489, -40.3716,-40.7215,-41.0643,-41.5779, -41.9121,-42.2473,-42.5816,-42.9096, -43.2411,-43.8933,-44.2245,-44.8324)
FOOTPRINT_POINT_LONGITUDE = (188.059,187.507,186.95,186.389,186.185 ,186.202,186.218,186.23,186.246,186.26, 186.279,186.293,186.305,186.318,186.33, 186.341,186.352,186.363,186.373,186.383 ,186.396,186.404,186.413,186.422, 186.427,186.431,186.435,186.44,186.449, 186.451,186.452,186.452,186.453,186.453 ,186.452,186.451,186.448,186.444, 186.441,186.435,186.429,186.423,186.417 ,186.41,186.403,186.394,186.384,186.373 ,186.361,186.348,186.336,186.722, 187.181,187.639,188.047,188.551,188.894 ,188.871,188.857,188.841,188.826, 188.812,188.797,188.783,188.768,188.753 ,188.731,188.709,188.694,188.68,188.664 ,188.65,188.635,188.62,188.597,188.574, 188.558,188.543,188.527,188.511,188.487 ,188.471,188.454,188.429,188.411, 188.386,188.368,188.35,188.324,188.307, 188.289,188.262,188.243,188.224,188.205 ,188.186,188.167,188.126,188.105, 188.059)
ORBIT_NUMBER = 6497
ORBITAL_ECCENTRICITY = 0.576
ORBITAL_INCLINATION = 86.77
ORBITAL_SEMIMAJOR_AXIS = 8694.36
PERIAPSIS_ALTITUDE = 305.54
PERIAPSIS_ARGUMENT_ANGLE = 296.34
PERIAPSIS_TIME = 2009-01-23T11:29:28.000Z
SPACECRAFT_ORIENTATION = (0.0,1.0,0.0)
^MEX_ORIENTATION_DESC = "MEX_ORIENTATION_DESC.TXT"
SPACECRAFT_POINTING_MODE = ACROSSTRACK
^MEX_POINTING_DESC = "MEX_POINTING_DESC.TXT"
RIGHT_ASCENSION = -1e+32
DECLINATION = -1e+32
OFFSET_ANGLE = 0.36
SPACECRAFT_SOLAR_DISTANCE = 2.14312e+08
TARGET_NAME = MARS
/* CAMERA DATA ELEMENTS */
DETECTOR_TEMPERATURE = 15.9237
FOCAL_PLANE_TEMPERATURE = 8.5833
INST_CMPRS_NAME = "DISCRETE COSINE TRANSFORMATION (DCT)"
INST_CMPRS_RATIO = 10.4506
INST_CMPRS_QUALITY = 0
INST_CMPRS_QUANTZ_TBL_ID = 0
INSTRUMENT_TEMPERATURE = 11.4379
LENS_TEMPERATURE = 8.9911
MACROPIXEL_SIZE = 8
MISSING_FRAMES = 0
PIXEL_SUBSAMPLING_FLAG = N
SIGNAL_CHAIN_ID = 2
/* RADIOMETRIC DATA ELEMENTS */
BANDWIDTH = 81.0
CENTER_FILTER_WAVELENGTH = 955.5
RADIANCE_OFFSET = 0.783375
RADIANCE_SCALING_FACTOR = 0.00667582
REFLECTANCE_SCALING_FACTOR = 0.000661493
MEX:REFLECTANCE_OFFSET = 0.077623
/* IMAGE OBJECT DEFINITIONS */
OBJECT = IMAGE
  INTERCHANGE_FORMAT = BINARY
  LINES = 11552
  LINE_SAMPLES = 1323
  SAMPLE_TYPE = UNSIGNED_INTEGER
  SAMPLE_BITS = 8
  BANDS = 1
  BAND_STORAGE_TYPE = BAND_SEQUENTIAL
  MAXIMUM = 255
  MEAN = 97.0247
  MINIMUM = 1
  STANDARD_DEVIATION = 26.941
END_OBJECT = IMAGE
/* MAP OBJECT DEFINITIONS */
OBJECT = IMAGE_MAP_PROJECTION
  ^DATA_SET_MAP_PROJECTION_CATALOG= "DSMAP.CAT"
  A_AXIS_RADIUS = 3396.0
  B_AXIS_RADIUS = 3396.0
  C_AXIS_RADIUS = 3396.0
  CENTER_LATITUDE = 0.0
  CENTER_LONGITUDE = 187.0
  COORDINATE_SYSTEM_NAME = PLANETOGRAPHIC
  COORDINATE_SYSTEM_TYPE = "BODY-FIXED ROTATING"
  EASTERNMOST_LONGITUDE = 188.894
  FIRST_STANDARD_PARALLEL = "N/A"
  LINE_FIRST_PIXEL = 1
  LINE_LAST_PIXEL = 11552
  LINE_PROJECTION_OFFSET = -15064.3125
  MAP_PROJECTION_ROTATION = 0.0
  MAP_PROJECTION_TYPE = SINUSOIDAL
  MAP_RESOLUTION = 592.713803866667
  MAP_SCALE = 0.1
  MAXIMUM_LATITUDE = -25.3961
  MINIMUM_LATITUDE = -44.8324
  POSITIVE_LONGITUDE_DIRECTION = EAST
  REFERENCE_LATITUDE = "N/A"
  REFERENCE_LONGITUDE = "N/A"
  SAMPLE_FIRST_PIXEL = 1
  SAMPLE_LAST_PIXEL = 1323
  SAMPLE_PROJECTION_OFFSET = 357.9375
  SECOND_STANDARD_PARALLEL = "N/A"
  WESTERNMOST_LONGITUDE = 186.185
END_OBJECT = IMAGE_MAP_PROJECTION
/* The JPEG2000 image data file associated with this label. */
OBJECT = COMPRESSED_FILE
  FILE_NAME = "H6497_0000_IR3.JP2"
  RECORD_TYPE = UNDEFINED
  FILE_RECORDS = UNK
  ENCODING_TYPE = "JP2"
  INTERCHANGE_FORMAT = BINARY
  UNCOMPRESSED_FILE_NAME = "H6497_0000_IR3.IMG"
  REQUIRED_STORAGE_BYTES = "15303141"
  ^DESCRIPTION = "JP2INFO.TXT"
END_OBJECT = COMPRESSED_FILE
END
