PDS_VERSION_ID = PDS3
/* FILE DATA ELEMENTS */
RECORD_TYPE = STREAM
/* POINTERS TO DATA OBJECTS */
^COMPRESSED_FILE = "H6497_0000_P13.JP2"
/* IDENTIFICATION DATA ELEMENTS */
DATA_SET_ID = "MEX-M-HRSC-5-REFDR-MAPPROJECTED-V3.0"
DATA_SET_NAME = "MARS EXPRESS HRSC MAP PROJECTED REFDR V3.0"
DETECTOR_ID = MEX_HRSC_P1
EVENT_TYPE = "MARS-REGIONAL-MAPPING-Te-Im-Fl"
INSTRUMENT_HOST_ID = MEX
INSTRUMENT_HOST_NAME = "MARS EXPRESS"
INSTRUMENT_ID = HRSC
INSTRUMENT_NAME = "HIGH RESOLUTION STEREO CAMERA"
MISSION_NAME = "MARS EXPRESS"
MISSION_PHASE_NAME = ME_Phase_15
PROCESSING_LEVEL_ID = 3
PRODUCT_CREATION_TIME = 2016-06-28T15:33:21.000Z
PRODUCT_ID = "H6497_0000_P13.JP2"
RELEASE_ID = 0072
REVISION_ID = 0000
/* QUALITY DATA ELEMENTS */
DATA_QUALITY_ID = 2
DATA_QUALITY_DESC = "Data calculated based on photogrammetrically improved orbit and attitude data"
/* TIME DATA ELEMENTS */
SPACECRAFT_CLOCK_START_COUNT = "1/0180790417.07284"
SPACECRAFT_CLOCK_STOP_COUNT = "1/0180790845.23106"
START_TIME = 2009-01-23T11:34:35.545Z
STOP_TIME = 2009-01-23T11:40:19.089Z
/* ORBITAL DATA ELEMENTS */
ASCENDING_NODE_LONGITUDE = 93.92
MAXIMUM_RESOLUTION = 31.3
FOOTPRINT_POINT_LATITUDE = (-44.8469,-44.8394,-44.829,-44.8494, -44.5121,-44.1755,-43.8396,-43.5077, -43.1718,-42.8381,-42.5058,-42.1736, -41.8343,-41.4944,-41.1552,-40.808, -40.2888,-39.76,-39.4073,-38.8702, -38.5116,-38.1472,-37.7802,-37.4094, -37.0442,-36.485,-36.1085,-35.725, -35.1428,-34.7544,-34.3592,-33.9659, -33.5652,-33.1617,-32.7567,-32.3451, -31.9309,-31.5148,-31.0921,-30.6672, -30.2368,-29.8025,-29.3632,-28.9207, -28.4716,-28.0203,-27.5643,-27.1036, -26.6384,-26.168,-25.6936,-25.4188, -25.4133,-25.4079,-25.4013,-25.6402, -26.1134,-26.8224,-27.2844,-27.7461, -28.2024,-28.6549,-29.1016,-29.543, -29.9819,-30.6316,-31.2715,-31.6943, -32.1147,-32.5261,-32.9371,-33.3453, -33.7485,-34.3453,-34.7418,-35.1325, -35.7143,-36.1003,-36.4791,-36.8583, -37.2293,-37.7852,-38.1502,-38.514, -38.8718,-39.409,-39.9375,-40.29, -40.6383,-40.9865,-41.3303,-41.8394, -42.1793,-42.5108,-42.844,-43.1801, -43.8441,-44.1803,-44.519,-44.8469)
FOOTPRINT_POINT_LONGITUDE = (187.782,187.265,186.69,186.159,186.177 ,186.194,186.21,186.222,186.239,186.254 ,186.267,186.28,186.293,186.306,186.318 ,186.331,186.347,186.364,186.374, 186.387,186.396,186.404,186.413,186.421 ,186.421,186.427,186.431,186.435, 186.444,186.446,186.449,186.449,186.45, 186.451,186.449,186.448,186.447,186.443 ,186.44,186.436,186.433,186.427,186.422 ,186.415,186.41,186.401,186.393,186.383 ,186.372,186.36,186.347,186.908,187.423 ,187.888,188.57,188.864,188.849,188.829 ,188.813,188.8,188.786,188.772,188.758, 188.743,188.729,188.708,188.686,188.672 ,188.658,188.643,188.629,188.614, 188.599,188.576,188.561,188.546,188.524 ,188.508,188.493,188.477,188.461, 188.436,188.419,188.402,188.385,188.359 ,188.333,188.316,188.299,188.281, 188.264,188.236,188.217,188.198,188.179 ,188.161,188.119,188.099,188.078, 187.782)
ORBIT_NUMBER = 6497
ORBITAL_ECCENTRICITY = 0.576
ORBITAL_INCLINATION = 86.77
ORBITAL_SEMIMAJOR_AXIS = 8694.36
PERIAPSIS_ALTITUDE = 305.54
PERIAPSIS_ARGUMENT_ANGLE = 296.34
PERIAPSIS_TIME = 2009-01-23T11:29:28.000Z
SPACECRAFT_ORIENTATION = (0.0,1.0,0.0)
^MEX_ORIENTATION_DESC = "MEX_ORIENTATION_DESC.TXT"
SPACECRAFT_POINTING_MODE = ACROSSTRACK
^MEX_POINTING_DESC = "MEX_POINTING_DESC.TXT"
RIGHT_ASCENSION = -1e+32
DECLINATION = -1e+32
OFFSET_ANGLE = 0.36
SPACECRAFT_SOLAR_DISTANCE = 2.14312e+08
TARGET_NAME = MARS
/* CAMERA DATA ELEMENTS */
DETECTOR_TEMPERATURE = 15.9237
FOCAL_PLANE_TEMPERATURE = 8.5833
INST_CMPRS_NAME = "DISCRETE COSINE TRANSFORMATION (DCT)"
INST_CMPRS_RATIO = 9.46077
INST_CMPRS_QUALITY = 0
INST_CMPRS_QUANTZ_TBL_ID = 0
INSTRUMENT_TEMPERATURE = 11.4379
LENS_TEMPERATURE = 8.9911
MACROPIXEL_SIZE = 2
MISSING_FRAMES = 0
PIXEL_SUBSAMPLING_FLAG = N
SIGNAL_CHAIN_ID = 3
/* RADIOMETRIC DATA ELEMENTS */
BANDWIDTH = 174.0
CENTER_FILTER_WAVELENGTH = 675.0
RADIANCE_OFFSET = 3.7346
RADIANCE_SCALING_FACTOR = 0.0224437
REFLECTANCE_SCALING_FACTOR = 0.000554461
MEX:REFLECTANCE_OFFSET = 0.0922614
/* IMAGE OBJECT DEFINITIONS */
OBJECT = IMAGE
  INTERCHANGE_FORMAT = BINARY
  LINES = 46208
  LINE_SAMPLES = 5290
  SAMPLE_TYPE = UNSIGNED_INTEGER
  SAMPLE_BITS = 8
  BANDS = 1
  BAND_STORAGE_TYPE = BAND_SEQUENTIAL
  MAXIMUM = 255
  MEAN = 103.392
  MINIMUM = 1
  STANDARD_DEVIATION = 25.5718
END_OBJECT = IMAGE
/* MAP OBJECT DEFINITIONS */
OBJECT = IMAGE_MAP_PROJECTION
  ^DATA_SET_MAP_PROJECTION_CATALOG= "DSMAP.CAT"
  A_AXIS_RADIUS = 3396.0
  B_AXIS_RADIUS = 3396.0
  C_AXIS_RADIUS = 3396.0
  CENTER_LATITUDE = 0.0
  CENTER_LONGITUDE = 187.0
  COORDINATE_SYSTEM_NAME = PLANETOGRAPHIC
  COORDINATE_SYSTEM_TYPE = "BODY-FIXED ROTATING"
  EASTERNMOST_LONGITUDE = 188.864
  FIRST_STANDARD_PARALLEL = "N/A"
  LINE_FIRST_PIXEL = 1
  LINE_LAST_PIXEL = 46208
  LINE_PROJECTION_OFFSET = -60255.75
  MAP_PROJECTION_ROTATION = 0.0
  MAP_PROJECTION_TYPE = SINUSOIDAL
  MAP_RESOLUTION = 2370.85521546667
  MAP_SCALE = 0.025
  MAXIMUM_LATITUDE = -25.4013
  MINIMUM_LATITUDE = -44.8494
  POSITIVE_LONGITUDE_DIRECTION = EAST
  REFERENCE_LATITUDE = "N/A"
  REFERENCE_LONGITUDE = "N/A"
  SAMPLE_FIRST_PIXEL = 1
  SAMPLE_LAST_PIXEL = 5290
  SAMPLE_PROJECTION_OFFSET = 1433.25
  SECOND_STANDARD_PARALLEL = "N/A"
  WESTERNMOST_LONGITUDE = 186.159
END_OBJECT = IMAGE_MAP_PROJECTION
/* The JPEG2000 image data file associated with this label. */
OBJECT = COMPRESSED_FILE
  FILE_NAME = "H6497_0000_P13.JP2"
  RECORD_TYPE = UNDEFINED
  FILE_RECORDS = UNK
  ENCODING_TYPE = "JP2"
  INTERCHANGE_FORMAT = BINARY
  UNCOMPRESSED_FILE_NAME = "H6497_0000_P13.IMG"
  REQUIRED_STORAGE_BYTES = "244466770"
  ^DESCRIPTION = "JP2INFO.TXT"
END_OBJECT = COMPRESSED_FILE
END
