PDS_VERSION_ID = PDS3
/* FILE DATA ELEMENTS */
RECORD_TYPE = STREAM
/* POINTERS TO DATA OBJECTS */
^COMPRESSED_FILE = "H6497_0000_S13.JP2"
/* IDENTIFICATION DATA ELEMENTS */
DATA_SET_ID = "MEX-M-HRSC-5-REFDR-MAPPROJECTED-V3.0"
DATA_SET_NAME = "MARS EXPRESS HRSC MAP PROJECTED REFDR V3.0"
DETECTOR_ID = MEX_HRSC_S1
EVENT_TYPE = "MARS-REGIONAL-MAPPING-Te-Im-Fl"
INSTRUMENT_HOST_ID = MEX
INSTRUMENT_HOST_NAME = "MARS EXPRESS"
INSTRUMENT_ID = HRSC
INSTRUMENT_NAME = "HIGH RESOLUTION STEREO CAMERA"
MISSION_NAME = "MARS EXPRESS"
MISSION_PHASE_NAME = ME_Phase_15
PROCESSING_LEVEL_ID = 3
PRODUCT_CREATION_TIME = 2016-06-28T15:33:21.000Z
PRODUCT_ID = "H6497_0000_S13.JP2"
RELEASE_ID = 0072
REVISION_ID = 0000
/* QUALITY DATA ELEMENTS */
DATA_QUALITY_ID = 2
DATA_QUALITY_DESC = "Data calculated based on photogrammetrically improved orbit and attitude data"
/* TIME DATA ELEMENTS */
SPACECRAFT_CLOCK_START_COUNT = "1/0180790417.07284"
SPACECRAFT_CLOCK_STOP_COUNT = "1/0180790845.23106"
START_TIME = 2009-01-23T11:34:48.175Z
STOP_TIME = 2009-01-23T11:40:45.856Z
/* ORBITAL DATA ELEMENTS */
ASCENDING_NODE_LONGITUDE = 93.92
MAXIMUM_RESOLUTION = 33
FOOTPRINT_POINT_LATITUDE = (-44.8313,-44.826,-44.8188,-44.5288, -44.1974,-43.8668,-43.3753,-43.0471, -42.7139,-42.3789,-42.0441,-41.5322, -41.1905,-40.8442,-40.4955,-40.148, -39.7924,-39.438,-38.8994,-38.5401, -38.1741,-37.806,-37.4355,-37.0727, -36.7002,-36.1343,-35.7525,-35.3642, -34.9734,-34.579,-34.187,-33.5893, -33.1863,-32.7817,-32.3716,-31.9551, -31.5405,-31.1195,-30.6919,-30.264, -29.8324,-29.3935,-28.9515,-28.5026, -28.0527,-27.5984,-27.1398,-26.4445, -25.9767,-25.5005,-25.4308,-25.4223, -25.4129,-25.4049,-25.3961,-25.6385, -26.3434,-26.816,-27.2746,-27.7349, -28.1898,-28.6406,-29.0868,-29.5283, -29.966,-30.6165,-31.0443,-31.4668, -32.1012,-32.512,-33.1287,-33.5334, -34.1357,-34.7297,-35.3176,-35.7069, -36.0915,-36.4749,-36.8525,-37.4123, -37.7836,-38.1471,-38.6903,-39.0489, -39.4079,-39.9373,-40.2898,-40.6407, -40.9907,-41.3343,-41.6751,-42.1842, -42.5183,-42.8539,-43.1878,-43.5144, -44.0041,-44.3358,-44.6682,-44.8313)
FOOTPRINT_POINT_LONGITUDE = (187.798,187.215,186.628,186.157, 186.173,186.189,186.21,186.224,186.237, 186.25,186.263,186.282,186.293,186.305, 186.316,186.327,186.337,186.347,186.36, 186.368,186.375,186.384,186.39,186.391, 186.394,186.4,186.403,186.407,186.412, 186.414,186.414,186.414,186.414,186.411 ,186.409,186.408,186.403,186.399, 186.396,186.39,186.383,186.377,186.369, 186.362,186.353,186.343,186.332,186.313 ,186.298,186.285,186.853,187.316, 187.855,188.52,188.937,188.93,188.905, 188.89,188.873,188.858,188.842,188.827, 188.811,188.796,188.78,188.757,188.742, 188.726,188.704,188.687,188.664,188.648 ,188.624,188.6,188.576,188.56,188.544, 188.528,188.511,188.486,188.469,188.451 ,188.424,188.407,188.389,188.362, 188.344,188.326,188.308,188.29,188.271, 188.242,188.222,188.203,188.184,188.163 ,188.132,188.111,188.09,187.798)
ORBIT_NUMBER = 6497
ORBITAL_ECCENTRICITY = 0.576
ORBITAL_INCLINATION = 86.77
ORBITAL_SEMIMAJOR_AXIS = 8694.36
PERIAPSIS_ALTITUDE = 305.54
PERIAPSIS_ARGUMENT_ANGLE = 296.34
PERIAPSIS_TIME = 2009-01-23T11:29:28.000Z
SPACECRAFT_ORIENTATION = (0.0,1.0,0.0)
^MEX_ORIENTATION_DESC = "MEX_ORIENTATION_DESC.TXT"
SPACECRAFT_POINTING_MODE = ACROSSTRACK
^MEX_POINTING_DESC = "MEX_POINTING_DESC.TXT"
RIGHT_ASCENSION = -1e+32
DECLINATION = -1e+32
OFFSET_ANGLE = 0.36
SPACECRAFT_SOLAR_DISTANCE = 2.14312e+08
TARGET_NAME = MARS
/* CAMERA DATA ELEMENTS */
DETECTOR_TEMPERATURE = 15.9237
FOCAL_PLANE_TEMPERATURE = 8.5833
INST_CMPRS_NAME = "DISCRETE COSINE TRANSFORMATION (DCT)"
INST_CMPRS_RATIO = 9.71307
INST_CMPRS_QUALITY = 0
INST_CMPRS_QUANTZ_TBL_ID = 0
INSTRUMENT_TEMPERATURE = 11.4379
LENS_TEMPERATURE = 8.9911
MACROPIXEL_SIZE = 2
MISSING_FRAMES = 0
PIXEL_SUBSAMPLING_FLAG = N
SIGNAL_CHAIN_ID = 1
/* RADIOMETRIC DATA ELEMENTS */
BANDWIDTH = 180.0
CENTER_FILTER_WAVELENGTH = 677.0
RADIANCE_OFFSET = 4.30391
RADIANCE_SCALING_FACTOR = 0.0230156
REFLECTANCE_SCALING_FACTOR = 0.000551514
MEX:REFLECTANCE_OFFSET = 0.103133
/* IMAGE OBJECT DEFINITIONS */
OBJECT = IMAGE
  INTERCHANGE_FORMAT = BINARY
  LINES = 46208
  LINE_SAMPLES = 5290
  SAMPLE_TYPE = UNSIGNED_INTEGER
  SAMPLE_BITS = 8
  BANDS = 1
  BAND_STORAGE_TYPE = BAND_SEQUENTIAL
  MAXIMUM = 255
  MEAN = 102.08
  MINIMUM = 1
  STANDARD_DEVIATION = 26.2919
END_OBJECT = IMAGE
/* MAP OBJECT DEFINITIONS */
OBJECT = IMAGE_MAP_PROJECTION
  ^DATA_SET_MAP_PROJECTION_CATALOG= "DSMAP.CAT"
  A_AXIS_RADIUS = 3396.0
  B_AXIS_RADIUS = 3396.0
  C_AXIS_RADIUS = 3396.0
  CENTER_LATITUDE = 0.0
  CENTER_LONGITUDE = 187.0
  COORDINATE_SYSTEM_NAME = PLANETOGRAPHIC
  COORDINATE_SYSTEM_TYPE = "BODY-FIXED ROTATING"
  EASTERNMOST_LONGITUDE = 188.937
  FIRST_STANDARD_PARALLEL = "N/A"
  LINE_FIRST_PIXEL = 1
  LINE_LAST_PIXEL = 46208
  LINE_PROJECTION_OFFSET = -60255.75
  MAP_PROJECTION_ROTATION = 0.0
  MAP_PROJECTION_TYPE = SINUSOIDAL
  MAP_RESOLUTION = 2370.85521546667
  MAP_SCALE = 0.025
  MAXIMUM_LATITUDE = -25.3961
  MINIMUM_LATITUDE = -44.8313
  POSITIVE_LONGITUDE_DIRECTION = EAST
  REFERENCE_LATITUDE = "N/A"
  REFERENCE_LONGITUDE = "N/A"
  SAMPLE_FIRST_PIXEL = 1
  SAMPLE_LAST_PIXEL = 5290
  SAMPLE_PROJECTION_OFFSET = 1433.25
  SECOND_STANDARD_PARALLEL = "N/A"
  WESTERNMOST_LONGITUDE = 186.157
END_OBJECT = IMAGE_MAP_PROJECTION
/* The JPEG2000 image data file associated with this label. */
OBJECT = COMPRESSED_FILE
  FILE_NAME = "H6497_0000_S13.JP2"
  RECORD_TYPE = UNDEFINED
  FILE_RECORDS = UNK
  ENCODING_TYPE = "JP2"
  INTERCHANGE_FORMAT = BINARY
  UNCOMPRESSED_FILE_NAME = "H6497_0000_S13.IMG"
  REQUIRED_STORAGE_BYTES = "244466770"
  ^DESCRIPTION = "JP2INFO.TXT"
END_OBJECT = COMPRESSED_FILE
END
