PDS_VERSION_ID = PDS3
/* FILE DATA ELEMENTS */
RECORD_TYPE = STREAM
/* POINTERS TO DATA OBJECTS */
^COMPRESSED_FILE = "H6502_0000_P13.JP2"
/* IDENTIFICATION DATA ELEMENTS */
DATA_SET_ID = "MEX-M-HRSC-5-REFDR-MAPPROJECTED-V3.0"
DATA_SET_NAME = "MARS EXPRESS HRSC MAP PROJECTED REFDR V3.0"
DETECTOR_ID = MEX_HRSC_P1
EVENT_TYPE = "MARS-REGIONAL-MAPPING-Im-Fl-Pf"
INSTRUMENT_HOST_ID = MEX
INSTRUMENT_HOST_NAME = "MARS EXPRESS"
INSTRUMENT_ID = HRSC
INSTRUMENT_NAME = "HIGH RESOLUTION STEREO CAMERA"
MISSION_NAME = "MARS EXPRESS"
MISSION_PHASE_NAME = ME_Phase_15
PROCESSING_LEVEL_ID = 3
PRODUCT_CREATION_TIME = 2016-06-29T00:46:52.000Z
PRODUCT_ID = "H6502_0000_P13.JP2"
RELEASE_ID = 0073
REVISION_ID = 0000
/* QUALITY DATA ELEMENTS */
DATA_QUALITY_ID = 1
DATA_QUALITY_DESC = "Data calculated based on original SPICE kernels"
/* TIME DATA ELEMENTS */
SPACECRAFT_CLOCK_START_COUNT = "1/0180914450.09045"
SPACECRAFT_CLOCK_STOP_COUNT = "1/0180914725.23382"
START_TIME = 2009-01-24T22:01:43.477Z
STOP_TIME = 2009-01-24T22:02:21.565Z
/* ORBITAL DATA ELEMENTS */
ASCENDING_NODE_LONGITUDE = 93.83
MAXIMUM_RESOLUTION = 28.9
FOOTPRINT_POINT_LATITUDE = (-50.0719,-50.0677,-50.0637,-50.0597, -50.0554,-50.0494,-50.0448,-50.0407, -50.0359,-50.031,-50.0278,-50.0246, -50.02,-50.0126,-50.0575,-50.01, -49.9389,-49.8914,-49.844,-49.749, -49.6778,-49.6068,-49.5122,-49.4177, -49.3467,-49.2757,-49.1811,-49.0629, -48.9686,-48.8506,-48.7562,-48.6854, -48.5912,-48.5205,-48.4262,-48.3321, -48.2613,-48.1663,-48.0941,-47.9989, -47.9039,-47.8332,-47.7408,-47.674, -47.6774,-47.68,-47.6835,-47.6857, -47.6861,-47.6886,-47.6935,-47.6976, -47.7014,-47.7038,-47.7068,-47.7101, -47.7143,-47.7176,-47.7196,-47.722, -47.724,-47.7263,-47.7297,-47.7316, -47.7798,-47.828,-47.9236,-47.9941, -48.0647,-48.1353,-48.229,-48.3209, -48.3901,-48.4609,-48.5084,-48.5562, -48.6271,-48.7452,-48.8157,-48.8863, -48.9569,-49.028,-49.0992,-49.1939, -49.265,-49.3343,-49.4046,-49.4762, -49.5236,-49.5716,-49.619,-49.6899, -49.7374,-49.8086,-49.8566,-49.9049, -49.9763,-50.0487,-50.1187,-50.0719)
FOOTPRINT_POINT_LONGITUDE = (44.422,44.259,44.1144,43.9701,43.826, 43.628,43.4844,43.3589,43.2158,43.0729, 42.9836,42.8943,42.7694,42.5736,42.5418 ,42.5451,42.55,42.5533,42.5565,42.5631, 42.568,42.5727,42.5789,42.5851,42.5897, 42.5943,42.6004,42.6079,42.6138,42.6211 ,42.6269,42.6312,42.6369,42.6412, 42.6468,42.6523,42.6565,42.6624,42.6674 ,42.6734,42.6793,42.6833,42.6877, 42.7449,42.8369,42.9107,43.0215,43.0954 ,43.2067,43.2803,43.3724,43.4464, 43.5391,43.6133,43.7062,43.7994,43.93, 44.0422,44.1168,44.2103,44.2851,44.3788 ,44.5102,44.5856,44.6086,44.607,44.6031 ,44.5991,44.595,44.5909,44.5851,44.5775 ,44.5721,44.568,44.5655,44.5632,44.5591 ,44.5522,44.5476,44.5431,44.5385, 44.5343,44.5302,44.5245,44.5201,44.5141 ,44.509,44.505,44.502,44.4995,44.4965, 44.4917,44.4887,44.4841,44.4816,44.4792 ,44.4747,44.4711,44.4652,44.422)
ORBIT_NUMBER = 6502
ORBITAL_ECCENTRICITY = 0.576
ORBITAL_INCLINATION = 86.76
ORBITAL_SEMIMAJOR_AXIS = 8695.65
PERIAPSIS_ALTITUDE = 305.48
PERIAPSIS_ARGUMENT_ANGLE = 295.48
PERIAPSIS_TIME = 2009-01-24T21:57:46.000Z
SPACECRAFT_ORIENTATION = (0.0,1.0,0.0)
^MEX_ORIENTATION_DESC = "MEX_ORIENTATION_DESC.TXT"
SPACECRAFT_POINTING_MODE = ACROSSTRACK
^MEX_POINTING_DESC = "MEX_POINTING_DESC.TXT"
RIGHT_ASCENSION = -1e+32
DECLINATION = -1e+32
OFFSET_ANGLE = -0.2
SPACECRAFT_SOLAR_DISTANCE = 2.14085e+08
TARGET_NAME = MARS
/* CAMERA DATA ELEMENTS */
DETECTOR_TEMPERATURE = 17.351
FOCAL_PLANE_TEMPERATURE = 8.3794
INST_CMPRS_NAME = "DISCRETE COSINE TRANSFORMATION (DCT)"
INST_CMPRS_RATIO = 11.7789
INST_CMPRS_QUALITY = 0
INST_CMPRS_QUANTZ_TBL_ID = 0
INSTRUMENT_TEMPERATURE = 11.4379
LENS_TEMPERATURE = 8.7872
MACROPIXEL_SIZE = 2
MISSING_FRAMES = 0
PIXEL_SUBSAMPLING_FLAG = N
SIGNAL_CHAIN_ID = 3
/* RADIOMETRIC DATA ELEMENTS */
BANDWIDTH = 174.0
CENTER_FILTER_WAVELENGTH = 675.0
RADIANCE_OFFSET = 3.99423
RADIANCE_SCALING_FACTOR = 0.0152096
REFLECTANCE_SCALING_FACTOR = 0.00037495
MEX:REFLECTANCE_OFFSET = 0.0984664
/* IMAGE OBJECT DEFINITIONS */
OBJECT = IMAGE
  INTERCHANGE_FORMAT = BINARY
  LINES = 29645
  LINE_SAMPLES = 4129
  SAMPLE_TYPE = UNSIGNED_INTEGER
  SAMPLE_BITS = 8
  BANDS = 1
  BAND_STORAGE_TYPE = BAND_SEQUENTIAL
  MAXIMUM = 255
  MEAN = 138.905
  MINIMUM = 1
  STANDARD_DEVIATION = 28.2544
END_OBJECT = IMAGE
/* MAP OBJECT DEFINITIONS */
OBJECT = IMAGE_MAP_PROJECTION
  ^DATA_SET_MAP_PROJECTION_CATALOG= "DSMAP.CAT"
  A_AXIS_RADIUS = 3396.0
  B_AXIS_RADIUS = 3396.0
  C_AXIS_RADIUS = 3396.0
  CENTER_LATITUDE = 0.0
  CENTER_LONGITUDE = 44.0
  COORDINATE_SYSTEM_NAME = PLANETOGRAPHIC
  COORDINATE_SYSTEM_TYPE = "BODY-FIXED ROTATING"
  EASTERNMOST_LONGITUDE = 44.6086
  FIRST_STANDARD_PARALLEL = "N/A"
  LINE_FIRST_PIXEL = 1
  LINE_LAST_PIXEL = 29645
  LINE_PROJECTION_OFFSET = -89179.25
  MAP_PROJECTION_ROTATION = 0.0
  MAP_PROJECTION_TYPE = SINUSOIDAL
  MAP_RESOLUTION = 2370.85521546667
  MAP_SCALE = 0.025
  MAXIMUM_LATITUDE = -47.674
  MINIMUM_LATITUDE = -50.1187
  POSITIVE_LONGITUDE_DIRECTION = EAST
  REFERENCE_LATITUDE = "N/A"
  REFERENCE_LONGITUDE = "N/A"
  SAMPLE_FIRST_PIXEL = 1
  SAMPLE_LAST_PIXEL = 4129
  SAMPLE_PROJECTION_OFFSET = 2209.25
  SECOND_STANDARD_PARALLEL = "N/A"
  WESTERNMOST_LONGITUDE = 42.5418
END_OBJECT = IMAGE_MAP_PROJECTION
/* The JPEG2000 image data file associated with this label. */
OBJECT = COMPRESSED_FILE
  FILE_NAME = "H6502_0000_P13.JP2"
  RECORD_TYPE = UNDEFINED
  FILE_RECORDS = UNK
  ENCODING_TYPE = "JP2"
  INTERCHANGE_FORMAT = BINARY
  UNCOMPRESSED_FILE_NAME = "H6502_0000_P13.IMG"
  REQUIRED_STORAGE_BYTES = "122428979"
  ^DESCRIPTION = "JP2INFO.TXT"
END_OBJECT = COMPRESSED_FILE
END
