PDS_VERSION_ID = PDS3
/* FILE DATA ELEMENTS */
RECORD_TYPE = STREAM
/* POINTERS TO DATA OBJECTS */
^COMPRESSED_FILE = "H6508_0000_GR3.JP2"
/* IDENTIFICATION DATA ELEMENTS */
DATA_SET_ID = "MEX-M-HRSC-5-REFDR-MAPPROJECTED-V3.0"
DATA_SET_NAME = "MARS EXPRESS HRSC MAP PROJECTED REFDR V3.0"
DETECTOR_ID = MEX_HRSC_GREEN
EVENT_TYPE = "MARS-REGIONAL-MAPPING-Im-Fl"
INSTRUMENT_HOST_ID = MEX
INSTRUMENT_HOST_NAME = "MARS EXPRESS"
INSTRUMENT_ID = HRSC
INSTRUMENT_NAME = "HIGH RESOLUTION STEREO CAMERA"
MISSION_NAME = "MARS EXPRESS"
MISSION_PHASE_NAME = ME_Phase_15
PROCESSING_LEVEL_ID = 3
PRODUCT_CREATION_TIME = 2016-06-29T00:46:52.000Z
PRODUCT_ID = "H6508_0000_GR3.JP2"
RELEASE_ID = 0073
REVISION_ID = 0000
/* QUALITY DATA ELEMENTS */
DATA_QUALITY_ID = 2
DATA_QUALITY_DESC = "Data calculated based on photogrammetrically improved orbit and attitude data"
/* TIME DATA ELEMENTS */
SPACECRAFT_CLOCK_START_COUNT = "1/0181063554.09051"
SPACECRAFT_CLOCK_STOP_COUNT = "1/0181063922.42087"
START_TIME = 2009-01-26T15:26:43.680Z
STOP_TIME = 2009-01-26T15:30:54.456Z
/* ORBITAL DATA ELEMENTS */
ASCENDING_NODE_LONGITUDE = 93.71
MAXIMUM_RESOLUTION = 72
FOOTPRINT_POINT_LATITUDE = (-38.8121,-38.8028,-38.7961,-38.7897, -38.3011,-37.9278,-37.6788,-37.4301, -37.1766,-36.9231,-36.6701,-36.4131, -36.1551,-35.8978,-35.5048,-35.2428, -34.9681,-34.7012,-34.2996,-34.0288, -33.7589,-33.4845,-33.0728,-32.7938, -32.5151,-32.2332,-31.9401,-31.5117, -31.2249,-30.9342,-30.643,-30.3486, -30.0537,-29.7553,-29.4564,-29.1541, -28.6977,-28.3909,-28.0813,-27.6134, -27.299,-26.9813,-26.6624,-26.3402, -26.0156,-25.6897,-25.3601,-25.0278, -24.6938,-24.4513,-24.452,-24.4515, -24.4491,-24.4455,-24.4397,-24.7784, -25.1127,-25.6106,-25.9387,-26.2655, -26.5887,-27.0696,-27.5453,-28.0156, -28.3272,-28.635,-29.0942,-29.3981, -29.6978,-29.9982,-30.294,-30.5903, -30.8821,-31.1746,-31.4623,-31.7505, -32.0352,-32.4702,-32.7497,-33.1681, -33.4436,-33.8555,-34.1267,-34.5324, -34.9324,-35.1993,-35.6031,-35.8669, -36.1256,-36.3845,-36.6433,-36.8969, -37.151,-37.531,-37.7805,-38.0303, -38.2799,-38.5251,-38.7704,-38.8121)
FOOTPRINT_POINT_LONGITUDE = (159.186,158.577,158.226,157.726, 157.732,157.738,157.741,157.743,157.745 ,157.747,157.749,157.75,157.751,157.752 ,157.754,157.754,157.756,157.757, 157.757,157.756,157.754,157.753,157.75, 157.748,157.746,157.744,157.741,157.737 ,157.733,157.73,157.727,157.723,157.718 ,157.713,157.708,157.703,157.694, 157.688,157.681,157.671,157.663,157.655 ,157.647,157.638,157.63,157.621,157.611 ,157.602,157.591,157.749,158.106, 158.655,159.037,159.442,160.038,160.135 ,160.128,160.118,160.111,160.103, 160.096,160.085,160.074,160.063,160.056 ,160.048,160.038,160.029,160.022, 160.014,160.006,159.999,159.991,159.983 ,159.975,159.967,159.96,159.946,159.938 ,159.926,159.919,159.906,159.897, 159.885,159.87,159.862,159.85,159.843, 159.835,159.827,159.818,159.809,159.8, 159.786,159.777,159.768,159.759,159.75, 159.741,159.186)
ORBIT_NUMBER = 6508
ORBITAL_ECCENTRICITY = 0.576
ORBITAL_INCLINATION = 86.76
ORBITAL_SEMIMAJOR_AXIS = 8693.62
PERIAPSIS_ALTITUDE = 306.19
PERIAPSIS_ARGUMENT_ANGLE = 294.46
PERIAPSIS_TIME = 2009-01-26T15:19:46.000Z
SPACECRAFT_ORIENTATION = (0.0,1.0,0.0)
^MEX_ORIENTATION_DESC = "MEX_ORIENTATION_DESC.TXT"
SPACECRAFT_POINTING_MODE = NADIR
^MEX_POINTING_DESC = "MEX_POINTING_DESC.TXT"
RIGHT_ASCENSION = -1e+32
DECLINATION = -1e+32
OFFSET_ANGLE = -1e+32
SPACECRAFT_SOLAR_DISTANCE = 2.13815e+08
TARGET_NAME = MARS
/* CAMERA DATA ELEMENTS */
DETECTOR_TEMPERATURE = 18.1666
FOCAL_PLANE_TEMPERATURE = 7.7677
INST_CMPRS_NAME = "DISCRETE COSINE TRANSFORMATION (DCT)"
INST_CMPRS_RATIO = 11.7713
INST_CMPRS_QUALITY = 0
INST_CMPRS_QUANTZ_TBL_ID = 0
INSTRUMENT_TEMPERATURE = 10.6223
LENS_TEMPERATURE = 8.3794
MACROPIXEL_SIZE = 4
MISSING_FRAMES = 2
PIXEL_SUBSAMPLING_FLAG = N
SIGNAL_CHAIN_ID = 2
/* RADIOMETRIC DATA ELEMENTS */
BANDWIDTH = 88.0
CENTER_FILTER_WAVELENGTH = 538.0
RADIANCE_OFFSET = 1.63954
RADIANCE_SCALING_FACTOR = 0.00551105
REFLECTANCE_SCALING_FACTOR = 0.000216919
MEX:REFLECTANCE_OFFSET = 0.0645333
/* IMAGE OBJECT DEFINITIONS */
OBJECT = IMAGE
  INTERCHANGE_FORMAT = BINARY
  LINES = 17052
  LINE_SAMPLES = 2807
  SAMPLE_TYPE = UNSIGNED_INTEGER
  SAMPLE_BITS = 8
  BANDS = 1
  BAND_STORAGE_TYPE = BAND_SEQUENTIAL
  MAXIMUM = 255
  MEAN = 133.106
  MINIMUM = 1
  STANDARD_DEVIATION = 26.9065
END_OBJECT = IMAGE
/* MAP OBJECT DEFINITIONS */
OBJECT = IMAGE_MAP_PROJECTION
  ^DATA_SET_MAP_PROJECTION_CATALOG= "DSMAP.CAT"
  A_AXIS_RADIUS = 3396.0
  B_AXIS_RADIUS = 3396.0
  C_AXIS_RADIUS = 3396.0
  CENTER_LATITUDE = 0.0
  CENTER_LONGITUDE = 159.0
  COORDINATE_SYSTEM_NAME = PLANETOGRAPHIC
  COORDINATE_SYSTEM_TYPE = "BODY-FIXED ROTATING"
  EASTERNMOST_LONGITUDE = 160.135
  FIRST_STANDARD_PARALLEL = "N/A"
  LINE_FIRST_PIXEL = 1
  LINE_LAST_PIXEL = 17052
  LINE_PROJECTION_OFFSET = -28970.875
  MAP_PROJECTION_ROTATION = 0.0
  MAP_PROJECTION_TYPE = SINUSOIDAL
  MAP_RESOLUTION = 1185.42760773333
  MAP_SCALE = 0.05
  MAXIMUM_LATITUDE = -24.4397
  MINIMUM_LATITUDE = -38.8121
  POSITIVE_LONGITUDE_DIRECTION = EAST
  REFERENCE_LATITUDE = "N/A"
  REFERENCE_LONGITUDE = "N/A"
  SAMPLE_FIRST_PIXEL = 1
  SAMPLE_LAST_PIXEL = 2807
  SAMPLE_PROJECTION_OFFSET = 1555.375
  SECOND_STANDARD_PARALLEL = "N/A"
  WESTERNMOST_LONGITUDE = 157.591
END_OBJECT = IMAGE_MAP_PROJECTION
/* The JPEG2000 image data file associated with this label. */
OBJECT = COMPRESSED_FILE
  FILE_NAME = "H6508_0000_GR3.JP2"
  RECORD_TYPE = UNDEFINED
  FILE_RECORDS = UNK
  ENCODING_TYPE = "JP2"
  INTERCHANGE_FORMAT = BINARY
  UNCOMPRESSED_FILE_NAME = "H6508_0000_GR3.IMG"
  REQUIRED_STORAGE_BYTES = "47887420"
  ^DESCRIPTION = "JP2INFO.TXT"
END_OBJECT = COMPRESSED_FILE
END
