PDS_VERSION_ID = PDS3
/* FILE DATA ELEMENTS */
RECORD_TYPE = STREAM
/* POINTERS TO DATA OBJECTS */
^COMPRESSED_FILE = "H6510_0000_IR3.JP2"
/* IDENTIFICATION DATA ELEMENTS */
DATA_SET_ID = "MEX-M-HRSC-5-REFDR-MAPPROJECTED-V3.0"
DATA_SET_NAME = "MARS EXPRESS HRSC MAP PROJECTED REFDR V3.0"
DETECTOR_ID = MEX_HRSC_IR
EVENT_TYPE = "MARS-REGIONAL-MAPPING-Im-Fl-Gl"
INSTRUMENT_HOST_ID = MEX
INSTRUMENT_HOST_NAME = "MARS EXPRESS"
INSTRUMENT_ID = HRSC
INSTRUMENT_NAME = "HIGH RESOLUTION STEREO CAMERA"
MISSION_NAME = "MARS EXPRESS"
MISSION_PHASE_NAME = ME_Phase_15
PROCESSING_LEVEL_ID = 3
PRODUCT_CREATION_TIME = 2016-06-29T00:46:52.000Z
PRODUCT_ID = "H6510_0000_IR3.JP2"
RELEASE_ID = 0073
REVISION_ID = 0000
/* QUALITY DATA ELEMENTS */
DATA_QUALITY_ID = 1
DATA_QUALITY_DESC = "Data calculated based on original SPICE kernels"
/* TIME DATA ELEMENTS */
SPACECRAFT_CLOCK_START_COUNT = "1/0181113072.08265"
SPACECRAFT_CLOCK_STOP_COUNT = "1/0181113318.13785"
START_TIME = 2009-01-27T05:12:16.605Z
STOP_TIME = 2009-01-27T05:15:09.331Z
/* ORBITAL DATA ELEMENTS */
ASCENDING_NODE_LONGITUDE = 93.67
MAXIMUM_RESOLUTION = 65.2
FOOTPRINT_POINT_LATITUDE = (-47.0875,-47.078,-47.0688,-47.0612, -47.0509,-46.8259,-46.6379,-46.4493, -46.1666,-45.9819,-45.7941,-45.5133, -45.3255,-45.1361,-44.7687,-44.578, -44.384,-44.093,-43.8952,-43.7034, -43.5113,-43.316,-43.1206,-42.9257, -42.6318,-42.3358,-42.1377,-41.9408, -41.7411,-41.4391,-41.2374,-40.9314, -40.7263,-40.5226,-40.3186,-40.1135, -39.9104,-39.7014,-39.4867,-39.2791, -39.0679,-38.7518,-38.5366,-38.214, -37.8878,-37.6713,-37.4443,-37.2287, -37.0307,-37.021,-37.0266,-37.0338, -37.0426,-37.0465,-37.2713,-37.491, -37.7067,-37.9268,-38.1454,-38.3597, -38.5797,-38.9002,-39.1168,-39.3295, -39.5405,-39.8527,-40.0618,-40.2703, -40.4736,-40.7824,-40.9878,-41.2932, -41.4927,-41.6963,-41.8975,-42.0961, -42.29,-42.4903,-42.7903,-42.9873, -43.2818,-43.477,-43.7689,-43.9614, -44.1534,-44.4401,-44.7293,-44.9163, -45.1037,-45.2911,-45.4788,-45.6668, -45.8551,-46.0437,-46.3264,-46.5149, -46.7042,-46.8937,-47.0834,-47.0875)
FOOTPRINT_POINT_LONGITUDE = (317.449,317.017,316.639,316.351,315.99 ,315.762,315.771,315.78,315.794,315.801 ,315.81,315.822,315.831,315.84,315.852, 315.861,315.87,315.883,315.895,315.902, 315.908,315.915,315.922,315.928,315.937 ,315.945,315.951,315.956,315.961, 315.968,315.973,315.981,315.986,315.989 ,315.993,315.996,315.997,316.001, 316.008,316.009,316.012,316.016,316.019 ,316.022,316.027,316.028,316.034, 316.034,316.259,316.571,316.856,317.204 ,317.634,318.107,318.228,318.22,318.211 ,318.203,318.195,318.186,318.179, 318.166,318.16,318.151,318.142,318.129, 318.12,318.111,318.101,318.088,318.078, 318.065,318.055,318.046,318.036,318.027 ,318.015,318.007,317.993,317.985, 317.971,317.961,317.946,317.937,317.928 ,317.912,317.898,317.887,317.877, 317.866,317.856,317.845,317.834,317.823 ,317.806,317.795,317.783,317.772,317.76 ,317.449)
ORBIT_NUMBER = 6510
ORBITAL_ECCENTRICITY = 0.576
ORBITAL_INCLINATION = 86.77
ORBITAL_SEMIMAJOR_AXIS = 8690.43
PERIAPSIS_ALTITUDE = 305.53
PERIAPSIS_ARGUMENT_ANGLE = 294.12
PERIAPSIS_TIME = 2009-01-27T05:07:04.000Z
SPACECRAFT_ORIENTATION = (0.0,1.0,0.0)
^MEX_ORIENTATION_DESC = "MEX_ORIENTATION_DESC.TXT"
SPACECRAFT_POINTING_MODE = NADIR
^MEX_POINTING_DESC = "MEX_POINTING_DESC.TXT"
RIGHT_ASCENSION = -1e+32
DECLINATION = -1e+32
OFFSET_ANGLE = -1e+32
SPACECRAFT_SOLAR_DISTANCE = 2.13726e+08
TARGET_NAME = MARS
/* CAMERA DATA ELEMENTS */
DETECTOR_TEMPERATURE = 17.351
FOCAL_PLANE_TEMPERATURE = 8.1755
INST_CMPRS_NAME = "DISCRETE COSINE TRANSFORMATION (DCT)"
INST_CMPRS_RATIO = 20.1084
INST_CMPRS_QUALITY = 0
INST_CMPRS_QUANTZ_TBL_ID = 0
INSTRUMENT_TEMPERATURE = 11.4379
LENS_TEMPERATURE = 8.5833
MACROPIXEL_SIZE = 4
MISSING_FRAMES = 0
PIXEL_SUBSAMPLING_FLAG = N
SIGNAL_CHAIN_ID = 2
/* RADIOMETRIC DATA ELEMENTS */
BANDWIDTH = 81.0
CENTER_FILTER_WAVELENGTH = 955.5
RADIANCE_OFFSET = 1.05507
RADIANCE_SCALING_FACTOR = 0.00326339
REFLECTANCE_SCALING_FACTOR = 0.000321596
MEX:REFLECTANCE_OFFSET = 0.103973
/* IMAGE OBJECT DEFINITIONS */
OBJECT = IMAGE
  INTERCHANGE_FORMAT = BINARY
  LINES = 12022
  LINE_SAMPLES = 2108
  SAMPLE_TYPE = UNSIGNED_INTEGER
  SAMPLE_BITS = 8
  BANDS = 1
  BAND_STORAGE_TYPE = BAND_SEQUENTIAL
  MAXIMUM = 255
  MEAN = 142.201
  MINIMUM = 1
  STANDARD_DEVIATION = 30.0672
END_OBJECT = IMAGE
/* MAP OBJECT DEFINITIONS */
OBJECT = IMAGE_MAP_PROJECTION
  ^DATA_SET_MAP_PROJECTION_CATALOG= "DSMAP.CAT"
  A_AXIS_RADIUS = 3396.0
  B_AXIS_RADIUS = 3396.0
  C_AXIS_RADIUS = 3396.0
  CENTER_LATITUDE = 0.0
  CENTER_LONGITUDE = 317.0
  COORDINATE_SYSTEM_NAME = PLANETOGRAPHIC
  COORDINATE_SYSTEM_TYPE = "BODY-FIXED ROTATING"
  EASTERNMOST_LONGITUDE = 318.228
  FIRST_STANDARD_PARALLEL = "N/A"
  LINE_FIRST_PIXEL = 1
  LINE_LAST_PIXEL = 12022
  LINE_PROJECTION_OFFSET = -43877.125
  MAP_PROJECTION_ROTATION = 0.0
  MAP_PROJECTION_TYPE = SINUSOIDAL
  MAP_RESOLUTION = 1185.42760773333
  MAP_SCALE = 0.05
  MAXIMUM_LATITUDE = -37.021
  MINIMUM_LATITUDE = -47.0875
  POSITIVE_LONGITUDE_DIRECTION = EAST
  REFERENCE_LATITUDE = "N/A"
  REFERENCE_LONGITUDE = "N/A"
  SAMPLE_FIRST_PIXEL = 1
  SAMPLE_LAST_PIXEL = 2108
  SAMPLE_PROJECTION_OFFSET = 1000.125
  SECOND_STANDARD_PARALLEL = "N/A"
  WESTERNMOST_LONGITUDE = 315.762
END_OBJECT = IMAGE_MAP_PROJECTION
/* The JPEG2000 image data file associated with this label. */
OBJECT = COMPRESSED_FILE
  FILE_NAME = "H6510_0000_IR3.JP2"
  RECORD_TYPE = UNDEFINED
  FILE_RECORDS = UNK
  ENCODING_TYPE = "JP2"
  INTERCHANGE_FORMAT = BINARY
  UNCOMPRESSED_FILE_NAME = "H6510_0000_IR3.IMG"
  REQUIRED_STORAGE_BYTES = "25363456"
  ^DESCRIPTION = "JP2INFO.TXT"
END_OBJECT = COMPRESSED_FILE
END
