PDS_VERSION_ID = PDS3
/* FILE DATA ELEMENTS */
RECORD_TYPE = STREAM
/* POINTERS TO DATA OBJECTS */
^COMPRESSED_FILE = "H6511_0000_BL3.JP2"
/* IDENTIFICATION DATA ELEMENTS */
DATA_SET_ID = "MEX-M-HRSC-5-REFDR-MAPPROJECTED-V3.0"
DATA_SET_NAME = "MARS EXPRESS HRSC MAP PROJECTED REFDR V3.0"
DETECTOR_ID = MEX_HRSC_BLUE
EVENT_TYPE = "MARS-REGIONAL-MAPPING-Te-Im-Fl"
INSTRUMENT_HOST_ID = MEX
INSTRUMENT_HOST_NAME = "MARS EXPRESS"
INSTRUMENT_ID = HRSC
INSTRUMENT_NAME = "HIGH RESOLUTION STEREO CAMERA"
MISSION_NAME = "MARS EXPRESS"
MISSION_PHASE_NAME = ME_Phase_15
PROCESSING_LEVEL_ID = 3
PRODUCT_CREATION_TIME = 2016-06-29T00:46:52.000Z
PRODUCT_ID = "H6511_0000_BL3.JP2"
RELEASE_ID = 0073
REVISION_ID = 0000
/* QUALITY DATA ELEMENTS */
DATA_QUALITY_ID = 1
DATA_QUALITY_DESC = "Data calculated based on original SPICE kernels"
/* TIME DATA ELEMENTS */
SPACECRAFT_CLOCK_START_COUNT = "1/0181137750.09028"
SPACECRAFT_CLOCK_STOP_COUNT = "1/0181138115.00189"
START_TIME = 2009-01-27T12:02:55.711Z
STOP_TIME = 2009-01-27T12:07:40.202Z
/* ORBITAL DATA ELEMENTS */
ASCENDING_NODE_LONGITUDE = 93.65
MAXIMUM_RESOLUTION = 50.8
FOOTPRINT_POINT_LATITUDE = (-56.5486,-56.5253,-56.4992,-56.313, -56.032,-55.7509,-55.3294,-54.9076, -54.6272,-54.3408,-54.051,-53.762, -53.4719,-53.1823,-52.8924,-52.4593, -52.0159,-51.7177,-51.4198,-51.1223, -50.6759,-50.2288,-49.785,-49.4886, -49.1925,-48.8967,-48.4532,-48.158, -47.8625,-47.5689,-47.0813,-46.7308, -46.3802,-46.0297,-45.6798,-45.3305, -44.9816,-44.6335,-44.1119,-43.7649, -43.4186,-43.0727,-42.3793,-40.0499, -39.6541,-39.058,-38.6812,-38.2217, -38.2392,-38.247,-38.2576,-38.8352, -39.2115,-39.588,-39.9597,-42.3575, -42.7082,-43.0542,-43.4008,-43.7478, -44.0953,-44.4434,-44.792,-45.1412, -45.491,-45.8412,-46.191,-46.5431, -46.8938,-47.2463,-47.5712,-47.8666, -48.3106,-48.6069,-48.903,-49.1993, -49.4962,-49.7931,-50.0902,-50.3875, -50.6854,-50.9835,-51.4304,-51.7296, -52.1778,-52.4742,-52.7641,-53.0548, -53.4905,-53.781,-54.0718,-54.3613, -54.6513,-54.9334,-55.215,-55.4966, -55.7784,-56.0606,-56.3414,-56.5486)
FOOTPRINT_POINT_LONGITUDE = (215.336,214.765,214.191,213.575, 213.617,213.658,213.718,213.773,213.811 ,213.85,213.888,213.927,213.96,213.993, 214.025,214.075,214.122,214.153,214.184 ,214.214,214.256,214.292,214.336, 214.361,214.386,214.41,214.445,214.467, 214.487,214.511,214.545,214.568,214.59, 214.609,214.629,214.647,214.665,214.683 ,214.708,214.724,214.739,214.754, 214.782,214.859,214.872,214.885,214.89, 215.066,215.741,216.133,216.746,216.874 ,216.858,216.841,216.824,216.707, 216.689,216.67,216.651,216.632,216.612, 216.592,216.571,216.55,216.528,216.506, 216.484,216.459,216.437,216.412,216.389 ,216.368,216.336,216.313,216.292, 216.269,216.246,216.223,216.199,216.175 ,216.15,216.125,216.087,216.059,216.019 ,215.992,215.964,215.935,215.891, 215.861,215.83,215.801,215.77,215.738, 215.706,215.674,215.641,215.607,215.575 ,215.336)
ORBIT_NUMBER = 6511
ORBITAL_ECCENTRICITY = 0.576
ORBITAL_INCLINATION = 86.77
ORBITAL_SEMIMAJOR_AXIS = 8690.46
PERIAPSIS_ALTITUDE = 304.83
PERIAPSIS_ARGUMENT_ANGLE = 293.93
PERIAPSIS_TIME = 2009-01-27T12:00:39.000Z
SPACECRAFT_ORIENTATION = (0.0,1.0,0.0)
^MEX_ORIENTATION_DESC = "MEX_ORIENTATION_DESC.TXT"
SPACECRAFT_POINTING_MODE = ACROSSTRACK
^MEX_POINTING_DESC = "MEX_POINTING_DESC.TXT"
RIGHT_ASCENSION = -1e+32
DECLINATION = -1e+32
OFFSET_ANGLE = 0.3
SPACECRAFT_SOLAR_DISTANCE = 2.13681e+08
TARGET_NAME = MARS
/* CAMERA DATA ELEMENTS */
DETECTOR_TEMPERATURE = 17.9627
FOCAL_PLANE_TEMPERATURE = 8.3794
INST_CMPRS_NAME = "DISCRETE COSINE TRANSFORMATION (DCT)"
INST_CMPRS_RATIO = 7.48434
INST_CMPRS_QUALITY = 0
INST_CMPRS_QUANTZ_TBL_ID = 0
INSTRUMENT_TEMPERATURE = 11.0301
LENS_TEMPERATURE = 8.7872
MACROPIXEL_SIZE = 4
MISSING_FRAMES = 288
PIXEL_SUBSAMPLING_FLAG = N
SIGNAL_CHAIN_ID = 2
/* RADIOMETRIC DATA ELEMENTS */
BANDWIDTH = 76.0
CENTER_FILTER_WAVELENGTH = 444.0
RADIANCE_OFFSET = 0.610542
RADIANCE_SCALING_FACTOR = 0.00242031
REFLECTANCE_SCALING_FACTOR = 0.000113543
MEX:REFLECTANCE_OFFSET = 0.0286421
/* IMAGE OBJECT DEFINITIONS */
OBJECT = IMAGE
  INTERCHANGE_FORMAT = BINARY
  LINES = 21717
  LINE_SAMPLES = 2743
  SAMPLE_TYPE = UNSIGNED_INTEGER
  SAMPLE_BITS = 8
  BANDS = 1
  BAND_STORAGE_TYPE = BAND_SEQUENTIAL
  MAXIMUM = 255
  MEAN = 107.824
  MINIMUM = 1
  STANDARD_DEVIATION = 17.8766
END_OBJECT = IMAGE
/* MAP OBJECT DEFINITIONS */
OBJECT = IMAGE_MAP_PROJECTION
  ^DATA_SET_MAP_PROJECTION_CATALOG= "DSMAP.CAT"
  A_AXIS_RADIUS = 3396.0
  B_AXIS_RADIUS = 3396.0
  C_AXIS_RADIUS = 3396.0
  CENTER_LATITUDE = 0.0
  CENTER_LONGITUDE = 215.0
  COORDINATE_SYSTEM_NAME = PLANETOGRAPHIC
  COORDINATE_SYSTEM_TYPE = "BODY-FIXED ROTATING"
  EASTERNMOST_LONGITUDE = 216.874
  FIRST_STANDARD_PARALLEL = "N/A"
  LINE_FIRST_PIXEL = 1
  LINE_LAST_PIXEL = 21717
  LINE_PROJECTION_OFFSET = -45303.125
  MAP_PROJECTION_ROTATION = 0.0
  MAP_PROJECTION_TYPE = SINUSOIDAL
  MAP_RESOLUTION = 1185.42760773333
  MAP_SCALE = 0.05
  MAXIMUM_LATITUDE = -38.2217
  MINIMUM_LATITUDE = -56.5486
  POSITIVE_LONGITUDE_DIRECTION = EAST
  REFERENCE_LATITUDE = "N/A"
  REFERENCE_LONGITUDE = "N/A"
  SAMPLE_FIRST_PIXEL = 1
  SAMPLE_LAST_PIXEL = 2743
  SAMPLE_PROJECTION_OFFSET = 957.875
  SECOND_STANDARD_PARALLEL = "N/A"
  WESTERNMOST_LONGITUDE = 213.575
END_OBJECT = IMAGE_MAP_PROJECTION
/* The JPEG2000 image data file associated with this label. */
OBJECT = COMPRESSED_FILE
  FILE_NAME = "H6511_0000_BL3.JP2"
  RECORD_TYPE = UNDEFINED
  FILE_RECORDS = UNK
  ENCODING_TYPE = "JP2"
  INTERCHANGE_FORMAT = BINARY
  UNCOMPRESSED_FILE_NAME = "H6511_0000_BL3.IMG"
  REQUIRED_STORAGE_BYTES = "59591675"
  ^DESCRIPTION = "JP2INFO.TXT"
END_OBJECT = COMPRESSED_FILE
END
