PDS_VERSION_ID = PDS3
/* FILE DATA ELEMENTS */
RECORD_TYPE = STREAM
/* POINTERS TO DATA OBJECTS */
^COMPRESSED_FILE = "H6511_0000_IR3.JP2"
/* IDENTIFICATION DATA ELEMENTS */
DATA_SET_ID = "MEX-M-HRSC-5-REFDR-MAPPROJECTED-V3.0"
DATA_SET_NAME = "MARS EXPRESS HRSC MAP PROJECTED REFDR V3.0"
DETECTOR_ID = MEX_HRSC_IR
EVENT_TYPE = "MARS-REGIONAL-MAPPING-Te-Im-Fl"
INSTRUMENT_HOST_ID = MEX
INSTRUMENT_HOST_NAME = "MARS EXPRESS"
INSTRUMENT_ID = HRSC
INSTRUMENT_NAME = "HIGH RESOLUTION STEREO CAMERA"
MISSION_NAME = "MARS EXPRESS"
MISSION_PHASE_NAME = ME_Phase_15
PROCESSING_LEVEL_ID = 3
PRODUCT_CREATION_TIME = 2016-06-29T00:46:52.000Z
PRODUCT_ID = "H6511_0000_IR3.JP2"
RELEASE_ID = 0073
REVISION_ID = 0000
/* QUALITY DATA ELEMENTS */
DATA_QUALITY_ID = 1
DATA_QUALITY_DESC = "Data calculated based on original SPICE kernels"
/* TIME DATA ELEMENTS */
SPACECRAFT_CLOCK_START_COUNT = "1/0181137750.09028"
SPACECRAFT_CLOCK_STOP_COUNT = "1/0181138115.00189"
START_TIME = 2009-01-27T12:03:24.716Z
STOP_TIME = 2009-01-27T12:08:26.521Z
/* ORBITAL DATA ELEMENTS */
ASCENDING_NODE_LONGITUDE = 93.65
MAXIMUM_RESOLUTION = 54.3
FOOTPRINT_POINT_LATITUDE = (-56.4522,-56.4362,-56.4178,-56.4459, -56.1604,-55.8752,-55.5912,-55.0252, -54.5982,-54.3132,-54.0206,-53.5808, -53.2913,-52.8578,-52.4197,-52.1303, -51.6966,-51.2634,-50.8312,-50.4063, -50.1156,-49.6858,-49.3803,-49.0394, -48.7007,-48.3626,-47.8581,-47.5179, -47.1814,-46.8458,-46.5113,-46.1805, -45.8492,-45.5196,-45.0254,-44.6917, -42.4481,-42.0907,-41.7345,-41.3786, -41.0174,-40.4761,-40.1092,-39.5521, -39.1798,-38.623,-38.2449,-38.2286, -38.2306,-38.2378,-38.2405,-38.2396, -38.2364,-38.4259,-38.8049,-39.1817, -39.5555,-39.9261,-40.2935,-40.6574, -41.0158,-41.3782,-41.7384,-42.097, -42.4553,-42.7028,-44.8766,-45.3722, -45.7031,-46.0336,-46.5325,-46.8729, -47.2029,-47.5393,-47.8765,-48.3805, -48.7196,-49.0613,-49.5682,-49.8564, -50.1443,-50.5769,-50.8644,-51.2993, -51.5901,-51.8757,-52.3166,-52.6081, -52.8984,-53.3319,-53.7698,-54.0621, -54.361,-54.6449,-54.9261,-55.2111, -55.4965,-55.7823,-56.067,-56.4522)
FOOTPRINT_POINT_LONGITUDE = (215.425,214.838,214.246,213.524, 213.567,213.608,213.648,213.723,213.781 ,213.819,213.856,213.911,213.943, 213.989,214.04,214.07,214.114,214.157, 214.198,214.232,214.261,214.298,214.323 ,214.351,214.377,214.402,214.436, 214.463,214.486,214.507,214.528,214.546 ,214.563,214.58,214.604,214.62,214.712, 214.724,214.736,214.747,214.759,214.773 ,214.782,214.797,214.804,214.809, 214.814,215.161,215.487,215.932,216.377 ,216.699,216.986,216.977,216.959, 216.941,216.922,216.904,216.885,216.866 ,216.846,216.828,216.81,216.791,216.77, 216.757,216.626,216.594,216.572,216.549 ,216.514,216.493,216.467,216.443, 216.418,216.379,216.353,216.327,216.286 ,216.263,216.24,216.203,216.178,216.14, 216.114,216.086,216.046,216.018,215.989 ,215.944,215.898,215.867,215.836, 215.805,215.772,215.739,215.706,215.672 ,215.637,215.425)
ORBIT_NUMBER = 6511
ORBITAL_ECCENTRICITY = 0.576
ORBITAL_INCLINATION = 86.77
ORBITAL_SEMIMAJOR_AXIS = 8690.46
PERIAPSIS_ALTITUDE = 304.83
PERIAPSIS_ARGUMENT_ANGLE = 293.93
PERIAPSIS_TIME = 2009-01-27T12:00:39.000Z
SPACECRAFT_ORIENTATION = (0.0,1.0,0.0)
^MEX_ORIENTATION_DESC = "MEX_ORIENTATION_DESC.TXT"
SPACECRAFT_POINTING_MODE = ACROSSTRACK
^MEX_POINTING_DESC = "MEX_POINTING_DESC.TXT"
RIGHT_ASCENSION = -1e+32
DECLINATION = -1e+32
OFFSET_ANGLE = 0.3
SPACECRAFT_SOLAR_DISTANCE = 2.13681e+08
TARGET_NAME = MARS
/* CAMERA DATA ELEMENTS */
DETECTOR_TEMPERATURE = 17.5549
FOCAL_PLANE_TEMPERATURE = 8.3794
INST_CMPRS_NAME = "DISCRETE COSINE TRANSFORMATION (DCT)"
INST_CMPRS_RATIO = 11.9129
INST_CMPRS_QUALITY = 0
INST_CMPRS_QUANTZ_TBL_ID = 0
INSTRUMENT_TEMPERATURE = 11.0301
LENS_TEMPERATURE = 8.7872
MACROPIXEL_SIZE = 4
MISSING_FRAMES = 288
PIXEL_SUBSAMPLING_FLAG = N
SIGNAL_CHAIN_ID = 2
/* RADIOMETRIC DATA ELEMENTS */
BANDWIDTH = 81.0
CENTER_FILTER_WAVELENGTH = 955.5
RADIANCE_OFFSET = 0.867521
RADIANCE_SCALING_FACTOR = 0.00459994
REFLECTANCE_SCALING_FACTOR = 0.00045312
MEX:REFLECTANCE_OFFSET = 0.0854556
/* IMAGE OBJECT DEFINITIONS */
OBJECT = IMAGE
  INTERCHANGE_FORMAT = BINARY
  LINES = 21717
  LINE_SAMPLES = 2743
  SAMPLE_TYPE = UNSIGNED_INTEGER
  SAMPLE_BITS = 8
  BANDS = 1
  BAND_STORAGE_TYPE = BAND_SEQUENTIAL
  MAXIMUM = 255
  MEAN = 102.151
  MINIMUM = 1
  STANDARD_DEVIATION = 34.1488
END_OBJECT = IMAGE
/* MAP OBJECT DEFINITIONS */
OBJECT = IMAGE_MAP_PROJECTION
  ^DATA_SET_MAP_PROJECTION_CATALOG= "DSMAP.CAT"
  A_AXIS_RADIUS = 3396.0
  B_AXIS_RADIUS = 3396.0
  C_AXIS_RADIUS = 3396.0
  CENTER_LATITUDE = 0.0
  CENTER_LONGITUDE = 215.0
  COORDINATE_SYSTEM_NAME = PLANETOGRAPHIC
  COORDINATE_SYSTEM_TYPE = "BODY-FIXED ROTATING"
  EASTERNMOST_LONGITUDE = 216.986
  FIRST_STANDARD_PARALLEL = "N/A"
  LINE_FIRST_PIXEL = 1
  LINE_LAST_PIXEL = 21717
  LINE_PROJECTION_OFFSET = -45303.125
  MAP_PROJECTION_ROTATION = 0.0
  MAP_PROJECTION_TYPE = SINUSOIDAL
  MAP_RESOLUTION = 1185.42760773333
  MAP_SCALE = 0.05
  MAXIMUM_LATITUDE = -38.2286
  MINIMUM_LATITUDE = -56.4522
  POSITIVE_LONGITUDE_DIRECTION = EAST
  REFERENCE_LATITUDE = "N/A"
  REFERENCE_LONGITUDE = "N/A"
  SAMPLE_FIRST_PIXEL = 1
  SAMPLE_LAST_PIXEL = 2743
  SAMPLE_PROJECTION_OFFSET = 957.875
  SECOND_STANDARD_PARALLEL = "N/A"
  WESTERNMOST_LONGITUDE = 213.524
END_OBJECT = IMAGE_MAP_PROJECTION
/* The JPEG2000 image data file associated with this label. */
OBJECT = COMPRESSED_FILE
  FILE_NAME = "H6511_0000_IR3.JP2"
  RECORD_TYPE = UNDEFINED
  FILE_RECORDS = UNK
  ENCODING_TYPE = "JP2"
  INTERCHANGE_FORMAT = BINARY
  UNCOMPRESSED_FILE_NAME = "H6511_0000_IR3.IMG"
  REQUIRED_STORAGE_BYTES = "59591675"
  ^DESCRIPTION = "JP2INFO.TXT"
END_OBJECT = COMPRESSED_FILE
END
