PDS_VERSION_ID = PDS3
/* FILE DATA ELEMENTS */
RECORD_TYPE = STREAM
/* POINTERS TO DATA OBJECTS */
^COMPRESSED_FILE = "H6512_0000_GR3.JP2"
/* IDENTIFICATION DATA ELEMENTS */
DATA_SET_ID = "MEX-M-HRSC-5-REFDR-MAPPROJECTED-V3.0"
DATA_SET_NAME = "MARS EXPRESS HRSC MAP PROJECTED REFDR V3.0"
DETECTOR_ID = MEX_HRSC_GREEN
EVENT_TYPE = "MARS-REGIONAL-MAPPING-Vo-Te"
INSTRUMENT_HOST_ID = MEX
INSTRUMENT_HOST_NAME = "MARS EXPRESS"
INSTRUMENT_ID = HRSC
INSTRUMENT_NAME = "HIGH RESOLUTION STEREO CAMERA"
MISSION_NAME = "MARS EXPRESS"
MISSION_PHASE_NAME = ME_Phase_15
PROCESSING_LEVEL_ID = 3
PRODUCT_CREATION_TIME = 2016-06-29T00:46:52.000Z
PRODUCT_ID = "H6512_0000_GR3.JP2"
RELEASE_ID = 0073
REVISION_ID = 0000
/* QUALITY DATA ELEMENTS */
DATA_QUALITY_ID = 2
DATA_QUALITY_DESC = "Data calculated based on photogrammetrically improved orbit and attitude data"
/* TIME DATA ELEMENTS */
SPACECRAFT_CLOCK_START_COUNT = "1/0181162965.07289"
SPACECRAFT_CLOCK_STOP_COUNT = "1/0181163507.24260"
START_TIME = 2009-01-27T19:03:49.141Z
STOP_TIME = 2009-01-27T19:09:44.351Z
/* ORBITAL DATA ELEMENTS */
ASCENDING_NODE_LONGITUDE = 93.63
MAXIMUM_RESOLUTION = 91.2
FOOTPRINT_POINT_LATITUDE = (-30.722,-30.7197,-30.7168,-30.7129, -30.1009,-29.4805,-28.691,-28.2108, -27.562,-26.9046,-26.5712,-26.2359, -25.8979,-25.5566,-25.2132,-24.8677, -24.5184,-24.1661,-23.8118,-23.4546, -23.0943,-22.7308,-22.3639,-21.994, -21.6214,-21.2455,-20.8665,-20.484, -20.0984,-19.7094,-19.3172,-18.9212, -18.5218,-18.1191,-17.7129,-17.3077, -16.9044,-16.5032,-16.104,-15.7067, -15.3115,-14.9182,-14.5268,-14.1378, -13.5586,-13.1728,-12.7908,-12.4463, -12.4345,-12.4155,-12.4022,-12.3932, -12.3838,-12.3686,-12.746,-13.1315, -13.5189,-14.1049,-14.4958,-14.8902, -15.2863,-15.6845,-16.0846,-16.4867, -16.8906,-17.2965,-17.7043,-18.1126, -18.5174,-18.9191,-19.3169,-19.711, -20.1018,-20.4893,-20.8734,-21.2537, -21.6312,-22.0054,-22.3767,-22.7449, -23.1109,-23.4719,-23.8306,-24.1861, -24.5395,-24.8902,-25.2371,-25.5815, -25.9239,-26.2632,-26.5994,-26.9337, -27.2655,-27.5934,-28.2444,-28.7259, -29.2022,-29.8294,-30.6015,-30.722)
FOOTPRINT_POINT_LONGITUDE = (116.079,115.375,114.97,114.401,114.392 ,114.382,114.366,114.356,114.341, 114.324,114.315,114.306,114.297,114.286 ,114.276,114.265,114.254,114.242,114.23 ,114.217,114.204,114.19,114.176,114.161 ,114.146,114.13,114.114,114.097,114.08, 114.062,114.043,114.024,114.004,113.984 ,113.963,113.941,113.919,113.897, 113.875,113.852,113.829,113.805,113.781 ,113.757,113.718,113.695,113.669, 113.646,114.189,115.019,115.56,115.912, 116.263,116.806,117.066,117.059,117.053 ,117.045,117.036,117.03,117.023,117.016 ,117.009,117.003,116.996,116.989, 116.981,116.974,116.967,116.96,116.953, 116.945,116.938,116.931,116.924,116.916 ,116.909,116.902,116.895,116.887, 116.881,116.873,116.866,116.859,116.851 ,116.844,116.837,116.829,116.822, 116.814,116.807,116.799,116.791,116.784 ,116.769,116.757,116.746,116.73,116.71, 116.079)
ORBIT_NUMBER = 6512
ORBITAL_ECCENTRICITY = 0.576
ORBITAL_INCLINATION = 86.76
ORBITAL_SEMIMAJOR_AXIS = 8693.9
PERIAPSIS_ALTITUDE = 305.05
PERIAPSIS_ARGUMENT_ANGLE = 293.75
PERIAPSIS_TIME = 2009-01-27T18:54:21.000Z
SPACECRAFT_ORIENTATION = (0.0,1.0,0.0)
^MEX_ORIENTATION_DESC = "MEX_ORIENTATION_DESC.TXT"
SPACECRAFT_POINTING_MODE = NADIR
^MEX_POINTING_DESC = "MEX_POINTING_DESC.TXT"
RIGHT_ASCENSION = -1e+32
DECLINATION = -1e+32
OFFSET_ANGLE = -1e+32
SPACECRAFT_SOLAR_DISTANCE = 2.13637e+08
TARGET_NAME = MARS
/* CAMERA DATA ELEMENTS */
DETECTOR_TEMPERATURE = 18.1666
FOCAL_PLANE_TEMPERATURE = 7.9716
INST_CMPRS_NAME = "DISCRETE COSINE TRANSFORMATION (DCT)"
INST_CMPRS_RATIO = 11.0874
INST_CMPRS_QUALITY = 0
INST_CMPRS_QUANTZ_TBL_ID = 0
INSTRUMENT_TEMPERATURE = 11.234
LENS_TEMPERATURE = 8.3794
MACROPIXEL_SIZE = 4
MISSING_FRAMES = 0
PIXEL_SUBSAMPLING_FLAG = N
SIGNAL_CHAIN_ID = 2
/* RADIOMETRIC DATA ELEMENTS */
BANDWIDTH = 88.0
CENTER_FILTER_WAVELENGTH = 538.0
RADIANCE_OFFSET = 1.8192
RADIANCE_SCALING_FACTOR = 0.0059146
REFLECTANCE_SCALING_FACTOR = 0.000232416
MEX:REFLECTANCE_OFFSET = 0.0714858
/* IMAGE OBJECT DEFINITIONS */
OBJECT = IMAGE
  INTERCHANGE_FORMAT = BINARY
  LINES = 10881
  LINE_SAMPLES = 1995
  SAMPLE_TYPE = UNSIGNED_INTEGER
  SAMPLE_BITS = 8
  BANDS = 1
  BAND_STORAGE_TYPE = BAND_SEQUENTIAL
  MAXIMUM = 255
  MEAN = 122.304
  MINIMUM = 1
  STANDARD_DEVIATION = 22.5616
END_OBJECT = IMAGE
/* MAP OBJECT DEFINITIONS */
OBJECT = IMAGE_MAP_PROJECTION
  ^DATA_SET_MAP_PROJECTION_CATALOG= "DSMAP.CAT"
  A_AXIS_RADIUS = 3396.0
  B_AXIS_RADIUS = 3396.0
  C_AXIS_RADIUS = 3396.0
  CENTER_LATITUDE = 0.0
  CENTER_LONGITUDE = 116.0
  COORDINATE_SYSTEM_NAME = PLANETOGRAPHIC
  COORDINATE_SYSTEM_TYPE = "BODY-FIXED ROTATING"
  EASTERNMOST_LONGITUDE = 117.066
  FIRST_STANDARD_PARALLEL = "N/A"
  LINE_FIRST_PIXEL = 1
  LINE_LAST_PIXEL = 10881
  LINE_PROJECTION_OFFSET = -7336.125
  MAP_PROJECTION_ROTATION = 0.0
  MAP_PROJECTION_TYPE = SINUSOIDAL
  MAP_RESOLUTION = 592.713803866667
  MAP_SCALE = 0.1
  MAXIMUM_LATITUDE = -12.3686
  MINIMUM_LATITUDE = -30.722
  POSITIVE_LONGITUDE_DIRECTION = EAST
  REFERENCE_LATITUDE = "N/A"
  REFERENCE_LONGITUDE = "N/A"
  SAMPLE_FIRST_PIXEL = 1
  SAMPLE_LAST_PIXEL = 1995
  SAMPLE_PROJECTION_OFFSET = 1371.625
  SECOND_STANDARD_PARALLEL = "N/A"
  WESTERNMOST_LONGITUDE = 113.646
END_OBJECT = IMAGE_MAP_PROJECTION
/* The JPEG2000 image data file associated with this label. */
OBJECT = COMPRESSED_FILE
  FILE_NAME = "H6512_0000_GR3.JP2"
  RECORD_TYPE = UNDEFINED
  FILE_RECORDS = UNK
  ENCODING_TYPE = "JP2"
  INTERCHANGE_FORMAT = BINARY
  UNCOMPRESSED_FILE_NAME = "H6512_0000_GR3.IMG"
  REQUIRED_STORAGE_BYTES = "21727545"
  ^DESCRIPTION = "JP2INFO.TXT"
END_OBJECT = COMPRESSED_FILE
END
